Workbook
Name \0: '[1]PNT-QUOT-#3'!#REF!
Name \0: '[1]PNT-QUOT-#3'!#REF!
Name \a: '[2]FA-LISTING'!#REF!
Name \a: '[2]FA-LISTING'!#REF!
Name \b: #REF!
Name \b: #REF!
Name \c: #REF!
Name \c: #REF!
Name \d: '[3]??-BLDG'!#REF!
Name \d: '[3]??-BLDG'!#REF!
Name \e: '[3]??-BLDG'!#REF!
Name \e: '[3]??-BLDG'!#REF!
Name \f: '[3]??-BLDG'!#REF!
Name \f: '[3]??-BLDG'!#REF!
Name \g: '[3]??-BLDG'!#REF!
Name \g: '[3]??-BLDG'!#REF!
Name \h: '[3]??-BLDG'!#REF!
Name \h: '[3]??-BLDG'!#REF!
Name \i: '[3]??-BLDG'!#REF!
Name \j: '[3]??-BLDG'!#REF!
Name \k: '[3]??-BLDG'!#REF!
Name \l: '[3]??-BLDG'!#REF!
Name \m: '[3]??-BLDG'!#REF!
Name \n: '[3]??-BLDG'!#REF!
Name \o: '[3]??-BLDG'!#REF!
Name \p: '[2]FA-LISTING'!#REF!
Name \z: '[1]COAT&WRAP-QIOT-#3'!#REF!
Name _?: #REF!
Name _??????: #REF!
Name __?: #REF!
Name __??????: #REF!
Name ___?: #REF!
Name ___??????: #REF!
Name ____?: #REF!
Name ____??????: #REF!
Name ______gxl1: #REF!
Name _____A65700: '[4]MTO REV.2(ARMOR)'!#REF!
Name _____A65800: '[4]MTO REV.2(ARMOR)'!#REF!
Name _____A66000: '[4]MTO REV.2(ARMOR)'!#REF!
Name _____A67000: '[4]MTO REV.2(ARMOR)'!#REF!
Name _____A68000: '[4]MTO REV.2(ARMOR)'!#REF!
Name _____A70000: '[4]MTO REV.2(ARMOR)'!#REF!
Name _____A75000: '[4]MTO REV.2(ARMOR)'!#REF!
Name _____A85000: '[4]MTO REV.2(ARMOR)'!#REF!
Name _____abb91: [5]chitimc!#REF!
Name _____atn1: #REF!
Name _____atn10: #REF!
Name _____atn2: #REF!
Name _____atn3: #REF!
Name _____atn4: #REF!
Name _____atn5: #REF!
Name _____atn6: #REF!
Name _____atn7: #REF!
Name _____atn8: #REF!
Name _____atn9: #REF!
Name _____bac3: [6]bluong!$B$15
Name _____bac4: [6]bluong!$B$25
Name _____ban1: #REF!
Name _____Bia1: #REF!
Name _____Bia2: #REF!

Sheet foxz

Sheet tổng
H1: Biểu số: 09
B2: BẢNG TỔNG HỢP GIÁ TRỊ BỒI THƯỜNG, HỖ TRỢ DỰ ÁN: KHU ĐÔ THỊ BẮC SA HUỲNH (ĐỢT 1)
B3: Phần I : Mức bồi thường, hỗ trợ: | H3: ĐVT: Đồng
B4: STT | C4: Hạng mục | D4: ĐVT | E4: Số lượng | F4: Bồi thường, hỗ trợ (%) | G4: Đơn giá | H4: Thành tiền (đồng)
B5: -1 | C5: -2 | D5: -3 | E5: -4 | F5: -5 | G5: -6 | H5: -7
B6: A | C6: ĐẤT ĐAI | H6: =H7 -> 14809149500 | I6: ='Dat-Bieu10'!N290 -> 14809149500
B7: 1 | C7: Bồi thường về đất | H7: =SUM(H8:H13) -> 14809149500
B8: 1.1 | C8: Đất trồng lúa (LUC) thuộc Khu vực 1, vị trí 1 | D8: m2 | E8: 16586.4 | F8: 1 | G8: 75000 | H8: =E8*F8*G8 -> 1243980000
B9: 1.2 | C9: Đất trồng lúa (LUC) thuộc Khu vực 1, vị trí 2 | D9: m2 | E9: 43868.9 | F9: 1 | G9: 71000 | H9: =E9*F9*G9 -> 3114691900
B10: 1.3 | C10: Đất trồng lúa (LUC) thuộc Khu vực 1, vị trí 3 | D10: m2 | E10: 142234.9 | F10: 1 | G10: 68000 | H10: =E10*F10*G10 -> 9671973200
B11: 1.4 | C11: Đất trồng cây hằng năm khác (HNK) thuộc Khu vực 1, vị trí 2 | D11: m2 | E11: 2345.6 | F11: 1 | G11: 71000 | H11: =E11*F11*G11 -> 166537600
B12: 1.5 | C12: Đất trồng cây hằng năm khác (HNK) thuộc Khu vực 1, vị trí 3 | D12: m2 | E12: 8383.1 | F12: 1 | G12: 68000 | H12: =E12*F12*G12 -> 570050800
B13: 1.6 | C13: Đất nuôi trồng thuỷ sản (NTS) thuộc Khu vực 1, vị trí 2 | D13: m2 | E13: 598.8 | F13: 1 | G13: 70000 | H13: =E13*F13*G13 -> 41916000
B14: B | C14: CÔNG TRÌNH NHÀ CỬA, VẬT KIẾN TRÚC | H14: =SUM(H15:H15) -> 2315600 | I14: ='tài sản'!M175 -> 2315600
C15: Giếng đóng bằng ống nhựa (PVC) Ø60, không có máy bơm điện, đầu bơm tay, nền giếng. Chiều sâu 16m | D15: m | E15: 16 | F15: 0.7 | G15: 206750 | H15: =G15*F15*E15 -> 2315600
B16: C | C16: CÂY CỐI, HOA MÀU | H16: =SUM(H17:H29) -> 853801520 | I16: ='cây cối'!M488 -> 853801520
B17: 1 | C17: Lúa | D17: m² | E17: 203140.2 | F17: 1 | G17: =VLOOKUP(C17,[181]Sheet2!$B$5:$D$733,3,0) -> 4100 | H17: =E17*F17*G17 -> 832874820
B18: 2 | C18: Cây khoai lang lấy củ | D18: cây | E18: 106 | F18: 1 | G18: =VLOOKUP(C18,[181]Sheet2!$B$5:$D$733,3,0) -> 4300 | H18: =E18*F18*G18 -> 455800
B19: 3 | C19: Dừa cây mới trồng | D19: cây | E19: 6 | F19: 0 | G19: =VLOOKUP(C19,[181]Sheet2!$B$5:$D$733,3,0) -> 85000 | H19: =E19*F19*G19 -> 0
B20: 4 | C20: Dừa cây đã cho quả | D20: cây | E20: 4 | F20: 0.3 | G20: =VLOOKUP(C20,[181]Sheet2!$B$5:$D$733,3,0) -> 900000 | H20: =E20*F20*G20 -> 1080000
B21: 5 | C21: Tre thường cây xanh chưa già | D21: cây | E21: 30 | F21: 0.3 | G21: =VLOOKUP(C21,[181]Sheet2!$B$5:$D$733,3,0) -> 50000 | H21: =E21*F21*G21 -> 450000
B22: 6 | C22: Tre thường cây già sử dụng được | D22: cây | E22: 43 | F22: 0.3 | G22: =VLOOKUP(C22,[181]Sheet2!$B$5:$D$733,3,0) -> 100000 | H22: =E22*F22*G22 -> 1290000
B23: 7 | C23: Bạch đàn cây có đường kính gốc > 8cm đến ≤ 12cm | D23: cây | E23: 11 | F23: 0.3 | G23: =VLOOKUP(C23,[181]Sheet2!$B$5:$D$733,3,0) -> 136000 | H23: =E23*F23*G23 -> 448800
B24: 8 | C24: Bạch đàn cây có đường kính gốc > 12cm đến ≤ 16cm | D24: cây | E24: 20 | F24: 0.3 | G24: =VLOOKUP(C24,[181]Sheet2!$B$5:$D$733,3,0) -> 180000 | H24: =E24*F24*G24 -> 1080000
B25: 9 | C25: Cây lạc | D25: m² | E25: 2289.4 | F25: 1 | G25: =VLOOKUP(C25,[181]Sheet2!$B$5:$D$733,3,0) -> 5500 | H25: =E25*F25*G25 -> 12591700
B26: 10 | C26: Bạch đàn cây có đường kính gốc > 16cm đến ≤ 20cm | D26: cây | E26: 8 | F26: 0.3 | G26: =VLOOKUP(C26,[181]Sheet2!$B$5:$D$733,3,0) -> 232000 | H26: =E26*F26*G26 -> 556800
B27: 11 | C27: Keo cây có đường kính gốc > 4cm đến ≤ 8cm | D27: cây | E27: 44 | F27: 0 | G27: =VLOOKUP(C27,[181]Sheet2!$B$5:$D$733,3,0) -> 90000 | H27: =E27*F27*G27 -> 0
B28: 12 | C28: Keo cây có đường kính gốc > 8cm đến ≤ 12cm | D28: cây | E28: 68 | F28: 0 | G28: =VLOOKUP(C28,[181]Sheet2!$B$5:$D$733,3,0) -> 136000 | H28: =E28*F28*G28 -> 0
B29: 13 | C29: Dưa hấu | D29: m² | E29: 252 | F29: 1 | G29: =VLOOKUP(C29,[181]Sheet2!$B$5:$D$733,3,0) -> 11800 | H29: =E29*F29*G29 -> 2973600
B30: D | C30: CÁC KHOẢN HỖ TRỢ | H30: =H31+H38 -> 75968961200 | I30: ='hỗ trợ'!N287 -> 75968961200
B31: 1 | C31: Hỗ trợ chuyển đổi nghề nghiệp | H31: =SUM(H32:H37) -> 73700307500 | I31: ='hỗ trợ'!M287 -> 73700307500
B32: 1.1 | C32: Đất trồng lúa (LUC) thuộc Khu vực 1, vị trí 1 | D32: m2 | E32: =E8 -> 16586.4 | F32: 5 | G32: 75000 | H32: =E32*F32*G32 -> 6219900000 | I32: =H31-I31 -> 0
B33: 1.2 | C33: Đất trồng lúa (LUC) thuộc Khu vực 1, vị trí 2 | D33: m2 | E33: =E9 -> 43868.9 | F33: 5 | G33: 71000 | H33: =E33*F33*G33 -> 15573459500
B34: 1.3 | C34: Đất trồng lúa (LUC) thuộc Khu vực 1, vị trí 3 | D34: m2 | E34: =E10-364 -> 141870.9 | F34: 5 | G34: 68000 | H34: =E34*F34*G34 -> 48236106000 | I34: =E34-143785.9 -> -1915
B35: 1.4 | C35: Đất trồng cây hằng năm khác (HNK) thuộc Khu vực 1, vị trí 2 | D35: m2 | E35: =E11 -> 2345.6 | F35: 5 | G35: 71000 | H35: =E35*F35*G35 -> 832688000
B36: 1.5 | C36: Đất trồng cây hằng năm khác (HNK) thuộc Khu vực 1, vị trí 3 | D36: m2 | E36: =E12-652 -> 7731.1 | F36: 5 | G36: 68000 | H36: =E36*F36*G36 -> 2628574000
B37: 1.6 | C37: Đất nuôi trồng thuỷ sản (NTS) thuộc Khu vực 1, vị trí 2 | D37: m2 | E37: =E13 -> 598.8 | F37: 5 | G37: 70000 | H37: =E37*F37*G37 -> 209580000
B38: 2 | C38: Hỗ trợ ổn định đời sống | F38: 1 | G38: ='hỗ trợ'!I287 -> 2268653700 | H38: =G38 -> 2268653700
C39: Tổng cộng Phần I= (A+B+C+D) | H39: =H6+H14+H16+H30 -> 91634227820 | I39: ='TONG HOP TUNG NGUOI'!H218 -> 91634227820
B40: * Tổng giá trị bồi thường, hỗ trợ: | H40: =H39 -> 91634227820
B41: Bằng chữ: Chín mốt tỷ, sáu trăm ba mươi bốn triệu, hai trăm hai mươi bảy nghìn, tám trăm hai mươi đồng./.
F42: Mộ Đức, ngày tháng năm 2026
F43: KT. GIÁM ĐỐC
B44: NGƯỜI LẬP NGƯỜI KIỂM TRA | F44: PHÓ GIÁM ĐỐC
F49: Nguyễn Thanh Toàn

Sheet Dat-Bieu10
N1: (Biểu số 10)
A2: BẢNG TÍNH CHI TIẾT GIÁ TRỊ BỒI THƯỜNG, HỖ TRỢ VỀ ĐẤT CỦA TỔ CHỨC, HỘ GIA ĐÌNH, CÁ NHÂN THUỘC DỰ ÁN: KHU ĐÔ THỊ BẮC SA HUỲNH (ĐỢT 1)
A3: Địa điểm: phường Sa Huỳnh, tỉnh Quảng Ngãi
A4: TT | B4: Họ và tên chủ sử dụng, quản lý | C4: Tờ bản đồ trích đo địa chính thực hiện dự án | I4: Bồi thường đất nông nghiệp, đất vườn | N4: Tổng cộng (đồng)
C5: Số tờ bản đồ địa chính | D5: Số thửa | E5: Diện tích thửa (m²) | F5: Diện tích đất thu hồi trong quy hoạch (m²) | G5: Diện tích đất thu hồi ngoài quy hoạch (m²) | H5: Loại đất | I5: Diện tích (m²) | J5: Vị trí | K5: Đơn giá (đồng) | L5: Hệ số điều chỉnh giá đất (K) | M5: Thành tiền (đồng)
A6: I | B6: Tổ dân phố Tân Diêm
A7: 1 | B7: bà Nguyễn Thị Ai, bà Ngô Thị Ánh, ông Ngô Văn Bình, ông Ngô Văn Minh, bà Ngô Thị Diệu, bà Ngô Thị Hòa, bà Ngô Thị Lan, ông Ngô Văn Sang đồng thừa kế của ông Ngô Đức Tâm | C7: 24 | D7: 1423 | E7: 746 | F7: 746 | H7: LUC | I7: =F7+G7 -> 746 | J7: 3 | K7: 68000 | M7: =K7*I7 -> 50728000 | N7: =M7 -> 50728000
B8: bà Nguyễn Thị Ai, bà Ngô Thị Ánh, ông Ngô Văn Bình, ông Ngô Văn Minh, bà Ngô Thị Diệu, bà Ngô Thị Hòa, bà Ngô Thị Lan, ông Ngô Văn Sang đồng thừa kế của ông Ngô Đức Tâm | C8: 23 | D8: 310 | E8: 1240 | F8: 1240 | H8: LUC | I8: =F8+G8 -> 1240 | J8: 3 | K8: 68000 | M8: =K8*I8 -> 84320000 | N8: =M8 -> 84320000
A9: =MAX(A$7:$B8)+1 -> 2 | B9: Hộ bà Trần Thị Bế | C9: 23 | D9: 874 | E9: 476 | F9: 476 | H9: LUC | I9: =F9+G9 -> 476 | J9: 3 | K9: 68000 | M9: =K9*I9 -> 32368000 | N9: =M9 -> 32368000
A10: =MAX(A$7:$B9)+1 -> 3 | B10: Hộ bà Phạm Thị Bông | C10: 24 | D10: 443 | E10: 551 | F10: 551 | H10: LUC | I10: =F10+G10 -> 551 | J10: 3 | K10: 68000 | M10: =K10*I10 -> 37468000 | N10: =M10 -> 37468000
A11: =MAX(A$7:$B10)+1 -> 4 | B11: Hộ bà Ngô Thị Bình | C11: 24 | D11: 506 | E11: 350 | F11: 350 | H11: LUC | I11: =F11+G11 -> 350 | J11: 3 | K11: 68000 | M11: =K11*I11 -> 23800000 | N11: =M11 -> 23800000
A12: =MAX(A$7:$B11)+1 -> 5 | B12: Hộ ông Ngô Văn Bình và bà Nguyễn Thị Tho | C12: 24 | D12: 546 | E12: 252 | F12: 252 | H12: LUC | I12: =F12+G12 -> 252 | J12: 3 | K12: 68000 | M12: =K12*I12 -> 17136000 | N12: =M12 -> 17136000
A13: =MAX(A$7:$B12)+1 -> 6 | B13: hộ bà Phùng Thị Bình | C13: 23 | D13: 975 | E13: 1003 | F13: 1003 | H13: LUC | I13: =F13+G13 -> 1003 | J13: 3 | K13: 68000 | M13: =K13*I13 -> 68204000 | N13: =M13 -> 68204000
A14: =MAX(A$7:$B13)+1 -> 7 | B14: ông Trần Văn Bình và bà Trương Thị Hồng Hoa | C14: 23 | D14: 1072 | E14: 106 | F14: 106 | H14: HNK | I14: =F14+G14 -> 106 | J14: 3 | K14: 68000 | M14: =K14*I14 -> 7208000 | N14: =M14 -> 7208000 | P14: có mộ | Q14: ='[182]Dat-Bieu10'!K11*5 -> 340000
B15: ông Trần Văn Bình và bà Trương Thị Hồng Hoa | C15: 24 | D15: 1444 | E15: 1100 | F15: 1100 | H15: LUC | I15: =F15+G15 -> 1100 | J15: 3 | K15: 68000 | M15: =K15*I15 -> 74800000 | N15: =M15 -> 74800000
A16: =MAX(A$7:$B15)+1 -> 8 | B16: bà Võ Thị Kim Oanh, ông Nguyễn Trọng Chương, ông Nguyễn Trọng Vương, ông Nguyễn Trọng Linh, ông Nguyễn Trọng Thủ, ông Nguyễn Trọng Lộc, bà Nguyễn Thị Bích Hậu đồng thừa kế của ông Nguyễn Anh Bản | C16: 23 | D16: 605 | E16: 540 | F16: 540 | H16: LUC | I16: =F16+G16 -> 540 | J16: 3 | K16: 68000 | M16: =K16*I16 -> 36720000 | N16: =M16 -> 36720000
B17: bà Võ Thị Kim Oanh, ông Nguyễn Trọng Chương, ông Nguyễn Trọng Vương, ông Nguyễn Trọng Linh, ông Nguyễn Trọng Thủ, ông Nguyễn Trọng Lộc, bà Nguyễn Thị Bích Hậu đồng thừa kế của ông Nguyễn Anh Bản | C17: 24 | D17: 451 | E17: 730 | F17: 730 | H17: LUC | I17: =F17+G17 -> 730 | J17: 3 | K17: 68000 | M17: =K17*I17 -> 49640000 | N17: =M17 -> 49640000
A18: =MAX(A$7:$B17)+1 -> 9 | B18: Hộ ông Ngô Văn Chinh và bà Lê Thị Tâm | C18: 24 | D18: 213 | E18: 423 | F18: 423 | H18: LUC | I18: =F18+G18 -> 423 | J18: 3 | K18: 68000 | M18: =K18*I18 -> 28764000 | N18: =M18 -> 28764000
A19: =MAX(A$7:$B18)+1 -> 10 | B19: ông Lê Thành Công và bà Lê Thị Trịnh | C19: 24 | D19: 12 | E19: 915 | F19: 202.2 | H19: HNK | I19: =F19+G19 -> 202.2 | J19: 2 | K19: 71000 | M19: =K19*I19 -> 14356200 | N19: =M19 -> 14356200 | P19: chưa kiểm kê cây
A20: =MAX(A$7:$B19)+1 -> 11 | B20: Hộ ông Lê Thành Công và bà Lê Thị Trịnh | C20: 23 | D20: 834 | E20: 482 | F20: 482 | H20: LUC | I20: =F20+G20 -> 482 | J20: 3 | K20: 68000 | M20: =K20*I20 -> 32776000 | N20: =M20 -> 32776000
A21: =MAX(A$7:$B20)+1 -> 12 | B21: ông Phùng Đình Vân, ông Phùng Đình Trung, ông Phùng Đình Tâm, ông Phùng Đình Bảo, ông Phùng Đình Toàn, ông Phùng Đình Khanh, ông Phùng Thanh Hiếu đồng thừa kế của ông Phùng Đình Chánh và bà Trần Thị Tự | C21: 23 | D21: 1084 | E21: 472 | F21: 472 | H21: HNK | I21: =F21+G21 -> 472 | J21: 3 | K21: 68000 | M21: =K21*I21 -> 32096000 | N21: =M21 -> 32096000 | P21: có mộ , GĐ2
B22: ông Phùng Đình Vân, ông Phùng Đình Trung, ông Phùng Đình Tâm, ông Phùng Đình Bảo, ông Phùng Đình Toàn, ông Phùng Đình Khanh, ông Phùng Thanh Hiếu đồng thừa kế của ông Phùng Đình Chánh và bà Trần Thị Tự | C22: 24 | D22: 747 | E22: 340 | F22: 340 | H22: HNK | I22: =F22+G22 -> 340 | J22: 3 | K22: 68000 | M22: =K22*I22 -> 23120000 | N22: =M22 -> 23120000 | P22: cỏ voi, GĐ2
B23: ông Phùng Đình Vân, ông Phùng Đình Trung, ông Phùng Đình Tâm, ông Phùng Đình Bảo, ông Phùng Đình Toàn, ông Phùng Đình Khanh, ông Phùng Thanh Hiếu đồng thừa kế của ông Phùng Đình Chánh và bà Trần Thị Tự | C23: 24 | D23: 64 | E23: 1236 | F23: 1236 | H23: LUC | I23: =F23+G23 -> 1236 | J23: 3 | K23: 68000 | M23: =K23*I23 -> 84048000 | N23: =M23 -> 84048000
B24: ông Phùng Đình Vân, ông Phùng Đình Trung, ông Phùng Đình Tâm, ông Phùng Đình Bảo, ông Phùng Đình Toàn, ông Phùng Đình Khanh, ông Phùng Thanh Hiếu đồng thừa kế của ông Phùng Đình Chánh và bà Trần Thị Tự | C24: 24 | D24: 11 | E24: 1132 | F24: 920 | H24: LUC | I24: =F24+G24 -> 920 | J24: 3 | K24: 68000 | M24: =K24*I24 -> 62560000 | N24: =M24 -> 62560000
A25: =MAX(A$7:$B24)+1 -> 13 | B25: Hộ ông Trần Văn Cứ và bà Nguyễn Thị Rùa | C25: 23 | D25: 228 | E25: 884 | F25: 884 | H25: LUC | I25: =F25+G25 -> 884 | J25: 3 | K25: 68000 | M25: =K25*I25 -> 60112000 | N25: =M25 -> 60112000
B26: Hộ ông Trần Văn Cứ và bà Nguyễn Thị Rùa | C26: 24 | D26: 431 | E26: 1358 | F26: 1358 | H26: LUC | I26: =F26+G26 -> 1358 | J26: 3 | K26: 68000 | M26: =K26*I26 -> 92344000 | N26: =M26 -> 92344000
A27: =MAX(A$7:$B26)+1 -> 14 | B27: ông Trần Văn Cứ bà Nguyễn Thị Rùa | C27: 23 | D27: 246 | E27: 557 | F27: 557 | H27: LUC | I27: =F27+G27 -> 557 | J27: 3 | K27: 68000 | M27: =K27*I27 -> 37876000 | N27: =M27 -> 37876000
B28: ông Trần Văn Cứ bà Nguyễn Thị Rùa | C28: 23 | D28: 1110 | E28: 922 | F28: 922 | H28: HNK | I28: =F28+G28 -> 922 | J28: 2 | K28: 71000 | M28: =K28*I28 -> 65462000 | N28: =M28 -> 65462000 | P28: có mộ, GĐ2
A29: =MAX(A$7:$B28)+1 -> 15 | B29: ông Ngô Văn Chiêm và bà Phùng Thị Xuyến | C29: 23 | D29: 1117 | E29: 458 | F29: 22.6 | H29: HNK | I29: =F29+G29 -> 22.6 | J29: 3 | K29: 68000 | M29: =K29*I29 -> 1536800 | N29: =M29 -> 1536800 | P29: để kiểm tra lại, GĐ2
A30: =MAX(A$7:$B29)+1 -> 16 | B30: Hộ ông Ngô Văn Chiêm và bà Phùng Thị Xuyến | C30: 24 | D30: 601 | E30: 508 | F30: 508 | H30: LUC | I30: =F30+G30 -> 508 | J30: 3 | K30: 68000 | M30: =K30*I30 -> 34544000 | N30: =M30 -> 34544000
A31: =MAX(A$7:$B30)+1 -> 17 | B31: Hộ ông Ngô Hữu Chí và bà Nguyễn Thị Lương | C31: 24 | D31: 66 | E31: 1095 | F31: 1095 | H31: LUC | I31: =F31+G31 -> 1095 | J31: 3 | K31: 68000 | M31: =K31*I31 -> 74460000 | N31: =M31 -> 74460000
A32: =MAX(A$7:$B31)+1 -> 18 | B32: ông Lê Thành Công, bà Lê Thị Phi, bà Lê Thị Nguyệt, ông Lê Thanh Dân, ông Lê Đức Phước, bà Lê Thị Đức, ông Lê Văn Toàn, bà Lê Thị Oanh đồng thừa kế của ông Lê Cát và bà Nguyễn Thị Sáu | C32: 24 | D32: 1591 | E32: 104 | F32: 104 | H32: LUC | I32: =F32+G32 -> 104 | J32: 3 | K32: 68000 | M32: =K32*I32 -> 7072000 | N32: =M32 -> 7072000
B33: ông Lê Thành Công, bà Lê Thị Phi, bà Lê Thị Nguyệt, ông Lê Thanh Dân, ông Lê Đức Phước, bà Lê Thị Đức, ông Lê Văn Toàn, bà Lê Thị Oanh đồng thừa kế của ông Lê Cát và bà Nguyễn Thị Sáu | C33: 24 | D33: 1592 | E33: 1356 | F33: 1356 | H33: LUC | I33: =F33+G33 -> 1356 | J33: 3 | K33: 68000 | M33: =K33*I33 -> 92208000 | N33: =M33 -> 92208000
A34: =MAX(A$7:$B33)+1 -> 19 | B34: Hộ ông Ngô Văn Chiền và bà Phạm Thị Gái | C34: 24 | D34: 605 | E34: 591 | F34: 591 | H34: LUC | I34: =F34+G34 -> 591 | J34: 2 | K34: 71000 | M34: =K34*I34 -> 41961000 | N34: =M34 -> 41961000
A35: =MAX(A$7:$B34)+1 -> 20 | B35: bà Phùng Thị Chí, ông Trần Trọng Nghĩa, bà Trần Thị Kim Loan, ông Trần Đức Phụng, bà Trần Thị Mỹ Hạnh đồng thừa kế của ông Trần Mỉa | C35: 24 | D35: 107 | E35: 1780 | F35: 1780 | H35: LUC | I35: =F35+G35 -> 1780 | J35: 3 | K35: 68000 | M35: =K35*I35 -> 121040000 | N35: =M35 -> 121040000
A36: =MAX(A$7:$B35)+1 -> 21 | B36: hộ ông Trần Trung Dũng và bà Nguyễn Thị Cúc | C36: 24 | D36: 379 | E36: 920 | F36: 920 | H36: LUC | I36: =F36+G36 -> 920 | J36: 3 | K36: 68000 | M36: =K36*I36 -> 62560000 | N36: =M36 -> 62560000
B37: hộ ông Trần Trung Dũng và bà Nguyễn Thị Cúc | C37: 24 | D37: 449 | E37: 865 | F37: 865 | H37: LUC | I37: =F37+G37 -> 865 | J37: 2 | K37: 71000 | M37: =K37*I37 -> 61415000 | N37: =M37 -> 61415000
A38: =MAX(A$7:$B37)+1 -> 22 | B38: Hộ ông Phùng Đình Duy và bà Ngô Thị Hường | C38: 23 | D38: 892 | E38: 882 | F38: 859.4 | G38: 22.6 | H38: LUC | I38: =F38+G38 -> 882 | J38: 1 | K38: 75000 | M38: =K38*I38 -> 66150000 | N38: =M38 -> 66150000
A39: =MAX(A$7:$B38)+1 -> 23 | B39: Hộ ông Đào Văn Đỗi và bà Lê Thị Sông | C39: 24 | D39: 508 | E39: 539 | F39: 539 | H39: LUC | I39: =F39+G39 -> 539 | J39: 3 | K39: 68000 | M39: =K39*I39 -> 36652000 | N39: =M39 -> 36652000
A40: =MAX(A$7:$B39)+1 -> 24 | B40: Hộ bà Ngô Thị Đài | C40: 24 | D40: 414 | E40: 941 | F40: 941 | H40: LUC | I40: =F40+G40 -> 941 | J40: 2 | K40: 71000 | M40: =K40*I40 -> 66811000 | N40: =M40 -> 66811000
A41: =MAX(A$7:$B40)+1 -> 25 | B41: Hộ ông Nguyễn Tấn Đức và bà Trần Thị Ngọc Anh | C41: 24 | D41: 214 | E41: 1590 | F41: 1590 | H41: LUC | I41: =F41+G41 -> 1590 | J41: 2 | K41: 71000 | M41: =K41*I41 -> 112890000 | N41: =M41 -> 112890000
A42: =MAX(A$7:$B41)+1 -> 26 | B42: bà Võ Thị Hường, ông Phùng Đình Thích, bà Phùng Thị Trinh, bà Phùng Thị Đậm, bà Phùng Thị Được, ông Phùng Đình Lắm đồng thừa kế của ông Phùng Đình Kích | C42: 24 | D42: 65 | E42: 1059 | F42: 1059 | H42: LUC | I42: =F42+G42 -> 1059 | J42: 3 | K42: 68000 | M42: =K42*I42 -> 72012000 | N42: =M42 -> 72012000
B43: bà Võ Thị Hường, ông Phùng Đình Thích, bà Phùng Thị Trinh, bà Phùng Thị Đậm, bà Phùng Thị Được, ông Phùng Đình Lắm đồng thừa kế của ông Phùng Đình Kích | C43: 24 | D43: 108 | E43: 1098 | F43: 1098 | H43: LUC | I43: =F43+G43 -> 1098 | J43: 3 | K43: 68000 | M43: =K43*I43 -> 74664000 | N43: =M43 -> 74664000
A44: =MAX(A$7:$B43)+1 -> 27 | B44: Hộ ông Ngô Quang Hiền và bà Võ Thị Ngãnh | C44: 24 | D44: 504 | E44: 442 | F44: 442 | H44: LUC | I44: =F44+G44 -> 442 | J44: 3 | K44: 68000 | M44: =K44*I44 -> 30056000 | N44: =M44 -> 30056000
B45: Hộ ông Ngô Quang Hiền và bà Võ Thị Ngãnh | C45: 24 | D45: 492 | E45: 1311 | F45: 1311 | H45: LUC | I45: =F45+G45 -> 1311 | J45: 3 | K45: 68000 | M45: =K45*I45 -> 89148000 | N45: =M45 -> 89148000
A46: =MAX(A$7:$B45)+1 -> 28 | B46: Hộ ông Phạm Hùng và bà Nguyễn Thị Ngọc | C46: 23 | D46: 570 | E46: 298 | F46: 298 | H46: LUC | I46: =F46+G46 -> 298 | J46: 2 | K46: 71000 | M46: =K46*I46 -> 21158000 | N46: =M46 -> 21158000
B47: Hộ ông Phạm Hùng và bà Nguyễn Thị Ngọc | C47: 24 | D47: 441 | E47: 611 | F47: 611 | H47: LUC | I47: =F47+G47 -> 611 | J47: 3 | K47: 68000 | M47: =K47*I47 -> 41548000 | N47: =M47 -> 41548000
A48: =MAX(A$7:$B47)+1 -> 29 | B48: Hộ ông Nguyễn Hiệp và bà Nguyễn Thị Bi | C48: 23 | D48: 848 | E48: 926 | F48: 885.4 | G48: 40.6 | H48: LUC | I48: =F48+G48 -> 926 | J48: 1 | K48: 75000 | M48: =K48*I48 -> 69450000 | N48: =M48 -> 69450000
A49: =MAX(A$7:$B48)+1 -> 30 | B49: Hộ ông Ngô Tấn Hồng và bà Phùng Thị Hoa | C49: 24 | D49: 394 | E49: 1820 | F49: 1820 | H49: LUC | I49: =F49+G49 -> 1820 | J49: 3 | K49: 68000 | M49: =K49*I49 -> 123760000 | N49: =M49 -> 123760000
B50: Hộ ông Ngô Tấn Hồng và bà Phùng Thị Hoa | C50: 24 | D50: 547 | E50: 466 | F50: 466 | H50: LUC | I50: =F50+G50 -> 466 | J50: 3 | K50: 68000 | M50: =K50*I50 -> 31688000 | N50: =M50 -> 31688000
A51: =MAX(A$7:$B50)+1 -> 31 | B51: ông Võ Thanh Hồng | C51: 24 | D51: 146 | E51: 1766 | F51: 1766 | H51: LUC | I51: =F51+G51 -> 1766 | J51: 2 | K51: 71000 | M51: =K51*I51 -> 125386000 | N51: =M51 -> 125386000
A52: =MAX(A$7:$B51)+1 -> 32 | B52: Hộ ông Trần Hồng và bà Ngô Thị Lập | C52: 23 | D52: 313 | E52: 1212 | F52: 1212 | H52: LUC | I52: =F52+G52 -> 1212 | J52: 2 | K52: 71000 | M52: =K52*I52 -> 86052000 | N52: =M52 -> 86052000
B53: Hộ ông Trần Hồng và bà Ngô Thị Lập | C53: 24 | D53: 423 | E53: 637 | F53: 637 | H53: LUC | I53: =F53+G53 -> 637 | J53: 2 | K53: 71000 | M53: =K53*I53 -> 45227000 | N53: =M53 -> 45227000
A54: =MAX(A$7:$B53)+1 -> 33 | B54: ông Nguyễn Tấn Hiền và bà Lê Thị Kim Nhung | C54: 24 | D54: 453 | E54: 528 | F54: 528 | H54: HNK | I54: =F54+G54 -> 528 | J54: 3 | K54: 68000 | M54: =K54*I54 -> 35904000 | N54: =M54 -> 35904000 | P54: GĐ2
A55: =MAX(A$7:$B54)+1 -> 34 | B55: Hộ ông Nguyễn Tấn Hiền và bà Lê Thị Kim Nhung | C55: 24 | D55: 1606 | E55: 711.7 | F55: 711.7 | H55: LUC | I55: =F55+G55 -> 711.7 | J55: 3 | K55: 68000 | M55: =K55*I55 -> 48395600 | N55: =M55 -> 48395600
B56: Hộ ông Nguyễn Tấn Hiền và bà Lê Thị Kim Nhung | C56: 24 | D56: 1607 | E56: 51.2 | F56: 51.2 | H56: LUC | I56: =F56+G56 -> 51.2 | J56: 3 | K56: 68000 | M56: =K56*I56 -> 3481600 | N56: =M56 -> 3481600
A57: =MAX(A$7:$B56)+1 -> 35 | B57: Hộ bà Nguyễn Thị Hữu | C57: 24 | D57: 1589 | E57: 985.9 | F57: 985.9 | H57: LUC | I57: =F57+G57 -> 985.9 | J57: 3 | K57: 68000 | M57: =K57*I57 -> 67041200 | N57: =M57 -> 67041200
B58: Hộ bà Nguyễn Thị Hữu | C58: 24 | D58: 1590 | E58: 365.5 | F58: 365.5 | H58: LUC | I58: =F58+G58 -> 365.5 | J58: 3 | K58: 68000 | M58: =K58*I58 -> 24854000 | N58: =M58 -> 24854000
A59: =MAX(A$7:$B58)+1 -> 36 | B59: ông Phùng Đình Hoa và bà Trần Thị Mai | C59: 23 | D59: 68 | E59: 333 | F59: 333 | H59: HNK | I59: =F59+G59 -> 333 | J59: 3 | K59: 68000 | M59: =K59*I59 -> 22644000 | N59: =M59 -> 22644000 | P59: chưa kiểm kê cây
A60: =MAX(A$7:$B59)+1 -> 37 | B60: Hộ bà Phùng Thị Hương và ông Huỳnh Phú | C60: 23 | D60: 265 | E60: 1707 | F60: 1707 | H60: LUC | I60: =F60+G60 -> 1707 | J60: 3 | K60: 68000 | M60: =K60*I60 -> 116076000 | N60: =M60 -> 116076000
A61: =MAX(A$7:$B60)+1 -> 38 | B61: ông Ngô Lá, bà Ngô Thị Thu, ông Ngô Văn Toàn, ông Ngô Lâm đồng thừa kế của bà Trần Thị Hoàng | C61: 24 | D61: 485 | E61: 1546 | F61: 1546 | H61: LUC | I61: =F61+G61 -> 1546 | J61: 3 | K61: 68000 | M61: =K61*I61 -> 105128000 | N61: =M61 -> 105128000
A62: =MAX(A$7:$B61)+1 -> 39 | B62: Hộ ông Nguyễn Văn Hùng và bà Phạm Thị Lựa | C62: 24 | D62: 338 | E62: 580 | F62: 580 | H62: LUC | I62: =F62+G62 -> 580 | J62: 3 | K62: 68000 | M62: =K62*I62 -> 39440000 | N62: =M62 -> 39440000
A63: =MAX(A$7:$B62)+1 -> 40 | B63: Hộ ông Phạm Trọng Hiếu và bà Võ Thị Sáu | C63: 24 | D63: 407 | E63: 696 | F63: 696 | H63: LUC | I63: =F63+G63 -> 696 | J63: 3 | K63: 68000 | M63: =K63*I63 -> 47328000 | N63: =M63 -> 47328000
A64: =MAX(A$7:$B63)+1 -> 41 | B64: Hộ bà Ngô Thị Hữu | C64: 23 | D64: 872 | E64: 681 | F64: 650.4 | G64: 30.6 | H64: LUC | I64: =F64+G64 -> 681 | J64: 1 | K64: 75000 | M64: =K64*I64 -> 51075000 | N64: =M64 -> 51075000
A65: =MAX(A$7:$B64)+1 -> 42 | B65: Hộ ông Nguyễn Duy Khánh và bà Nguyễn Thị Kim Liên | C65: 24 | D65: 387 | E65: 824 | F65: 824 | H65: LUC | I65: =F65+G65 -> 824 | J65: 2 | K65: 71000 | M65: =K65*I65 -> 58504000 | N65: =M65 -> 58504000
A66: =MAX(A$7:$B65)+1 -> 43 | B66: Hộ ông Phùng Đình Khánh và bà Nguyễn Thị Hương | C66: 23 | D66: 856 | E66: 758 | F66: 720.7 | G66: 37.3 | H66: LUC | I66: =F66+G66 -> 758 | J66: 1 | K66: 75000 | M66: =K66*I66 -> 56850000 | N66: =M66 -> 56850000
A67: =MAX(A$7:$B66)+1 -> 44 | B67: ông Nguyễn Tấn Phó, bà Nguyễn Thị Hòa, ông Nguyễn Công Danh, ông Nguyễn Văn Chiến, bà Nguyễn Thị Thắng đồng thừa kế của bà Nguyễn Thị Kỉnh | C67: 24 | D67: 110 | E67: 600 | F67: 600 | H67: LUC | I67: =F67+G67 -> 600 | J67: 2 | K67: 71000 | M67: =K67*I67 -> 42600000 | N67: =M67 -> 42600000
A68: =MAX(A$7:$B67)+1 -> 45 | B68: bà Nguyễn Thị Nhàn, bà Phùng Thị Thư, ông Phùng Đình Bằng, ông Phùng Đình Lĩnh, bà Phùng Thị Phương Linh đồng thừa kế của ông Phùng Đình Khải | C68: 24 | D68: 330 | E68: 2255 | F68: 2255 | H68: LUC | I68: =F68+G68 -> 2255 | J68: 2 | K68: 71000 | M68: =K68*I68 -> 160105000 | N68: =M68 -> 160105000
A69: =MAX(A$7:$B68)+1 -> 46 | B69: ông Võ Sỉ Khánh và bà Nguyễn Thị Nhi | C69: 23 | D69: 1064 | E69: 92 | F69: 92 | H69: HNK | I69: =F69+G69 -> 92 | J69: 3 | K69: 68000 | M69: =K69*I69 -> 6256000 | N69: =M69 -> 6256000 | P69: đậu phộng
A70: =MAX(A$7:$B69)+1 -> 47 | B70: ông Đoàn Tấn Linh và bà Đinh Thị Thu Hà | C70: 24 | D70: 511 | E70: 588 | F70: 588 | H70: LUC | I70: =F70+G70 -> 588 | J70: 3 | K70: 68000 | M70: =K70*I70 -> 39984000 | N70: =M70 -> 39984000
A71: =MAX(A$7:$B70)+1 -> 48 | B71: Hộ bà Nguyễn Thị Kim Long | C71: 24 | D71: 627 | E71: 862 | F71: 862 | H71: LUC | I71: =F71+G71 -> 862 | J71: 3 | K71: 68000 | M71: =K71*I71 -> 58616000 | N71: =M71 -> 58616000
A72: =MAX(A$7:$B71)+1 -> 49 | B72: ông Trần Minh Long, ông Trần Minh Nam, bà Trần Thị Vĩnh, ông Trần Minh Quảng, ông Trần Quảng Đại đồng thừa kế của bà Nguyễn Thị Huấn | C72: 24 | D72: 488 | E72: 364 | F72: 364 | H72: LUC | I72: =F72+G72 -> 364 | J72: 3 | K72: 68000 | M72: =K72*I72 -> 24752000 | N72: =M72 -> 24752000
A73: =MAX(A$7:$B72)+1 -> 50 | B73: Hộ ông Ngô Văn Liễu và bà Nguyễn Thị My | C73: 24 | D73: 570 | E73: 311 | F73: 311 | H73: LUC | I73: =F73+G73 -> 311 | J73: 3 | K73: 68000 | M73: =K73*I73 -> 21148000 | N73: =M73 -> 21148000
A74: =MAX(A$7:$B73)+1 -> 51 | B74: ông Ngô Văn Liễu và bà Nguyễn Thị My | C74: 23 | D74: 1116 | E74: 451 | F74: 14.1 | H74: HNK | I74: =F74+G74 -> 14.1 | J74: 3 | K74: 68000 | M74: =K74*I74 -> 958800 | N74: =M74 -> 958800 | P74: để kiểm tra lại, GĐ2
A75: =MAX(A$7:$B74)+1 -> 52 | B75: Hộ bà Lê Thị Thanh Nga và ông Nguyễn Hưng Liễm | C75: 24 | D75: 102 | E75: 1353 | F75: 960.8 | H75: LUC | I75: =F75+G75 -> 960.8 | J75: 2 | K75: 71000 | M75: =K75*I75 -> 68216800 | N75: =M75 -> 68216800
A76: =MAX(A$7:$B75)+1 -> 53 | B76: Hộ ông Nguyễn Lành và bà Phùng Thị Tâm | C76: 24 | D76: 602 | E76: 1975 | F76: 1975 | H76: LUC | I76: =F76+G76 -> 1975 | J76: 3 | K76: 68000 | M76: =K76*I76 -> 134300000 | N76: =M76 -> 134300000
A77: =MAX(A$7:$B76)+1 -> 54 | B77: Hộ ông Phùng Đình Lai và bà Ngô Thị Liễu | C77: 23 | D77: 847 | E77: 2082 | F77: 2019.4 | H77: LUC | I77: =F77+G77 -> 2019.4 | J77: 1 | K77: 75000 | M77: =K77*I77 -> 151455000 | N77: =M77 -> 151455000
A78: =MAX(A$7:$B77)+1 -> 55 | B78: Hộ ông Nguyễn Lộc và bà Nguyễn Thị Sô | C78: 24 | D78: 486 | E78: 1136 | F78: 1136 | H78: LUC | I78: =F78+G78 -> 1136 | J78: 3 | K78: 68000 | M78: =K78*I78 -> 77248000 | N78: =M78 -> 77248000
A79: =MAX(A$7:$B78)+1 -> 56 | B79: ông Nguyễn Lộc và bà Nguyễn Thị Sô | C79: 24 | D79: 1231 | E79: 615 | F79: 615 | H79: HNK | I79: =F79+G79 -> 615 | J79: 3 | K79: 68000 | M79: =K79*I79 -> 41820000 | N79: =M79 -> 41820000 | P79: đậu phộng
A80: =MAX(A$7:$B79)+1 -> 57 | B80: Hộ ông Ngô Văn Lệ và bà Đào Thị Mỹ Linh | C80: 24 | D80: 567 | E80: 621 | F80: 621 | H80: LUC | I80: =F80+G80 -> 621 | J80: 2 | K80: 71000 | M80: =K80*I80 -> 44091000 | N80: =M80 -> 44091000
A81: =MAX(A$7:$B80)+1 -> 58 | B81: Hộ ông Nguyễn Lương và bà Nguyễn Thị Hùng | C81: 23 | D81: 309 | E81: 1580 | F81: 1580 | H81: LUC | I81: =F81+G81 -> 1580 | J81: 3 | K81: 68000 | M81: =K81*I81 -> 107440000 | N81: =M81 -> 107440000
B82: Hộ ông Nguyễn Lương và bà Nguyễn Thị Hùng | C82: 24 | D82: 332 | E82: 714 | F82: 714 | H82: LUC | I82: =F82+G82 -> 714 | J82: 3 | K82: 68000 | M82: =K82*I82 -> 48552000 | N82: =M82 -> 48552000
A83: =MAX(A$7:$B82)+1 -> 59 | B83: Ông Nguyễn Tấn Lực và bà Phùng Thị Thu | C83: 24 | D83: 147 | E83: 997 | F83: 997 | H83: LUC | I83: =F83+G83 -> 997 | J83: 3 | K83: 68000 | M83: =K83*I83 -> 67796000 | N83: =M83 -> 67796000
A84: =MAX(A$7:$B83)+1 -> 60 | B84: Ông Trịnh Bích và bà Trần Thị Lệ | C84: 24 | D84: 1305 | E84: 542 | F84: 542 | H84: LUC | I84: =F84+G84 -> 542 | J84: 3 | K84: 68000 | M84: =K84*I84 -> 36856000 | N84: =M84 -> 36856000
A85: =MAX(A$7:$B84)+1 -> 61 | B85: Hộ ông Ngô Đức Hùng và bà Nguyễn Thị Mười | C85: 24 | D85: 1579 | E85: 771 | F85: 771 | H85: LUC | I85: =F85+G85 -> 771 | J85: 2 | K85: 71000 | M85: =K85*I85 -> 54741000 | N85: =M85 -> 54741000
B86: Hộ ông Ngô Đức Hùng và bà Nguyễn Thị Mười | C86: 24 | D86: 1580 | E86: 376 | F86: 375.1 | G86: 0.9 | H86: LUC | I86: =F86+G86 -> 376 | J86: 2 | K86: 71000 | M86: =K86*I86 -> 26696000 | N86: =M86 -> 26696000
A87: =MAX(A$7:$B86)+1 -> 62 | B87: Hộ bà Trần Thị Mực | C87: 24 | D87: 69 | E87: 1290 | F87: 1289.4 | G87: 0.6 | H87: LUC | I87: =F87+G87 -> 1290 | J87: 2 | K87: 71000 | M87: =K87*I87 -> 91590000 | N87: =M87 -> 91590000
A88: =MAX(A$7:$B87)+1 -> 63 | B88: ông Phùng Đình Thôi, bà Phùng Thị Tí, bà Phùng Thị Mùi, bà Phùng Thị Vân, bà Phùng Thị Mười, bà Phùng Thị Dư đồng thừa kế của bà Lê Thị Năm | C88: 24 | D88: 628 | E88: 950 | F88: 950 | H88: LUC | I88: =F88+G88 -> 950 | J88: 3 | K88: 68000 | M88: =K88*I88 -> 64600000 | N88: =M88 -> 64600000
A89: =MAX(A$7:$B88)+1 -> 64 | B89: ông Lê Miên | C89: 24 | D89: 104 | E89: 596 | F89: 596 | H89: LUC | I89: =F89+G89 -> 596 | J89: 2 | K89: 71000 | M89: =K89*I89 -> 42316000 | N89: =M89 -> 42316000
B90: ông Lê Miên | C90: 23 | D90: 435 | E90: 393 | F90: 393 | H90: LUC | I90: =F90+G90 -> 393 | J90: 3 | K90: 68000 | M90: =K90*I90 -> 26724000 | N90: =M90 -> 26724000
A91: =MAX(A$7:$B90)+1 -> 65 | B91: ông Lê Minh Mậu, bà Lê Thị Trang, ông Lê Văn Châu, ông Lê Minh Kiệt, ông Lê Minh Dũng, bà Lê Thị Ngọc, ông Lê Minh Hiệp đồng thừa kế của bà Nguyễn Thị Điểm | C91: 23 | D91: 41 | E91: 200 | F91: 200 | H91: HNK | I91: =F91+G91 -> 200 | J91: 3 | K91: 68000 | M91: =K91*I91 -> 13600000 | N91: =M91 -> 13600000 | P91: chưa kiểm kê cây
A92: =MAX(A$7:$B91)+1 -> 66 | B92: Hộ bà Phùng Thị Mỹ | C92: 23 | D92: 857 | E92: 731 | F92: 696.8 | G92: 34.2 | H92: LUC | I92: =F92+G92 -> 731 | J92: 1 | K92: 75000 | M92: =K92*I92 -> 54825000 | N92: =M92 -> 54825000
B93: Hộ bà Phùng Thị Mỹ | C93: 23 | D93: 460 | E93: 281 | F93: 97.2 | H93: LUC | I93: =F93+G93 -> 97.2 | J93: 1 | K93: 75000 | M93: =K93*I93 -> 7290000 | N93: =M93 -> 7290000
A94: =MAX(A$7:$B93)+1 -> 67 | B94: bà Phùng Thị Mỹ, ông Đinh Xuân Tuấn, ông Đinh Xuân Đạt, bà Đinh Thanh Thúy, bà Đinh Thị Bích Ngọc đồng thừa kế của ông Đinh Vận | C94: 24 | D94: 1 | E94: 422 | F94: 329.4 | H94: HNK | I94: =F94+G94 -> 329.4 | J94: 3 | K94: 68000 | M94: =K94*I94 -> 22399200 | N94: =M94 -> 22399200 | P94: chưa kiểm kê cây
A95: =MAX(A$7:$B94)+1 -> 68 | B95: Hộ ông Lê Hồng Nga và bà Nguyễn Thị Mai Anh | C95: 24 | D95: 1583 | E95: 1578.9 | F95: 1578.9 | H95: LUC | I95: =F95+G95 -> 1578.9 | J95: 3 | K95: 68000 | M95: =K95*I95 -> 107365200 | N95: =M95 -> 107365200
B96: Hộ ông Lê Hồng Nga và bà Nguyễn Thị Mai Anh | C96: 24 | D96: 1584 | E96: 254.2 | F96: 254.2 | H96: LUC | I96: =F96+G96 -> 254.2 | J96: 3 | K96: 68000 | M96: =K96*I96 -> 17285600 | N96: =M96 -> 17285600
A97: =MAX(A$7:$B96)+1 -> 69 | B97: bà Nguyễn Thị Nga | C97: 24 | D97: 766 | E97: 542 | F97: 542 | H97: LUC | I97: =F97+G97 -> 542 | J97: 3 | K97: 68000 | M97: =K97*I97 -> 36856000 | N97: =M97 -> 36856000
A98: =MAX(A$7:$B97)+1 -> 70 | B98: bà Trương Thị Kim Nhựt, ông Phùng Đình Lưu, bà Phùng Thị Nguyện, ông Phùng Đình Ý đồng thừa kế của ông Phùng Đình Chiến | C98: 23 | D98: 312 | E98: 1254 | F98: 1254 | H98: LUC | I98: =F98+G98 -> 1254 | J98: 3 | K98: 68000 | M98: =K98*I98 -> 85272000 | N98: =M98 -> 85272000
B99: bà Trương Thị Kim Nhựt, ông Phùng Đình Lưu, bà Phùng Thị Nguyện, ông Phùng Đình Ý đồng thừa kế của ông Phùng Đình Chiến | C99: 24 | D99: 386 | E99: 896 | F99: 896 | H99: LUC | I99: =F99+G99 -> 896 | J99: 2 | K99: 71000 | M99: =K99*I99 -> 63616000 | N99: =M99 -> 63616000
A100: =MAX(A$7:$B99)+1 -> 71 | B100: bà Nguyễn Thị Nữ, ông Ngô Văn Điệp, ông Ngô Nhựt, bà Ngô Thị Bửu, ông Ngô Văn Hoàng, bà Ngô Thị Khắc Ghi đồng thừa kế của ông Ngô Nhứt | C100: 24 | D100: 512 | E100: 999 | F100: 999 | H100: LUC | I100: =F100+G100 -> 999 | J100: 3 | K100: 68000 | M100: =K100*I100 -> 67932000 | N100: =M100 -> 67932000
...

Sheet tài sản
M1: (Biểu số: 11)
A3: BẢNG TÍNH CHI TIẾT GIÁ TRỊ BỒI THƯỜNG, HỖ TRỢ NHÀ, CÔNG TRÌNH PHỤC VỤ ĐỜI SỐNG SẢN XUẤT DỰ ÁN:KHU ĐÔ THỊ BẮC SA HUỲNH (ĐỢT 1) Địa điểm: phường Sa Huỳnh, tỉnh Quảng Ngãi
A5: STT | B5: Họ tên chủ hộ | C5: Tờ BĐ | D5: Số thửa | E5: Loại đất | F5: Nhà, công trình phục vụ đời sống | M5: Tổng cộng (đồng)
F6: Hạng mục | G6: Đơn vị tính | H6: Khối lượng | I6: Năm xây dựng | J6: Bồi thường, hỗ trợ (%) | K6: Đơn giá (đồng) | L6: Thành tiền (đồng)
A7: I | B7: Tổ dân phố Tân Diêm
A8: 1 | B8: ='Dat-Bieu10'!B7 -> bà Nguyễn Thị Ai, bà Ngô Thị Ánh, ông Ngô Văn Bình, ông Ngô Văn Minh, bà Ngô Thị Diệu, bà Ngô Thị Hòa, bà Ngô Thị Lan, ông Ngô Văn Sang đồng thừa kế của ông Ngô Đức Tâm | L8: =L9 -> 0 | M8: =L8 -> 0 | N8: Xong
A9: =IF(B9="","",SUBTOTAL(3,$B$8:B9)) | C9: 1 | D9: 1423 | E9: LUC | F9: Giếng đóng bằng ống nhựa (PVC) Ø60, không có máy bơm điện, đầu bơm tay, nền giếng. Chiều sâu > 8m ÷ ≤ 12m | G9: m | H9: 12 | I9: 1998 | J9: 0 | K9: 211000 | L9: =K9*H9*J9 -> 0
A10: 3 | B10: Hộ bà Phạm Thị Bông | L10: =L11 -> 0 | M10: =L10 -> 0 | N10: Xong
A11: =IF(B11="","",SUBTOTAL(3,$B$8:B11)) | C11: 1 | D11: 443 | E11: LUC | F11: Giếng đóng bằng ống nhựa (PVC) Ø60, không có máy bơm điện, đầu bơm tay, nền giếng. Chiều sâu 14m | G11: m | H11: 14 | I11: 2014 | J11: 0 | K11: 211000 | L11: =K11*H11*J11 -> 0
A12: 4 | B12: Hộ bà Ngô Thị Bình | L12: =L13 -> 0 | M12: =L12 -> 0 | N12: Xong
A13: =IF(B13="","",SUBTOTAL(3,$B$8:B13)) | C13: 1 | D13: 506 | E13: LUC | F13: Giếng đóng bằng ống nhựa (PVC) Ø60, không có máy bơm điện, đầu bơm tay, nền giếng. Chiều sâu > 8m ÷ ≤ 12m | G13: m | H13: 12 | I13: 1998 | J13: 0 | K13: 211000 | L13: =K13*H13*J13 -> 0
A14: 5 | B14: Hộ ông Ngô Văn Bình và bà Nguyễn Thị Tho | L14: =L15 -> 0 | M14: =L14 -> 0 | N14: Xong
A15: =IF(B15="","",SUBTOTAL(3,$B$8:B15)) | C15: 1 | D15: 546 | E15: LUC | F15: Giếng đóng bằng ống nhựa (PVC) Ø60, không có máy bơm điện, đầu bơm tay, nền giếng. Chiều sâu > 8m ÷ ≤ 12m | G15: m | H15: 8 | I15: 2014 | J15: 0 | K15: 211000 | L15: =K15*H15*J15 -> 0
A16: 13 | B16: Hộ ông Trần Văn Cứ và bà Nguyễn Thị Rùa | L16: =SUM(L17:L19) -> 0 | M16: =L16 -> 0 | N16: Xong
A17: =IF(B17="","",SUBTOTAL(3,$B$8:B17)) | C17: 1 | D17: 228 | E17: LUC | F17: Giếng đóng bằng ống nhựa (PVC) Ø60, không có máy bơm điện, đầu bơm tay, nền giếng. Chiều sâu > 8m ÷ ≤ 12m | G17: m | H17: 12 | I17: 1998 | J17: 0 | K17: 211000 | L17: =K17*H17*J17 -> 0 | N17: kiểm tra lại có ko
A18: =IF(B18="","",SUBTOTAL(3,$B$8:B18)) | C18: 1 | D18: 431 | E18: LUC | F18: Giếng đóng bằng ống nhựa (PVC) Ø60, không có máy bơm điện, đầu bơm tay, nền giếng. Chiều sâu > 8m ÷ ≤ 12m | G18: m | H18: 12 | I18: 1998 | J18: 0 | K18: 211000 | L18: =K18*H18*J18 -> 0 | N18: kiểm tra lại có ko
A19: =IF(B19="","",SUBTOTAL(3,$B$8:B19)) | C19: 1 | D19: 246 | E19: LUC | F19: Giếng đóng bằng ống nhựa (PVC) Ø60, không có máy bơm điện, đầu bơm tay, nền giếng. Chiều sâu > 8m ÷ ≤ 12m | G19: m | H19: 12 | I19: 1998 | J19: 0 | K19: 211000 | L19: =K19*H19*J19 -> 0 | N19: kiểm tra lại có ko
A20: 16 | B20: Hộ ông Ngô Văn Chiêm và bà Phùng Thị Xuyến | L20: =L21 -> 0 | M20: =L20 -> 0 | N20: Xong
A21: =IF(B21="","",SUBTOTAL(3,$B$8:B21)) | C21: 1 | D21: 1624 | E21: LUC | F21: Giếng đóng bằng ống nhựa (PVC) Ø60, không có máy bơm điện, đầu bơm tay, nền giếng. Chiều sâu 30m | G21: m | H21: 30 | I21: 2015 | J21: 0 | K21: 211000 | L21: =K21*H21*J21 -> 0
A22: 18 | B22: ='Dat-Bieu10'!B32 -> ông Lê Thành Công, bà Lê Thị Phi, bà Lê Thị Nguyệt, ông Lê Thanh Dân, ông Lê Đức Phước, bà Lê Thị Đức, ông Lê Văn Toàn, bà Lê Thị Oanh đồng thừa kế của ông Lê Cát và bà Nguyễn Thị Sáu | L22: =L23 -> 0 | M22: =L22 -> 0 | N22: Xong
A23: =IF(B23="","",SUBTOTAL(3,$B$8:B23)) | C23: 1 | D23: 1591 | E23: LUC | F23: Giếng đóng bằng ống nhựa (PVC) Ø60, không có máy bơm điện, đầu bơm tay, nền giếng. Chiều sâu > 8m ÷ ≤ 12m | G23: m | H23: 8 | I23: 2000 | J23: 0 | K23: 211000 | L23: =K23*H23*J23 -> 0
A24: 19 | B24: Hộ ông Ngô Văn Chiền và bà Phạm Thị Gái | L24: =L25 -> 0 | M24: =L24 -> 0 | N24: Xong
A25: =IF(B25="","",SUBTOTAL(3,$B$8:B25)) | C25: 1 | D25: 605 | E25: LUC | F25: Giếng đóng bằng ống nhựa (PVC) Ø60, không có máy bơm điện, đầu bơm tay, nền giếng. Chiều sâu > 8m ÷ ≤ 12m | G25: m | H25: 12 | I25: 1998 | J25: 0 | K25: 211000 | L25: =K25*H25*J25 -> 0
A26: 21 | B26: hộ ông Trần Trung Dũng và bà Nguyễn Thị Cúc | L26: =L27 -> 0 | M26: =L26 -> 0 | N26: Xong
A27: =IF(B27="","",SUBTOTAL(3,$B$8:B27)) | C27: 1 | D27: 379 | E27: LUC | F27: Giếng đóng bằng ống nhựa (PVC) Ø60, không có máy bơm điện, đầu bơm tay, nền giếng. Chiều sâu > 8m ÷ ≤ 12m | G27: m | H27: 11 | I27: 2008 | J27: 0 | K27: 211000 | L27: =K27*H27*J27 -> 0
A28: 23 | B28: Hộ ông Đào Văn Đỗi và bà Lê Thị Sông | L28: =L29 -> 0 | M28: =L28 -> 0 | N28: Xong trên đất ông Ngô Văn Bình thửa 546
A29: =IF(B29="","",SUBTOTAL(3,$B$8:B29)) | C29: 1 | D29: 508 | E29: LUC | F29: Giếng đóng bằng ống nhựa (PVC) Ø60, không có máy bơm điện, đầu bơm tay, nền giếng. Chiều sâu > 8m ÷ ≤ 12m | G29: m | H29: 12 | I29: 2000 | J29: 0 | K29: 211000 | L29: =K29*H29*J29 -> 0
A30: 27 | B30: Hộ ông Ngô Quang Hiền và bà Võ Thị Ngãnh | L30: =L31 -> 0 | M30: =L30 -> 0 | N30: Xong
A31: =IF(B31="","",SUBTOTAL(3,$B$8:B31)) | C31: 1 | D31: 492 | E31: LUC | F31: Giếng đóng bằng ống nhựa (PVC) Ø60, không có máy bơm điện, đầu bơm tay, nền giếng. Chiều sâu 14m | G31: m | H31: 14 | I31: 2000 | J31: 0 | K31: 211000 | L31: =K31*H31*J31 -> 0
A32: 30 | B32: Hộ ông Ngô Tấn Hồng và bà Phùng Thị Hoa | L32: =L33+L34 -> 0 | M32: =L32 -> 0 | N32: Xong
A33: =IF(B33="","",SUBTOTAL(3,$B$8:B33)) | C33: 1 | D33: 394 | E33: LUC | F33: Giếng đóng bằng ống nhựa (PVC) Ø60, không có máy bơm điện, đầu bơm tay, nền giếng. Chiều sâu > 8m ÷ ≤ 12m | G33: m | H33: 12 | I33: 1998 | J33: 0 | K33: 211000 | L33: =K33*H33*J33 -> 0
A34: =IF(B34="","",SUBTOTAL(3,$B$8:B34)) | C34: 1 | D34: 547 | E34: LUC | F34: Giếng đóng bằng ống nhựa (PVC) Ø60, không có máy bơm điện, đầu bơm tay, nền giếng. Chiều sâu > 8m ÷ ≤ 12m | G34: m | H34: 12 | I34: 1998 | J34: 0 | K34: 211000 | L34: =K34*H34*J34 -> 0
A35: 32 | B35: Hộ ông Trần Hồng và bà Ngô Thị Lập | L35: =L36+L37 -> 0 | M35: =L35 -> 0 | N35: Xong
A36: =IF(B36="","",SUBTOTAL(3,$B$8:B36)) | C36: 1 | D36: 313 | E36: LUC | F36: Giếng đóng bằng ống nhựa (PVC) Ø60, không có máy bơm điện, đầu bơm tay, nền giếng. Chiều sâu > 8m ÷ ≤ 12m | G36: m | H36: 12 | I36: 1998 | J36: 0 | K36: 211000 | L36: =K36*H36*J36 -> 0 | N36: kiểm tra lại có ko
A37: =IF(B37="","",SUBTOTAL(3,$B$8:B37)) | C37: 1 | D37: 423 | E37: LUC | F37: Giếng đóng bằng ống nhựa (PVC) Ø60, không có máy bơm điện, đầu bơm tay, nền giếng. Chiều sâu > 8m ÷ ≤ 12m | G37: m | H37: 12 | I37: 1998 | J37: 0 | K37: 211000 | L37: =K37*H37*J37 -> 0 | N37: kiểm tra lại có ko
A38: 34 | B38: Hộ ông Nguyễn Tấn Hiền và bà Lê Thị Kim Nhung | L38: =L39 -> 0 | M38: =L38 -> 0 | N38: Xong
A39: =IF(B39="","",SUBTOTAL(3,$B$8:B39)) | C39: 1 | D39: 1606 | E39: LUC | F39: Giếng đóng bằng ống nhựa (PVC) Ø60, không có máy bơm điện, đầu bơm tay, nền giếng. Chiều sâu 16m | G39: m | H39: 16 | I39: 1998 | J39: 0 | K39: 211000 | L39: =K39*H39*J39 -> 0
A40: 35 | B40: bà Nguyễn Thị Hữu | L40: =L41 -> 0 | M40: =L40 -> 0 | N40: Xong Trên đất người khác
A41: =IF(B41="","",SUBTOTAL(3,$B$8:B41)) | C41: 1 | D41: 1589 | E41: LUC | F41: Giếng đóng bằng ống nhựa (PVC) Ø60, không có máy bơm điện, đầu bơm tay, nền giếng. Chiều sâu > 8m ÷ ≤ 12m | G41: m | H41: 12 | I41: 2010 | J41: 0 | K41: 211000 | L41: =K41*H41*J41 -> 0
A42: 39 | B42: ='Dat-Bieu10'!B62 -> Hộ ông Nguyễn Văn Hùng và bà Phạm Thị Lựa | L42: =L43 -> 0 | M42: =L42 -> 0 | N42: Xong
A43: =IF(B43="","",SUBTOTAL(3,$B$8:B43)) | C43: 1 | D43: 266 | E43: LUC | F43: Giếng đóng bằng ống nhựa (PVC) Ø60, không có máy bơm điện, đầu bơm tay, nền giếng. Chiều sâu > 8m ÷ ≤ 12m | G43: m | H43: 12 | I43: 1998 | J43: 0 | K43: 211000 | L43: =K43*H43*J43 -> 0
A44: 42 | B44: Hộ ông Nguyễn Duy Khánh và bà Nguyễn Thị Kim Liên | L44: =L45 -> 0 | M44: =L44 -> 0 | N44: Xong
A45: =IF(B45="","",SUBTOTAL(3,$B$8:B45)) | C45: 1 | D45: 387 | E45: LUC | F45: Giếng đóng bằng ống nhựa (PVC) Ø60, không có máy bơm điện, đầu bơm tay, nền giếng. Chiều sâu 14m | G45: m | H45: 14 | I45: 1997 | J45: 0 | K45: 211000 | L45: =K45*H45*J45 -> 0
A46: 45 | B46: ='Dat-Bieu10'!B68 -> bà Nguyễn Thị Nhàn, bà Phùng Thị Thư, ông Phùng Đình Bằng, ông Phùng Đình Lĩnh, bà Phùng Thị Phương Linh đồng thừa kế của ông Phùng Đình Khải | L46: =L47 -> 0 | M46: =L46 -> 0 | N46: Xong
A47: =IF(B47="","",SUBTOTAL(3,$B$8:B47)) | C47: 1 | D47: 330 | E47: LUC | F47: Giếng đóng bằng ống nhựa (PVC) Ø60, không có máy bơm điện, đầu bơm tay, nền giếng. Chiều sâu > 8m ÷ ≤ 12m | G47: m | H47: 10 | I47: 1998 | J47: 0 | K47: 211000 | L47: =K47*H47*J47 -> 0
A48: 49 | B48: ='Dat-Bieu10'!B72 -> ông Trần Minh Long, ông Trần Minh Nam, bà Trần Thị Vĩnh, ông Trần Minh Quảng, ông Trần Quảng Đại đồng thừa kế của bà Nguyễn Thị Huấn | L48: =L49 -> 0 | M48: =L48 -> 0 | N48: Xong
A49: =IF(B49="","",SUBTOTAL(3,$B$8:B49)) | C49: 1 | D49: 488 | E49: LUC | F49: Giếng đóng bằng ống nhựa (PVC) Ø60, không có máy bơm điện, đầu bơm tay, nền giếng. Chiều sâu > 8m ÷ ≤ 12m | G49: m | H49: 9.5 | I49: 2021 | J49: 0 | K49: 211000 | L49: =K49*H49*J49 -> 0
A50: 50 | B50: Hộ ông Ngô Văn Liễu và bà Nguyễn Thị My | L50: =L51 -> 0 | M50: =L50 -> 0 | N50: Xong
A51: =IF(B51="","",SUBTOTAL(3,$B$8:B51)) | C51: 1 | D51: 570 | E51: LUC | F51: Giếng đóng bằng ống nhựa (PVC) Ø60, không có máy bơm điện, đầu bơm tay, nền giếng. Chiều sâu 15m | G51: m | H51: 15 | I51: 1998 | J51: 0 | K51: 211000 | L51: =K51*H51*J51 -> 0
A52: 53 | B52: Hộ ông Nguyễn Lành và bà Phùng Thị Tâm | L52: =L53+L54 -> 0 | M52: =L52 -> 0 | N52: Xong
A53: =IF(B53="","",SUBTOTAL(3,$B$8:B53)) | C53: 1 | D53: 620 | E53: LUC | F53: Giếng đóng bằng ống nhựa (PVC) Ø60, không có máy bơm điện, đầu bơm tay, nền giếng. Chiều sâu > 8m ÷ ≤ 12m | G53: m | H53: 12 | I53: 1998 | J53: 0 | K53: 211000 | L53: =K53*H53*J53 -> 0
A54: =IF(B54="","",SUBTOTAL(3,$B$8:B54)) | C54: 1 | D54: 620 | E54: LUC | F54: Giếng đóng bằng ống nhựa (PVC) Ø60, không có máy bơm điện, đầu bơm tay, nền giếng. Chiều sâu > 8m ÷ ≤ 12m | G54: m | H54: 12 | I54: 1998 | J54: 0 | K54: 211000 | L54: =K54*H54*J54 -> 0
A55: 57 | B55: Hộ ông Ngô Văn Lệ và bà Đào Thị Mỹ Linh | L55: =L56 -> 0 | M55: =L55 -> 0 | N55: Xong
A56: =IF(B56="","",SUBTOTAL(3,$B$8:B56)) | C56: 1 | D56: 567 | E56: LUC | F56: Giếng đóng bằng ống nhựa (PVC) Ø60, không có máy bơm điện, đầu bơm tay, nền giếng. Chiều sâu > 8m ÷ ≤ 12m | G56: m | H56: 12 | I56: 1998 | J56: 0 | K56: 211000 | L56: =K56*H56*J56 -> 0
A57: 58 | B57: Hộ ông Nguyễn Lương và bà Nguyễn Thị Hùng | L57: =SUM(L58:L60) -> 0 | M57: =L57 -> 0 | N57: Xong
A58: =IF(B58="","",SUBTOTAL(3,$B$8:B58)) | C58: 1 | D58: 309 | E58: LUC | F58: Giếng đóng bằng ống nhựa (PVC) Ø60, không có máy bơm điện, đầu bơm tay, nền giếng. Chiều sâu > 8m ÷ ≤ 12m | G58: m | H58: 14 | I58: 2013 | J58: 0 | K58: 211000 | L58: =K58*H58*J58 -> 0
A59: =IF(B59="","",SUBTOTAL(3,$B$8:B59)) | C59: 1 | D59: 332 | E59: LUC | F59: Giếng đóng bằng ống nhựa (PVC) Ø60, không có máy bơm điện, đầu bơm tay, nền giếng. Chiều sâu > 8m ÷ ≤ 12m | G59: m | H59: 12 | I59: 2015 | J59: 0 | K59: 211000 | L59: =K59*H59*J59 -> 0
A60: =IF(B60="","",SUBTOTAL(3,$B$8:B60)) | C60: 1 | D60: 461 | E60: LUC | F60: Giếng đóng bằng ống nhựa (PVC) Ø60, không có máy bơm điện, đầu bơm tay, nền giếng. Chiều sâu > 8m ÷ ≤ 12m | G60: m | H60: 12 | I60: 2017 | J60: 0 | K60: 211000 | L60: =K60*H60*J60 -> 0
A61: 63 | B61: ='Dat-Bieu10'!B88 -> ông Phùng Đình Thôi, bà Phùng Thị Tí, bà Phùng Thị Mùi, bà Phùng Thị Vân, bà Phùng Thị Mười, bà Phùng Thị Dư đồng thừa kế của bà Lê Thị Năm | L61: =L62 -> 0 | M61: =L61 -> 0 | N61: Xong
A62: =IF(B62="","",SUBTOTAL(3,$B$8:B62)) | C62: 1 | D62: 1637 | E62: LUC | F62: Giếng đóng bằng ống nhựa (PVC) Ø60, không có máy bơm điện, đầu bơm tay, nền giếng. Chiều sâu 13m | G62: m | H62: 13 | I62: 1998 | J62: 0 | K62: 211000 | L62: =K62*H62*J62 -> 0
A63: 70 | B63: ='Dat-Bieu10'!B98 -> bà Trương Thị Kim Nhựt, ông Phùng Đình Lưu, bà Phùng Thị Nguyện, ông Phùng Đình Ý đồng thừa kế của ông Phùng Đình Chiến | L63: =L64 -> 0 | M63: =L63 -> 0 | N63: Xong
A64: =IF(B64="","",SUBTOTAL(3,$B$8:B64)) | C64: 1 | D64: 386 | E64: LUC | F64: Giếng đóng bằng ống nhựa (PVC) Ø60, không có máy bơm điện, đầu bơm tay, nền giếng. Chiều sâu > 8m ÷ ≤ 12m | G64: m | H64: 12 | I64: 1998 | J64: 0 | K64: 211000 | L64: =K64*H64*J64 -> 0
A65: 73 | B65: ='Dat-Bieu10'!B102 -> ông Ngô Tấn Ngọc, bà Ngô Thị Đào, bà Ngô Thị Sáng, ông Ngô Gương đồng thừa kế của hộ bà Nguyễn Thị Có | L65: =SUM(L66:L67) -> 0 | M65: =L65 -> 0 | N65: Xong
A66: =IF(B66="","",SUBTOTAL(3,$B$8:B66)) | C66: 1 | D66: 549 | E66: LUC | F66: Giếng đóng bằng ống nhựa (PVC) Ø60, không có máy bơm điện, đầu bơm tay, nền giếng. Chiều sâu > 8m ÷ ≤ 12m | G66: m | H66: 12 | I66: 1998 | J66: 0 | K66: 211000 | L66: =K66*H66*J66 -> 0
A67: =IF(B67="","",SUBTOTAL(3,$B$8:B174)) | C67: 1 | D67: 549 | E67: LUC | F67: Giếng đóng bằng ống nhựa (PVC) Ø60, không có máy bơm điện, đầu bơm tay, nền giếng. Chiều sâu > 8m ÷ ≤ 12m | G67: m | H67: 12 | I67: 1998 | J67: 0 | K67: 211000 | L67: =K67*H67*J67 -> 0
A68: 81 | B68: ='Dat-Bieu10'!B111 -> ông Ngô Văn Tín, ông Ngô Văn Sương, bà Ngô Thị Lập, bà Ngô Thị Hồng đồng thừa kế của bà Nguyễn Thị Nơi | L68: =L69 -> 0 | M68: =L68 -> 0 | N68: Xong
A69: =IF(B69="","",SUBTOTAL(3,$B$8:B69)) | C69: 1 | D69: 572 | E69: LUC | F69: Giếng đóng bằng ống nhựa (PVC) Ø60, không có máy bơm điện, đầu bơm tay, nền giếng. Chiều sâu 15m | G69: m | H69: 15 | I69: 2000 | J69: 0 | K69: 211000 | L69: =K69*H69*J69 -> 0
A70: 83 | B70: ='Dat-Bieu10'!B113 -> bà Nguyễn Thị Châu, bà Ngô Thị Bích Trâm, ông Ngô Văn Vinh, ông Ngô Vinh Quang đồng thừa kế của ông Ngô Văn Ngữ | L70: =SUM(L71:L73) -> 0 | M70: =L70 -> 0 | N70: Xong
A71: =IF(B71="","",SUBTOTAL(3,$B$8:B71)) | C71: 1 | D71: 382 | E71: LUC | F71: Giếng đóng bằng ống nhựa (PVC) Ø60, không có máy bơm điện, đầu bơm tay, nền giếng. Chiều sâu > 8m ÷ ≤ 12m | G71: m | H71: 12 | I71: 1998 | J71: 0 | K71: 211000 | L71: =K71*H71*J71 -> 0
A72: =IF(B72="","",SUBTOTAL(3,$B$8:B72)) | C72: 1 | D72: 415 | E72: LUC | F72: Giếng đóng bằng ống nhựa (PVC) Ø60, không có máy bơm điện, đầu bơm tay, nền giếng. Chiều sâu > 8m ÷ ≤ 12m | G72: m | H72: 12 | I72: 1998 | J72: 0 | K72: 211000 | L72: =K72*H72*J72 -> 0
A73: =IF(B73="","",SUBTOTAL(3,$B$8:B73)) | C73: 1 | D73: 548 | E73: LUC | F73: Giếng đóng bằng ống nhựa (PVC) Ø60, không có máy bơm điện, đầu bơm tay, nền giếng. Chiều sâu > 8m ÷ ≤ 12m | G73: m | H73: 12 | I73: 1998 | J73: 0 | K73: 211000 | L73: =K73*H73*J73 -> 0
A74: 87 | B74: ='Dat-Bieu10'!B118 -> hộ ông Trần Bình Phục | L74: =L75 -> 0 | M74: =L74 -> 0 | N74: Xong
A75: =IF(B75="","",SUBTOTAL(3,$B$8:B75)) | C75: 1 | D75: 308 | E75: LUC | F75: Giếng đóng bằng ống nhựa (PVC) Ø60, không có máy bơm điện, đầu bơm tay, nền giếng. Chiều sâu > 8m ÷ ≤ 12m | G75: m | H75: 9 | I75: 2012 | J75: 0 | K75: 211000 | L75: =K75*H75*J75 -> 0
A76: 92 | B76: ='Dat-Bieu10'!B123 -> bà Nguyễn Thị Lựu, ông Ngô Văn Hà, ông Ngô Văn Hải, bà Ngô Thị Hưng, ông Ngô Văn Hạng, bà Ngô Thị Hằng đồng thừa kế của ông Ngô Thanh Sơn | L76: =SUM(L77:L78) -> 0 | M76: =L76 -> 0 | N76: Xong
A77: =IF(B77="","",SUBTOTAL(3,$B$8:B77)) | C77: 1 | D77: 764 | E77: LUC | F77: Giếng đóng bằng ống nhựa (PVC) Ø60, không có máy bơm điện, đầu bơm tay, nền giếng. Chiều sâu > 8m ÷ ≤ 12m | G77: m | H77: 12 | I77: 1998 | J77: 0 | K77: 211000 | L77: =K77*H77*J77 -> 0
A78: =IF(B78="","",SUBTOTAL(3,$B$8:B78)) | C78: 1 | D78: 569 | E78: LUC | F78: Giếng đóng bằng ống nhựa (PVC) Ø60, không có máy bơm điện, đầu bơm tay, nền giếng. Chiều sâu > 8m ÷ ≤ 12m | G78: m | H78: 12 | I78: 1998 | J78: 0 | K78: 211000 | L78: =K78*H78*J78 -> 0
A79: 95 | B79: Hộ ông Nguyễn Bá Thống và bà Nguyễn Thị Bông | L79: =L80 -> 0 | M79: =L79 -> 0 | N79: Xong
A80: =IF(B80="","",SUBTOTAL(3,$B$8:B80)) | C80: 1 | D80: 383 | E80: LUC | F80: Giếng đóng bằng ống nhựa (PVC) Ø60, không có máy bơm điện, đầu bơm tay, nền giếng. Chiều sâu > 8m ÷ ≤ 12m | G80: m | H80: 12 | I80: 1998 | J80: 0 | K80: 211000 | L80: =K80*H80*J80 -> 0
A81: 98 | B81: Hộ ông Trần Ngọc Thơm và bà Nguyễn Thị Đào | L81: =L82 -> 0 | M81: =L81 -> 0 | N81: Xong
A82: =IF(B82="","",SUBTOTAL(3,$B$8:B82)) | C82: 1 | D82: 509 | E82: LUC | F82: Giếng đóng bằng ống nhựa (PVC) Ø60, không có máy bơm điện, đầu bơm tay, nền giếng. Chiều sâu > 8m ÷ ≤ 12m | G82: m | H82: 12 | I82: 2000 | J82: 0 | K82: 211000 | L82: =K82*H82*J82 -> 0
A83: 102 | B83: ='Dat-Bieu10'!B142 -> ông Phùng Đình Thung, ông Phùng Đình Trường, bà Phùng Thị Ân, ông Phùng Đình Toàn, ông Phùng Đình Chiến, bà Phùng Thị Ánh Diệu, bà Phùng Thị Lệ Hằng, ông Phùng Đình Dụng đồng thừa kế của bà Ngô Thị Cán | L83: =L84 -> 0 | M83: =L83 -> 0 | N83: Xong
A84: =IF(B84="","",SUBTOTAL(3,$B$8:B84)) | C84: 1 | D84: 267 | E84: LUC | F84: Giếng đóng bằng ống nhựa (PVC) Ø60, không có máy bơm điện, đầu bơm tay, nền giếng. Chiều sâu > 8m ÷ ≤ 12m | G84: m | H84: 12 | I84: 1998 | J84: 0 | K84: 211000 | L84: =K84*H84*J84 -> 0
A85: 110 | B85: ông Lê Thanh Truyền và bà Nguyễn Thị Vũ Hạnh | L85: =L86 -> 0 | M85: =L85 -> 0 | N85: xong
A86: =IF(B86="","",SUBTOTAL(3,$B$8:B86)) | C86: 1 | D86: 459 | E86: LUC | F86: Giếng đóng bằng ống nhựa (PVC) Ø60. Chiều sâu 13m. | G86: m | H86: 13 | I86: 2000 | J86: 0 | K86: 211000 | L86: =K86*H86*J86 -> 0
A87: 116 | B87: Hộ ông Lê Hồng Tía và bà Đỗ Thị Lam | L87: =SUM(L88:L90) -> 0 | M87: =L87 -> 0 | N87: xong
A88: =IF(B88="","",SUBTOTAL(3,$B$8:B88)) | C88: 1 | D88: 311 | E88: LUC | F88: Giếng đóng bằng ống nhựa (PVC) Ø60, không có máy bơm điện, đầu bơm tay, nền giếng. Chiều sâu > 8m ÷ ≤ 12m | G88: m | H88: 11 | I88: 1998 | J88: 0 | K88: 211000 | L88: =K88*H88*J88 -> 0
A89: =IF(B89="","",SUBTOTAL(3,$B$8:B89)) | C89: 1 | D89: 501 | E89: LUC | F89: Giếng đóng bằng ống nhựa (PVC) Ø60, không có máy bơm điện, đầu bơm tay, nền giếng. Chiều sâu > 8m ÷ ≤ 12m | G89: m | H89: 11 | I89: 1998 | J89: 0 | K89: 211000 | L89: =K89*H89*J89 -> 0
A90: =IF(B90="","",SUBTOTAL(3,$B$8:B90)) | C90: 1 | D90: 767 | E90: LUC | F90: Giếng đóng bằng ống nhựa (PVC) Ø60, không có máy bơm điện, đầu bơm tay, nền giếng. Chiều sâu > 8m ÷ ≤ 12m | G90: m | H90: 11 | I90: 1998 | J90: 0 | K90: 211000 | L90: =K90*H90*J90 -> 0
A91: 117 | B91: Hộ ông Huỳnh Tám và bà Ngô Thị Trầm | L91: =L92 -> 0 | M91: =L91 -> 0 | N91: xong
A92: =IF(B92="","",SUBTOTAL(3,$B$8:B92)) | C92: 1 | D92: 550 | E92: LUC | F92: Giếng đóng bằng ống nhựa (PVC) Ø60, không có máy bơm điện, đầu bơm tay, nền giếng. Chiều sâu > 8m ÷ ≤ 12m | G92: m | H92: 12 | I92: 2009 | J92: 0 | K92: 211000 | L92: =K92*H92*J92 -> 0
A93: 121 | B93: Hộ ông Nguyễn Văn Xừ và bà Phùng Thị Yến | L93: =L94 -> 0 | M93: =L93 -> 0 | N93: xong
A94: =IF(B94="","",SUBTOTAL(3,$B$8:B94)) | C94: 1 | D94: 579 | E94: LUC | F94: Giếng đóng bằng ống nhựa (PVC) Ø60, không có máy bơm điện, đầu bơm tay, nền giếng. Chiều sâu > 8m ÷ ≤ 12m | G94: m | H94: 12 | I94: 2010 | J94: 0 | K94: 211000 | L94: =K94*H94*J94 -> 0
A95: 123 | B95: ='Dat-Bieu10'!B173 -> ông Ngô Đức Nghĩa, ông Ngô Thanh Bình, bà Ngô Thị Kim Minh, bà Ngô Thị Mỹ Hạnh đồng thừa kế của bà Nguyễn Thị Vân | L95: =L96 -> 0 | M95: =L95 -> 0 | N95: Xong
A96: =IF(B96="","",SUBTOTAL(3,$B$8:B96)) | C96: 1 | D96: 483 | E96: LUC | F96: Giếng đóng bằng ống nhựa (PVC) Ø60. Chiều sâu > 8m ÷ ≤ 12m | G96: m | H96: 12 | I96: 1998 | J96: 0 | K96: 211000 | L96: =K96*H96*J96 -> 0
A97: 129 | B97: ='Dat-Bieu10'!B181 -> bà Nguyễn Thị Bé, ông Nguyễn Văn Bảo, bà Nguyễn Thị Kim Chi, ông Nguyễn Văn Tấn đồng hàng thừa kế của ông Nguyễn Hậu | L97: =L98 -> 0 | M97: =L97 -> 0 | N97: xong
A98: =IF(B98="","",SUBTOTAL(3,$B$8:B98)) | C98: 1 | D98: 446 | E98: LUC | F98: Giếng đóng bằng ống nhựa (PVC) Ø60, không có máy bơm điện, đầu bơm tay, nền giếng. Chiều sâu > 8m ÷ ≤ 12m | G98: m | H98: 12 | I98: 1998 | J98: 0 | K98: 211000 | L98: =K98*H98*J98 -> 0
A99: 133 | B99: ='Dat-Bieu10'!B185 -> Hộ ông Nguyễn Cho và bà Nguyễn Thị Lộc | L99: =L100 -> 0 | M99: =L99 -> 0 | N99: Kiểm tra lại
A100: =IF(B100="","",SUBTOTAL(3,$B$8:B100)) | C100: 1 | D100: 720 | E100: LUC | F100: Giếng đóng bằng ống nhựa (PVC) Ø60, không có máy bơm điện, đầu bơm tay, nền giếng. Chiều sâu > 8m ÷ ≤ 12m | G100: m | H100: 12 | I100: 1998 | J100: 0 | K100: 211000 | L100: =K100*H100*J100 -> 0
A101: 137 | B101: ='Dat-Bieu10'!B190 -> ông Ngô Chớ, bà Ngô Thị Bưởi, ông Ngô Văn Hồng, bà Ngô Thị Sanh, ông Ngô Thanh Lòng, bà Ngô Thị Liên đồng thừa kế của bà Lê Thị Bòng | L101: =L102 -> 0 | M101: =L101 -> 0 | N101: Xong
A102: =IF(B102="","",SUBTOTAL(3,$B$8:B102)) | C102: 1 | D102: 463 | E102: LUC | F102: Giếng đóng bằng ống nhựa (PVC) Ø60, không có máy bơm điện, đầu bơm tay, nền giếng. Chiều sâu 15m | G102: m | H102: 15 | I102: 2000 | J102: 0 | K102: 211000 | L102: =K102*H102*J102 -> 0
...

Sheet cây cối
L1: (Biểu số 12)
A2: BẢNG TÍNH CHI TIẾT GIÁ TRỊ BỒI THƯỜNG, HỖ TRỢ CÂY CỐI, HOA MÀU CỦA HỘ GIA ĐÌNH, CÁ NHÂN DỰ ÁN: KHU ĐÔ THỊ BẮC SA HUỲNH (ĐỢT 1)
A3: TT | B3: Họ và tên | C3: Số lượng theo thực tế kiểm kê | I3: Số lượng được bồi thường, hỗ trợ theo quy định | M3: Tổng cộng (đồng)
C4: Chủng lọai, quy cách cây trồng | D4: Đơn vị tính | E4: Số lượng kiểm kê | F4: Số thửa | G4: Tờ bản đồ | H4: Loại đất | I4: Số lượng | J4: Đơn giá | K4: Tỷ lệ bồi thường, hỗ trợ (%) | L4: Thành tiền (đồng)
A6: I | B6: Tổ dân phố Tân Diêm
A7: 1 | B7: ='Dat-Bieu10'!B7 -> bà Nguyễn Thị Ai, bà Ngô Thị Ánh, ông Ngô Văn Bình, ông Ngô Văn Minh, bà Ngô Thị Diệu, bà Ngô Thị Hòa, bà Ngô Thị Lan, ông Ngô Văn Sang đồng thừa kế của ông Ngô Đức Tâm | L7: =SUM(L8:L9) -> 8142600 | M7: =L7 -> 8142600
C8: Lúa | D8: m² | E8: 746 | F8: 1423 | G8: 1 | H8: LUC | I8: =E8 -> 746 | J8: =VLOOKUP(C8,'[183]giá cây'!$B$3:$D$732,3,0) -> 4100 | K8: 1 | L8: =I8*J8*K8 -> 3058600
C9: Lúa | D9: m² | E9: 1240 | F9: 310 | G9: 1 | H9: LUC | I9: =E9 -> 1240 | J9: =VLOOKUP(C9,'[183]giá cây'!$B$3:$D$732,3,0) -> 4100 | K9: 1 | L9: =I9*J9*K9 -> 5084000
A10: 3 | B10: Hộ bà Trần Thị Bế | L10: =SUM(L11) -> 1951600 | M10: =L10 -> 1951600
C11: Lúa | D11: m² | E11: 476 | F11: 874 | G11: 1 | H11: LUC | I11: =E11 -> 476 | J11: =VLOOKUP(C11,'[183]giá cây'!$B$3:$D$732,3,0) -> 4100 | K11: 1 | L11: =I11*J11*K11 -> 1951600
A12: 4 | B12: Hộ bà Phạm Thị Bông | L12: =SUM(L13) -> 2259100 | M12: =L12 -> 2259100
C13: Lúa | D13: m² | E13: 551 | F13: 443 | G13: 1 | H13: LUC | I13: =E13 -> 551 | J13: =VLOOKUP(C13,'[183]giá cây'!$B$3:$D$732,3,0) -> 4100 | K13: 1 | L13: =I13*J13*K13 -> 2259100
A14: 5 | B14: Hộ bà Ngô Thị Bình | L14: =SUM(L15) -> 1435000 | M14: =L14 -> 1435000
C15: Lúa | D15: m² | E15: 350 | F15: 506 | G15: 1 | H15: LUC | I15: =E15 -> 350 | J15: =VLOOKUP(C15,'[183]giá cây'!$B$3:$D$732,3,0) -> 4100 | K15: 1 | L15: =I15*J15*K15 -> 1435000
A16: 7 | B16: Hộ ông Ngô Văn Bình và bà Nguyễn Thị Tho | L16: =SUM(L17) -> 1033200 | M16: =L16 -> 1033200
C17: Lúa | D17: m² | E17: 252 | F17: 546 | G17: 1 | H17: LUC | I17: =E17 -> 252 | J17: =VLOOKUP(C17,'[183]giá cây'!$B$3:$D$732,3,0) -> 4100 | K17: 1 | L17: =I17*J17*K17 -> 1033200
A18: 8 | B18: hộ bà Phùng Thị Bình | L18: =SUM(L19) -> 4112300 | M18: =L18 -> 4112300
C19: Lúa | D19: m² | E19: 1003 | F19: 975 | G19: 1 | H19: LUC | I19: =E19 -> 1003 | J19: =VLOOKUP(C19,'[183]giá cây'!$B$3:$D$732,3,0) -> 4100 | K19: 1 | L19: =I19*J19*K19 -> 4112300
A20: 9 | B20: ông Trần Văn Bình và bà Trương Thị Hồng Hoa | L20: =SUM(L21:L22) -> 4965800 | M20: =L20 -> 4965800
C21: Lúa | D21: m² | E21: 1100 | F21: 1444 | G21: 1 | H21: LUC | I21: =E21 -> 1100 | J21: =VLOOKUP(C21,'[183]giá cây'!$B$3:$D$732,3,0) -> 4100 | K21: 1 | L21: =I21*J21*K21 -> 4510000
C22: Cây khoai lang lấy củ | D22: m² | E22: 106 | F22: 1072 | G22: 1 | H22: HNK | I22: =E22 -> 106 | J22: =VLOOKUP(C22,'[183]giá cây'!$B$3:$D$732,3,0) -> 4300 | K22: 1 | L22: =I22*J22*K22 -> 455800
A23: 10 | B23: ='Dat-Bieu10'!B16 -> bà Võ Thị Kim Oanh, ông Nguyễn Trọng Chương, ông Nguyễn Trọng Vương, ông Nguyễn Trọng Linh, ông Nguyễn Trọng Thủ, ông Nguyễn Trọng Lộc, bà Nguyễn Thị Bích Hậu đồng thừa kế của ông Nguyễn Anh Bản | L23: =SUM(L24:L25) -> 5207000 | M23: =L23 -> 5207000
C24: Lúa | D24: m² | E24: 540 | F24: 605 | G24: 1 | H24: LUC | I24: =E24 -> 540 | J24: =VLOOKUP(C24,'[183]giá cây'!$B$3:$D$732,3,0) -> 4100 | K24: 1 | L24: =I24*J24*K24 -> 2214000
C25: Lúa | D25: m² | E25: 730 | F25: 451 | G25: 1 | H25: LUC | I25: =E25 -> 730 | J25: =VLOOKUP(C25,'[183]giá cây'!$B$3:$D$732,3,0) -> 4100 | K25: 1 | L25: =I25*J25*K25 -> 2993000
A26: 12 | B26: Hộ ông Ngô Văn Chinh và bà Lê Thị Tâm | L26: =SUM(L27) -> 1734300 | M26: =L26 -> 1734300
C27: Lúa | D27: m² | E27: 423 | F27: 213 | G27: 1 | H27: LUC | I27: =E27 -> 423 | J27: =VLOOKUP(C27,'[183]giá cây'!$B$3:$D$732,3,0) -> 4100 | K27: 1 | L27: =I27*J27*K27 -> 1734300
A28: 14 | B28: ông Lê Thành Công và bà Lê Thị Trịnh | L28: 0 | M28: =L28 -> 0
A29: 15 | B29: Hộ ông Lê Thành Công và bà Lê Thị Trịnh | L29: =SUM(L30) -> 1976200 | M29: =L29 -> 1976200
C30: Lúa | D30: m² | E30: 482 | F30: 834 | G30: 1 | H30: LUC | I30: =E30 -> 482 | J30: =VLOOKUP(C30,'[183]giá cây'!$B$3:$D$732,3,0) -> 4100 | K30: 1 | L30: =I30*J30*K30 -> 1976200
A31: 16 | B31: ='Dat-Bieu10'!B21 -> ông Phùng Đình Vân, ông Phùng Đình Trung, ông Phùng Đình Tâm, ông Phùng Đình Bảo, ông Phùng Đình Toàn, ông Phùng Đình Khanh, ông Phùng Thanh Hiếu đồng thừa kế của ông Phùng Đình Chánh và bà Trần Thị Tự | L31: =SUM(L32:L39) -> 12105400 | M31: =L31 -> 12105400
C32: Dừa cây mới trồng | D32: cây | E32: 6 | F32: 747 | G32: 1 | H32: HNK | I32: =E32 -> 6 | J32: =VLOOKUP(C32,[184]Sheet2!$B$2:$D$732,3,0) -> 85000 | K32: 0 | L32: =I32*J32*K32 -> 0
C33: Dừa cây đã cho quả | D33: cây | E33: 4 | F33: 747 | G33: 1 | H33: HNK | I33: =E33 -> 4 | J33: =VLOOKUP(C33,[184]Sheet2!$B$2:$D$732,3,0) -> 900000 | K33: 0.3 | L33: =I33*J33*K33 -> 1080000
C34: Tre thường cây xanh chưa già | D34: cây | E34: 17 | F34: 747 | G34: 1 | H34: HNK | I34: =E34 -> 17 | J34: =VLOOKUP(C34,[184]Sheet2!$B$2:$D$732,3,0) -> 50000 | K34: 0.3 | L34: =I34*J34*K34 -> 255000
C35: Tre thường cây già sử dụng được | D35: cây | E35: 35 | F35: 747 | G35: 1 | H35: HNK | I35: =E35 -> 35 | J35: =VLOOKUP(C35,[184]Sheet2!$B$2:$D$732,3,0) -> 100000 | K35: 0.3 | L35: =I35*J35*K35 -> 1050000
C36: Bạch đàn cây có đường kính gốc > 8cm đến ≤ 12cm | D36: cây | E36: 11 | F36: 747 | G36: 1 | H36: HNK | I36: =E36 -> 11 | J36: =VLOOKUP(C36,[184]Sheet2!$B$2:$D$732,3,0) -> 136000 | K36: 0.3 | L36: =I36*J36*K36 -> 448800
C37: Bạch đàn cây có đường kính gốc > 12cm đến ≤ 16cm | D37: cây | E37: 8 | F37: 747 | G37: 1 | H37: HNK | I37: =E37 -> 8 | J37: =VLOOKUP(C37,[184]Sheet2!$B$2:$D$732,3,0) -> 180000 | K37: 0.3 | L37: =I37*J37*K37 -> 432000
C38: Lúa | D38: m² | E38: 1236 | F38: 64 | G38: 1 | H38: LUC | I38: =E38 -> 1236 | J38: =VLOOKUP(C38,'[183]giá cây'!$B$3:$D$732,3,0) -> 4100 | K38: 1 | L38: =I38*J38*K38 -> 5067600
C39: Lúa | D39: m² | E39: 920 | F39: 11 | G39: 1 | H39: LUC | I39: =E39 -> 920 | J39: =VLOOKUP(C39,'[183]giá cây'!$B$3:$D$732,3,0) -> 4100 | K39: 1 | L39: =I39*J39*K39 -> 3772000
A40: 19 | B40: Hộ ông Trần Văn Cứ và bà Nguyễn Thị Rùa | L40: =SUM(L41:L42) -> 9192200 | M40: =L40 -> 9192200
C41: Lúa | D41: m² | E41: 884 | F41: 228 | G41: 1 | H41: LUC | I41: =E41 -> 884 | J41: =VLOOKUP(C41,'[183]giá cây'!$B$3:$D$732,3,0) -> 4100 | K41: 1 | L41: =I41*J41*K41 -> 3624400
C42: Lúa | D42: m² | E42: ='Dat-Bieu10'!I26 -> 1358 | F42: 431 | G42: 1 | H42: LUC | I42: =E42 -> 1358 | J42: =VLOOKUP(C42,'[183]giá cây'!$B$3:$D$732,3,0) -> 4100 | K42: 1 | L42: =I42*J42*K42 -> 5567800
A43: 20 | B43: ông Trần Văn Cứ bà Nguyễn Thị Rùa | L43: =SUM(L44:L44) -> 2283700 | M43: =L43 -> 2283700
C44: Lúa | D44: m² | E44: 557 | F44: 246 | G44: 1 | H44: LUC | I44: =E44 -> 557 | J44: =VLOOKUP(C44,'[183]giá cây'!$B$3:$D$732,3,0) -> 4100 | K44: 1 | L44: =I44*J44*K44 -> 2283700
A45: 21 | B45: ông Ngô Văn Chiêm và bà Phùng Thị Xuyến | L45: 0 | M45: =L45 -> 0
A46: 22 | B46: Hộ ông Ngô Văn Chiêm và bà Phùng Thị Xuyến | L46: =SUM(L47) -> 2082800 | M46: =L46 -> 2082800
C47: Lúa | D47: m² | E47: 508 | F47: 1624 | G47: 1 | H47: LUC | I47: =E47 -> 508 | J47: =VLOOKUP(C47,'[183]giá cây'!$B$3:$D$732,3,0) -> 4100 | K47: 1 | L47: =I47*J47*K47 -> 2082800
A48: 23 | B48: Hộ ông Ngô Hữu Chí và bà Nguyễn Thị Lương | L48: =SUM(L49) -> 4489500 | M48: =L48 -> 4489500
C49: Lúa | D49: m² | E49: 1095 | F49: 66 | G49: 1 | H49: LUC | I49: =E49 -> 1095 | J49: =VLOOKUP(C49,'[183]giá cây'!$B$3:$D$732,3,0) -> 4100 | K49: 1 | L49: =I49*J49*K49 -> 4489500
A50: 24 | B50: ='Dat-Bieu10'!B32 -> ông Lê Thành Công, bà Lê Thị Phi, bà Lê Thị Nguyệt, ông Lê Thanh Dân, ông Lê Đức Phước, bà Lê Thị Đức, ông Lê Văn Toàn, bà Lê Thị Oanh đồng thừa kế của ông Lê Cát và bà Nguyễn Thị Sáu | L50: =SUM(L51:L52) -> 5986000 | M50: =L50 -> 5986000
C51: Lúa | D51: m² | E51: 104 | F51: 1591 | G51: 1 | H51: LUC | I51: =E51 -> 104 | J51: =VLOOKUP(C51,'[183]giá cây'!$B$3:$D$732,3,0) -> 4100 | K51: 1 | L51: =I51*J51*K51 -> 426400
C52: Lúa | D52: m² | E52: 1356 | F52: 1592 | G52: 1 | H52: LUC | I52: =E52 -> 1356 | J52: =VLOOKUP(C52,'[183]giá cây'!$B$3:$D$732,3,0) -> 4100 | K52: 1 | L52: =I52*J52*K52 -> 5559600
A53: 25 | B53: Hộ ông Ngô Văn Chiền và bà Phạm Thị Gái | L53: =SUM(L54) -> 2423100 | M53: =L53 -> 2423100
C54: Lúa | D54: m² | E54: 591 | F54: 605 | G54: 1 | H54: LUC | I54: =E54 -> 591 | J54: =VLOOKUP(C54,'[183]giá cây'!$B$3:$D$732,3,0) -> 4100 | K54: 1 | L54: =I54*J54*K54 -> 2423100
A55: 26 | B55: ='Dat-Bieu10'!B35 -> bà Phùng Thị Chí, ông Trần Trọng Nghĩa, bà Trần Thị Kim Loan, ông Trần Đức Phụng, bà Trần Thị Mỹ Hạnh đồng thừa kế của ông Trần Mỉa | L55: =SUM(L56) -> 7298000 | M55: =L55 -> 7298000
C56: Lúa | D56: m² | E56: 1780 | F56: 107 | G56: 1 | H56: LUC | I56: =E56 -> 1780 | J56: =VLOOKUP(C56,'[183]giá cây'!$B$3:$D$732,3,0) -> 4100 | K56: 1 | L56: =I56*J56*K56 -> 7298000
A57: 27 | B57: hộ ông Trần Trung Dũng và bà Nguyễn Thị Cúc | L57: =SUM(L58:L59) -> 7318500 | M57: =L57 -> 7318500
C58: Lúa | D58: m² | E58: 920 | F58: 379 | G58: 1 | H58: LUC | I58: =E58 -> 920 | J58: =VLOOKUP(C58,'[183]giá cây'!$B$3:$D$732,3,0) -> 4100 | K58: 1 | L58: =I58*J58*K58 -> 3772000
C59: Lúa | D59: m² | E59: 865 | F59: 449 | G59: 1 | H59: LUC | I59: =E59 -> 865 | J59: =VLOOKUP(C59,'[183]giá cây'!$B$3:$D$732,3,0) -> 4100 | K59: 1 | L59: =I59*J59*K59 -> 3546500
A60: 28 | B60: Hộ ông Phùng Đình Duy và bà Ngô Thị Hường | L60: =SUM(L61) -> 3616200 | M60: =L60 -> 3616200
C61: Lúa | D61: m² | E61: 882 | F61: 892 | G61: 1 | H61: LUC | I61: =E61 -> 882 | J61: =VLOOKUP(C61,'[183]giá cây'!$B$3:$D$732,3,0) -> 4100 | K61: 1 | L61: =I61*J61*K61 -> 3616200
A62: 30 | B62: Hộ ông Đào Văn Đỗi và bà Lê Thị Sông | L62: =SUM(L63) -> 2209900 | M62: =L62 -> 2209900
C63: Lúa | D63: m² | E63: 539 | F63: 508 | G63: 1 | H63: LUC | I63: =E63 -> 539 | J63: =VLOOKUP(C63,'[183]giá cây'!$B$3:$D$732,3,0) -> 4100 | K63: 1 | L63: =I63*J63*K63 -> 2209900
A64: 31 | B64: Hộ bà Ngô Thị Đài | L64: =SUM(L65) -> 3858100 | M64: =L64 -> 3858100
C65: Lúa | D65: m² | E65: 941 | F65: 414 | G65: 1 | H65: LUC | I65: =E65 -> 941 | J65: =VLOOKUP(C65,'[183]giá cây'!$B$3:$D$732,3,0) -> 4100 | K65: 1 | L65: =I65*J65*K65 -> 3858100
A66: 35 | B66: Hộ ông Nguyễn Tấn Đức và bà Trần Thị Ngọc Anh | L66: =SUM(L67) -> 6519000 | M66: =L66 -> 6519000
C67: Lúa | D67: m² | E67: 1590 | F67: 214 | G67: 1 | H67: LUC | I67: =E67 -> 1590 | J67: =VLOOKUP(C67,'[183]giá cây'!$B$3:$D$732,3,0) -> 4100 | K67: 1 | L67: =I67*J67*K67 -> 6519000
A68: 37 | B68: ='Dat-Bieu10'!B42 -> bà Võ Thị Hường, ông Phùng Đình Thích, bà Phùng Thị Trinh, bà Phùng Thị Đậm, bà Phùng Thị Được, ông Phùng Đình Lắm đồng thừa kế của ông Phùng Đình Kích | L68: =SUM(L69:L70) -> 8843700 | M68: =L68 -> 8843700
C69: Lúa | D69: m² | E69: 1059 | F69: 65 | G69: 1 | H69: LUC | I69: =E69 -> 1059 | J69: =VLOOKUP(C69,'[183]giá cây'!$B$3:$D$732,3,0) -> 4100 | K69: 1 | L69: =I69*J69*K69 -> 4341900
C70: Lúa | D70: m² | E70: 1098 | F70: 108 | G70: 1 | H70: LUC | I70: =E70 -> 1098 | J70: =VLOOKUP(C70,'[183]giá cây'!$B$3:$D$732,3,0) -> 4100 | K70: 1 | L70: =I70*J70*K70 -> 4501800
A71: 38 | B71: Hộ ông Ngô Quang Hiền và bà Võ Thị Ngãnh | L71: =SUM(L72:L73) -> 7187300 | M71: =L71 -> 7187300
C72: Lúa | D72: m² | E72: 442 | F72: 504 | G72: 1 | H72: LUC | I72: =E72 -> 442 | J72: =VLOOKUP(C72,'[183]giá cây'!$B$3:$D$732,3,0) -> 4100 | K72: 1 | L72: =I72*J72*K72 -> 1812200
C73: Lúa | D73: m² | E73: 1311 | F73: 492 | G73: 1 | H73: LUC | I73: =E73 -> 1311 | J73: =VLOOKUP(C73,'[183]giá cây'!$B$3:$D$732,3,0) -> 4100 | K73: 1 | L73: =I73*J73*K73 -> 5375100
A74: 39 | B74: Hộ ông Phạm Hùng và bà Nguyễn Thị Ngọc | L74: =SUM(L75:L76) -> 3726900 | M74: =L74 -> 3726900
C75: Lúa | D75: m² | E75: 298 | F75: 570 | G75: 1 | H75: LUC | I75: =E75 -> 298 | J75: =VLOOKUP(C75,'[183]giá cây'!$B$3:$D$732,3,0) -> 4100 | K75: 1 | L75: =I75*J75*K75 -> 1221800
C76: Lúa | D76: m² | E76: 611 | F76: 441 | G76: 1 | H76: LUC | I76: =E76 -> 611 | J76: =VLOOKUP(C76,'[183]giá cây'!$B$3:$D$732,3,0) -> 4100 | K76: 1 | L76: =I76*J76*K76 -> 2505100
A77: 40 | B77: Hộ ông Nguyễn Hiệp và bà Nguyễn Thị Bi | L77: =SUM(L78) -> 3796600 | M77: =L77 -> 3796600
C78: Lúa | D78: m² | E78: 926 | F78: 848 | G78: 1 | H78: LUC | I78: =E78 -> 926 | J78: =VLOOKUP(C78,'[183]giá cây'!$B$3:$D$732,3,0) -> 4100 | K78: 1 | L78: =I78*J78*K78 -> 3796600
A79: 41 | B79: Hộ ông Ngô Tấn Hồng và bà Phùng Thị Hoa | L79: =SUM(L80:L81) -> 9372600 | M79: =L79 -> 9372600
C80: Lúa | D80: m² | E80: 1820 | F80: 394 | G80: 1 | H80: LUC | I80: =E80 -> 1820 | J80: =VLOOKUP(C80,'[183]giá cây'!$B$3:$D$732,3,0) -> 4100 | K80: 1 | L80: =I80*J80*K80 -> 7462000
C81: Lúa | D81: m² | E81: 466 | F81: 547 | G81: 1 | H81: LUC | I81: =E81 -> 466 | J81: =VLOOKUP(C81,'[183]giá cây'!$B$3:$D$732,3,0) -> 4100 | K81: 1 | L81: =I81*J81*K81 -> 1910600
A82: 42 | B82: ông Võ Thanh Hồng | L82: =SUM(L83) -> 7240600 | M82: =L82 -> 7240600
C83: Lúa | D83: m² | E83: 1766 | F83: 146 | G83: 1 | H83: LUC | I83: =E83 -> 1766 | J83: =VLOOKUP(C83,'[183]giá cây'!$B$3:$D$732,3,0) -> 4100 | K83: 1 | L83: =I83*J83*K83 -> 7240600
A84: 43 | B84: Hộ ông Trần Hồng và bà Ngô Thị Lập | L84: =SUM(L85:L86) -> 7580900 | M84: =L84 -> 7580900
C85: Lúa | D85: m² | E85: 1212 | F85: 313 | G85: 1 | H85: LUC | I85: =E85 -> 1212 | J85: =VLOOKUP(C85,'[183]giá cây'!$B$3:$D$732,3,0) -> 4100 | K85: 1 | L85: =I85*J85*K85 -> 4969200
C86: Lúa | D86: m² | E86: 637 | F86: 423 | G86: 1 | H86: LUC | I86: =E86 -> 637 | J86: =VLOOKUP(C86,'[183]giá cây'!$B$3:$D$732,3,0) -> 4100 | K86: 1 | L86: =I86*J86*K86 -> 2611700
A87: 45 | B87: Hộ ông Nguyễn Tấn Hiền và bà Lê Thị Kim Nhung | L87: =SUM(L88:L89) -> 3127890 | M87: =L87 -> 3127890
C88: Lúa | D88: m² | E88: 711.7 | F88: 1606 | G88: 1 | H88: LUC | I88: =E88 -> 711.7 | J88: =VLOOKUP(C88,'[183]giá cây'!$B$3:$D$732,3,0) -> 4100 | K88: 1 | L88: =I88*J88*K88 -> 2917970
C89: Lúa | D89: m² | E89: 51.2 | F89: 1607 | G89: 1 | H89: LUC | I89: =E89 -> 51.2 | J89: =VLOOKUP(C89,'[183]giá cây'!$B$3:$D$732,3,0) -> 4100 | K89: 1 | L89: =I89*J89*K89 -> 209920
A90: 46 | B90: Hộ bà Nguyễn Thị Hữu | L90: =SUM(L91:L92) -> 5540740 | M90: =L90 -> 5540740
C91: Lúa | D91: m² | E91: 985.9 | F91: 1589 | G91: 1 | H91: LUC | I91: =E91 -> 985.9 | J91: =VLOOKUP(C91,'[183]giá cây'!$B$3:$D$732,3,0) -> 4100 | K91: 1 | L91: =I91*J91*K91 -> 4042190
C92: Lúa | D92: m² | E92: 365.5 | F92: 1590 | G92: 1 | H92: LUC | I92: =E92 -> 365.5 | J92: =VLOOKUP(C92,'[183]giá cây'!$B$3:$D$732,3,0) -> 4100 | K92: 1 | L92: =I92*J92*K92 -> 1498550
A93: 47 | B93: ông Phùng Đình Hoa và bà Trần Thị Mai | L93: =SUM(L94:L94) -> 1831500 | M93: =L93 -> 1831500
C94: Cây lạc | D94: m² | E94: 333 | F94: 68 | G94: 1 | H94: HNK | I94: =E94 -> 333 | J94: =VLOOKUP(C94,'[183]giá cây'!$B$3:$D$732,3,0) -> 5500 | K94: 1 | L94: =I94*J94*K94 -> 1831500
A95: 50 | B95: Hộ bà Phùng Thị Hương và ông Huỳnh Phú | L95: =SUM(L96:L96) -> 6998700 | M95: =L95 -> 6998700
C96: Lúa | D96: m² | E96: 1707 | F96: 265 | G96: 1 | H96: LUC | I96: =E96 -> 1707 | J96: =VLOOKUP(C96,'[183]giá cây'!$B$3:$D$732,3,0) -> 4100 | K96: 1 | L96: =I96*J96*K96 -> 6998700
A97: 51 | B97: ='Dat-Bieu10'!B61 -> ông Ngô Lá, bà Ngô Thị Thu, ông Ngô Văn Toàn, ông Ngô Lâm đồng thừa kế của bà Trần Thị Hoàng | L97: =SUM(L98:L98) -> 6338600 | M97: =L97 -> 6338600
C98: Lúa | D98: m² | E98: 1546 | F98: 485 | G98: 1 | H98: LUC | I98: =E98 -> 1546 | J98: =VLOOKUP(C98,'[183]giá cây'!$B$3:$D$732,3,0) -> 4100 | K98: 1 | L98: =I98*J98*K98 -> 6338600
A99: 52 | B99: Hộ ông Nguyễn Văn Hùng và bà Phạm Thị Lựa | L99: =SUM(L100:L100) -> 2378000 | M99: =L99 -> 2378000
C100: Lúa | D100: m² | E100: 580 | F100: 338 | G100: 1 | H100: LUC | I100: =E100 -> 580 | J100: =VLOOKUP(C100,'[183]giá cây'!$B$3:$D$732,3,0) -> 4100 | K100: 1 | L100: =I100*J100*K100 -> 2378000
A101: 54 | B101: Hộ ông Phạm Trọng Hiếu và bà Võ Thị Sáu | L101: =SUM(L102:L102) -> 2853600 | M101: =L101 -> 2853600
...

Sheet hỗ trợ
N1: (Biểu số 13)
A2: BẢNG TÍNH CHI TIẾT CÁC KHOẢN HỖ TRỢ CỦA HỘ GIA ĐÌNH, CÁ NHÂN THUỘC DỰ ÁN: KHU ĐÔ THỊ BẮC SA HUỲNH (ĐỢT 1)
N3: ĐVT: Đồng
A4: Stt | B4: Họ và tên chủ sử dụng đất | C4: Hỗ trợ ổn định đời sống | J4: Hỗ trợ chuyển đổi nghề nghiệp, đào tạo việc làm | N4: TỔNG CỘNG
C5: Tổng diện tích đất nông nghiệp đang sử dụng trên địa bàn phường Sa Huỳnh | D5: Diện tích đất nông nghiệp bị thu hồi | E5: Tỷ lệ (%) đất bị thu hồi | F5: Số nhân khẩu hỗ trợ | G5: Số tháng hỗ trợ | H5: Đơn giá hỗ trợ (đồng) | I5: Thành tiền (đồng) | J5: Diện tích đất bị thu hồi (m2) | K5: Loại đất | L5: Mức hỗ trợ (đồng) | M5: Thành tiền (đồng)
A6: 1 | B6: ='Dat-Bieu10'!B7 -> bà Nguyễn Thị Ai, bà Ngô Thị Ánh, ông Ngô Văn Bình, ông Ngô Văn Minh, bà Ngô Thị Diệu, bà Ngô Thị Hòa, bà Ngô Thị Lan, ông Ngô Văn Sang đồng thừa kế của ông Ngô Đức Tâm | I6: =G6*F6*H6 -> 0 | J6: ='Dat-Bieu10'!I7 -> 746 | K6: ='Dat-Bieu10'!H7 -> LUC | L6: ='Dat-Bieu10'!K7*5 -> 340000 | M6: =L6*J6 -> 253640000 | N6: =I6+M6 -> 253640000
I7: =G7*F7*H7 -> 0 | J7: ='Dat-Bieu10'!I8 -> 1240 | K7: ='Dat-Bieu10'!H8 -> LUC | L7: ='Dat-Bieu10'!K8*5 -> 340000 | M7: =L7*J7 -> 421600000 | N7: =I7+M7 -> 421600000
A8: =MAX(A$6:$B7)+1 -> 2 | B8: ='Dat-Bieu10'!B9 -> Hộ bà Trần Thị Bế | C8: 476 | D8: 476 | E8: =D8/C8*100 -> 100 | F8: 4 | G8: 12 | H8: =30*16333 -> 489990 | I8: =G8*F8*H8 -> 23519520 | J8: ='Dat-Bieu10'!I9 -> 476 | K8: ='Dat-Bieu10'!H9 -> LUC | L8: ='Dat-Bieu10'!K9*5 -> 340000 | M8: =L8*J8 -> 161840000 | N8: =I8+M8 -> 185359520
A9: =MAX(A$6:$B8)+1 -> 3 | B9: ='Dat-Bieu10'!B10 -> Hộ bà Phạm Thị Bông | C9: 551 | D9: 551 | E9: =D9/C9*100 -> 100 | F9: 5 | G9: 12 | H9: =30*16333 -> 489990 | I9: =G9*F9*H9 -> 29399400 | J9: ='Dat-Bieu10'!I10 -> 551 | K9: ='Dat-Bieu10'!H10 -> LUC | L9: ='Dat-Bieu10'!K10*5 -> 340000 | M9: =L9*J9 -> 187340000 | N9: =I9+M9 -> 216739400
A10: =MAX(A$6:$B9)+1 -> 4 | B10: ='Dat-Bieu10'!B11 -> Hộ bà Ngô Thị Bình | C10: 2207.871 | D10: 350 | E10: =D10/C10*100 -> 15.852375 | F10: 5 | G10: 2 | H10: =30*16333 -> 489990 | I10: =G10*F10*H10 -> 4899900 | J10: ='Dat-Bieu10'!I11 -> 350 | K10: ='Dat-Bieu10'!H11 -> LUC | L10: ='Dat-Bieu10'!K11*5 -> 340000 | M10: =L10*J10 -> 119000000 | N10: =I10+M10 -> 123899900
A11: =MAX(A$6:$B10)+1 -> 5 | B11: ='Dat-Bieu10'!B12 -> Hộ ông Ngô Văn Bình và bà Nguyễn Thị Tho | C11: 4357.4327 | D11: 252 | E11: =D11/C11*100 -> 5.7832218 | F11: 5 | G11: 1 | H11: =30*16333 -> 489990 | I11: =G11*F11*H11 -> 2449950 | J11: ='Dat-Bieu10'!I12 -> 252 | K11: ='Dat-Bieu10'!H12 -> LUC | L11: ='Dat-Bieu10'!K12*5 -> 340000 | M11: =L11*J11 -> 85680000 | N11: =I11+M11 -> 88129950
A12: =MAX(A$6:$B11)+1 -> 6 | B12: ='Dat-Bieu10'!B13 -> hộ bà Phùng Thị Bình | C12: 4931.5205 | D12: 1003 | E12: =D12/C12*100 -> 20.338555 | F12: 1 | G12: 3 | H12: =30*16333 -> 489990 | I12: =G12*F12*H12 -> 1469970 | J12: ='Dat-Bieu10'!I13 -> 1003 | K12: ='Dat-Bieu10'!H13 -> LUC | L12: ='Dat-Bieu10'!K13*5 -> 340000 | M12: =L12*J12 -> 341020000 | N12: =I12+M12 -> 342489970
A13: =MAX(A$6:$B12)+1 -> 7 | B13: ='Dat-Bieu10'!B14 -> ông Trần Văn Bình và bà Trương Thị Hồng Hoa | C13: 3088 | D13: 1215 | E13: =D13/C13*100 -> 39.345855 | F13: 5 | G13: 6 | H13: =30*16333 -> 489990 | I13: =G13*F13*H13 -> 14699700 | J13: ='Dat-Bieu10'!I14 -> 106 | K13: ='Dat-Bieu10'!H14 -> HNK | L13: ='Dat-Bieu10'!K14*5 -> 340000 | M13: =L13*J13 -> 36040000 | N13: =I13+M13 -> 50739700
F14: 5 | I14: =G14*F14*H14 -> 0 | J14: ='Dat-Bieu10'!I15 -> 1100 | K14: ='Dat-Bieu10'!H15 -> LUC | L14: ='Dat-Bieu10'!K15*5 -> 340000 | M14: =L14*J14 -> 374000000 | N14: =I14+M14 -> 374000000
A15: =MAX(A$6:$B14)+1 -> 8 | B15: ='Dat-Bieu10'!B16 -> bà Võ Thị Kim Oanh, ông Nguyễn Trọng Chương, ông Nguyễn Trọng Vương, ông Nguyễn Trọng Linh, ông Nguyễn Trọng Thủ, ông Nguyễn Trọng Lộc, bà Nguyễn Thị Bích Hậu đồng thừa kế của ông Nguyễn Anh Bản | I15: =G15*F15*H15 -> 0 | J15: ='Dat-Bieu10'!I16 -> 540 | K15: ='Dat-Bieu10'!H16 -> LUC | L15: ='Dat-Bieu10'!K16*5 -> 340000 | M15: =L15*J15 -> 183600000 | N15: =I15+M15 -> 183600000
I16: =G16*F16*H16 -> 0 | J16: ='Dat-Bieu10'!I17 -> 730 | K16: ='Dat-Bieu10'!H17 -> LUC | L16: ='Dat-Bieu10'!K17*5 -> 340000 | M16: =L16*J16 -> 248200000 | N16: =I16+M16 -> 248200000
A17: =MAX(A$6:$B16)+1 -> 9 | B17: ='Dat-Bieu10'!B18 -> Hộ ông Ngô Văn Chinh và bà Lê Thị Tâm | C17: 2647 | D17: 423 | E17: =D17/C17*100 -> 15.980355 | F17: 5 | G17: 2 | H17: =30*16333 -> 489990 | I17: =G17*F17*H17 -> 4899900 | J17: ='Dat-Bieu10'!I18 -> 423 | K17: ='Dat-Bieu10'!H18 -> LUC | L17: ='Dat-Bieu10'!K18*5 -> 340000 | M17: =L17*J17 -> 143820000 | N17: =I17+M17 -> 148719900
A18: =MAX(A$6:$B17)+1 -> 10 | B18: ='Dat-Bieu10'!B19 -> ông Lê Thành Công và bà Lê Thị Trịnh | C18: 7277.995 | D18: 684.2 | E18: =D18/C18*100 -> 9.4009408 | F18: 5 | G18: 1 | H18: =30*16333 -> 489990 | I18: =G18*F18*H18 -> 2449950 | J18: ='Dat-Bieu10'!I19 -> 202.2 | K18: ='Dat-Bieu10'!H19 -> HNK | L18: ='Dat-Bieu10'!K19*5 -> 355000 | M18: =L18*J18 -> 71781000 | N18: =I18+M18 -> 74230950
A19: =MAX(A$6:$B18)+1 -> 11 | B19: ='Dat-Bieu10'!B20 -> Hộ ông Lê Thành Công và bà Lê Thị Trịnh | I19: =G19*F19*H19 -> 0 | J19: ='Dat-Bieu10'!I20 -> 482 | K19: ='Dat-Bieu10'!H20 -> LUC | L19: ='Dat-Bieu10'!K20*5 -> 340000 | M19: =L19*J19 -> 163880000 | N19: =I19+M19 -> 163880000
A20: =MAX(A$6:$B19)+1 -> 12 | B20: ='Dat-Bieu10'!B21 -> ông Phùng Đình Vân, ông Phùng Đình Trung, ông Phùng Đình Tâm, ông Phùng Đình Bảo, ông Phùng Đình Toàn, ông Phùng Đình Khanh, ông Phùng Thanh Hiếu đồng thừa kế của ông Phùng Đình Chánh và bà Trần Thị Tự | I20: =G20*F20*H20 -> 0 | J20: ='Dat-Bieu10'!I21 -> 472 | K20: ='Dat-Bieu10'!H21 -> HNK | L20: ='Dat-Bieu10'!K21*5 -> 340000 | M20: =L20*J20 -> 160480000 | N20: =I20+M20 -> 160480000
I21: =G21*F21*H21 -> 0 | J21: ='Dat-Bieu10'!I22 -> 340 | K21: ='Dat-Bieu10'!H22 -> HNK | L21: ='Dat-Bieu10'!K22*5 -> 340000 | M21: =L21*J21 -> 115600000 | N21: =I21+M21 -> 115600000
I22: =G22*F22*H22 -> 0 | J22: ='Dat-Bieu10'!I23 -> 1236 | K22: ='Dat-Bieu10'!H23 -> LUC | L22: ='Dat-Bieu10'!K23*5 -> 340000 | M22: =L22*J22 -> 420240000 | N22: =I22+M22 -> 420240000
I23: =G23*F23*H23 -> 0 | J23: ='Dat-Bieu10'!I24 -> 920 | K23: ='Dat-Bieu10'!H24 -> LUC | L23: ='Dat-Bieu10'!K24*5 -> 340000 | M23: =L23*J23 -> 312800000 | N23: =I23+M23 -> 312800000
A24: =MAX(A$6:$B23)+1 -> 13 | B24: ='Dat-Bieu10'!B25 -> Hộ ông Trần Văn Cứ và bà Nguyễn Thị Rùa | C24: 10773.702 | D24: 3747 | E24: =D24/C24*100 -> 34.77913 | F24: 8 | G24: 6 | H24: =30*16333 -> 489990 | I24: =G24*F24*H24 -> 23519520 | J24: ='Dat-Bieu10'!I25 -> 884 | K24: ='Dat-Bieu10'!H25 -> LUC | L24: ='Dat-Bieu10'!K25*5 -> 340000 | M24: =L24*J24 -> 300560000 | N24: =I24+M24 -> 324079520
B25: ='Dat-Bieu10'!B26 -> Hộ ông Trần Văn Cứ và bà Nguyễn Thị Rùa | I25: =G25*F25*H25 -> 0 | J25: ='Dat-Bieu10'!I26 -> 1358 | K25: ='Dat-Bieu10'!H26 -> LUC | L25: ='Dat-Bieu10'!K26*5 -> 340000 | M25: =L25*J25 -> 461720000 | N25: =I25+M25 -> 461720000
A26: =MAX(A$6:$B25)+1 -> 14 | B26: ='Dat-Bieu10'!B27 -> ông Trần Văn Cứ bà Nguyễn Thị Rùa | I26: =G26*F26*H26 -> 0 | J26: ='Dat-Bieu10'!I27 -> 557 | K26: ='Dat-Bieu10'!H27 -> LUC | L26: ='Dat-Bieu10'!K27*5 -> 340000 | M26: =L26*J26 -> 189380000 | N26: =I26+M26 -> 189380000
B27: ='Dat-Bieu10'!B28 -> ông Trần Văn Cứ bà Nguyễn Thị Rùa | I27: =G27*F27*H27 -> 0 | J27: ='Dat-Bieu10'!I28 -> 922 | K27: ='Dat-Bieu10'!H28 -> HNK | L27: ='Dat-Bieu10'!K28*5 -> 355000 | M27: =L27*J27 -> 327310000 | N27: =I27+M27 -> 327310000
A28: =MAX(A$6:$B27)+1 -> 15 | B28: ='Dat-Bieu10'!B29 -> ông Ngô Văn Chiêm và bà Phùng Thị Xuyến | C28: 5650.818 | D28: 530.6 | E28: =D28/C28*100 -> 9.389791 | F28: 3 | G28: 1 | H28: =30*16333 -> 489990 | I28: =G28*F28*H28 -> 1469970 | J28: ='Dat-Bieu10'!I29 -> 22.6 | K28: ='Dat-Bieu10'!H29 -> HNK | L28: ='Dat-Bieu10'!K29*5 -> 340000 | M28: =L28*J28 -> 7684000 | N28: =I28+M28 -> 9153970
A29: =MAX(A$6:$B28)+1 -> 16 | B29: ='Dat-Bieu10'!B30 -> Hộ ông Ngô Văn Chiêm và bà Phùng Thị Xuyến | I29: =G29*F29*H29 -> 0 | J29: ='Dat-Bieu10'!I30 -> 508 | K29: ='Dat-Bieu10'!H30 -> LUC | L29: ='Dat-Bieu10'!K30*5 -> 340000 | M29: =L29*J29 -> 172720000 | N29: =I29+M29 -> 172720000
A30: =MAX(A$6:$B29)+1 -> 17 | B30: ='Dat-Bieu10'!B31 -> Hộ ông Ngô Hữu Chí và bà Nguyễn Thị Lương | C30: 11813.702 | D30: 1095 | E30: =D30/C30*100 -> 9.2688981 | F30: 4 | G30: 1 | H30: =30*16333 -> 489990 | I30: =G30*F30*H30 -> 1959960 | J30: ='Dat-Bieu10'!I31 -> 1095 | K30: ='Dat-Bieu10'!H31 -> LUC | L30: ='Dat-Bieu10'!K31*5 -> 340000 | M30: =L30*J30 -> 372300000 | N30: =I30+M30 -> 374259960
A31: =MAX(A$6:$B30)+1 -> 18 | B31: ='Dat-Bieu10'!B32 -> ông Lê Thành Công, bà Lê Thị Phi, bà Lê Thị Nguyệt, ông Lê Thanh Dân, ông Lê Đức Phước, bà Lê Thị Đức, ông Lê Văn Toàn, bà Lê Thị Oanh đồng thừa kế của ông Lê Cát và bà Nguyễn Thị Sáu | I31: =G31*F31*H31 -> 0 | J31: ='Dat-Bieu10'!I32 -> 104 | K31: ='Dat-Bieu10'!H32 -> LUC | L31: ='Dat-Bieu10'!K32*5 -> 340000 | M31: =L31*J31 -> 35360000 | N31: =I31+M31 -> 35360000
I32: =G32*F32*H32 -> 0 | J32: ='Dat-Bieu10'!I33 -> 1356 | K32: ='Dat-Bieu10'!H33 -> LUC | L32: ='Dat-Bieu10'!K33*5 -> 340000 | M32: =L32*J32 -> 461040000 | N32: =I32+M32 -> 461040000
A33: =MAX(A$6:$B32)+1 -> 19 | B33: ='Dat-Bieu10'!B34 -> Hộ ông Ngô Văn Chiền và bà Phạm Thị Gái | C33: 3813.8761 | D33: 591 | E33: =D33/C33*100 -> 15.496046 | F33: 8 | G33: 2 | H33: =30*16333 -> 489990 | I33: =G33*F33*H33 -> 7839840 | J33: ='Dat-Bieu10'!I34 -> 591 | K33: ='Dat-Bieu10'!H34 -> LUC | L33: ='Dat-Bieu10'!K34*5 -> 355000 | M33: =L33*J33 -> 209805000 | N33: =I33+M33 -> 217644840
A34: =MAX(A$6:$B33)+1 -> 20 | B34: ='Dat-Bieu10'!B35 -> bà Phùng Thị Chí, ông Trần Trọng Nghĩa, bà Trần Thị Kim Loan, ông Trần Đức Phụng, bà Trần Thị Mỹ Hạnh đồng thừa kế của ông Trần Mỉa | J34: ='Dat-Bieu10'!I35 -> 1780 | K34: ='Dat-Bieu10'!H35 -> LUC | L34: ='Dat-Bieu10'!K35*5 -> 340000 | M34: =L34*J34 -> 605200000 | N34: =I34+M34 -> 605200000
A35: =MAX(A$6:$B34)+1 -> 21 | B35: ='Dat-Bieu10'!B36 -> hộ ông Trần Trung Dũng và bà Nguyễn Thị Cúc | C35: 1798 | D35: 1785 | E35: =D35/C35*100 -> 99.276974 | F35: 7 | G35: 12 | H35: =30*16333 -> 489990 | I35: =G35*F35*H35 -> 41159160 | J35: ='Dat-Bieu10'!I36 -> 920 | K35: ='Dat-Bieu10'!H36 -> LUC | L35: ='Dat-Bieu10'!K36*5 -> 340000 | M35: =L35*J35 -> 312800000 | N35: =I35+M35 -> 353959160
D36: 865 | I36: =G36*F36*H36 -> 0 | J36: ='Dat-Bieu10'!I37 -> 865 | K36: ='Dat-Bieu10'!H37 -> LUC | L36: ='Dat-Bieu10'!K37*5 -> 355000 | M36: =L36*J36 -> 307075000 | N36: =I36+M36 -> 307075000
A37: =MAX(A$6:$B36)+1 -> 22 | B37: ='Dat-Bieu10'!B38 -> Hộ ông Phùng Đình Duy và bà Ngô Thị Hường | C37: 9274.707 | D37: 882 | E37: =D37/C37*100 -> 9.5097344 | F37: 7 | G37: 1 | H37: =30*16333 -> 489990 | I37: =G37*F37*H37 -> 3429930 | J37: ='Dat-Bieu10'!I38 -> 882 | K37: ='Dat-Bieu10'!H38 -> LUC | L37: ='Dat-Bieu10'!K38*5 -> 375000 | M37: =L37*J37 -> 330750000 | N37: =I37+M37 -> 334179930
A38: =MAX(A$6:$B37)+1 -> 23 | B38: ='Dat-Bieu10'!B39 -> Hộ ông Đào Văn Đỗi và bà Lê Thị Sông | C38: 7120.499 | D38: 539 | E38: =D38/C38*100 -> 7.5696942 | F38: 4 | G38: 1 | H38: =30*16333 -> 489990 | I38: =G38*F38*H38 -> 1959960 | J38: ='Dat-Bieu10'!I39 -> 539 | K38: ='Dat-Bieu10'!H39 -> LUC | L38: ='Dat-Bieu10'!K39*5 -> 340000 | M38: =L38*J38 -> 183260000 | N38: =I38+M38 -> 185219960
A39: =MAX(A$6:$B38)+1 -> 24 | B39: ='Dat-Bieu10'!B40 -> Hộ bà Ngô Thị Đài | C39: 1533 | D39: 941 | E39: =D39/C39*100 -> 61.382909 | F39: 1 | G39: 6 | H39: =30*16333 -> 489990 | I39: =G39*F39*H39 -> 2939940 | J39: ='Dat-Bieu10'!I40 -> 941 | K39: ='Dat-Bieu10'!H40 -> LUC | L39: ='Dat-Bieu10'!K40*5 -> 355000 | M39: =L39*J39 -> 334055000 | N39: =I39+M39 -> 336994940
A40: =MAX(A$6:$B39)+1 -> 25 | B40: ='Dat-Bieu10'!B41 -> Hộ ông Nguyễn Tấn Đức và bà Trần Thị Ngọc Anh | C40: 6453.66 | D40: 1590 | E40: =D40/C40*100 -> 24.637183 | F40: 15 | G40: 3 | H40: =30*16333 -> 489990 | I40: =G40*F40*H40 -> 22049550 | J40: ='Dat-Bieu10'!I41 -> 1590 | K40: ='Dat-Bieu10'!H41 -> LUC | L40: ='Dat-Bieu10'!K41*5 -> 355000 | M40: =L40*J40 -> 564450000 | N40: =I40+M40 -> 586499550
A41: =MAX(A$6:$B40)+1 -> 26 | B41: ='Dat-Bieu10'!B42 -> bà Võ Thị Hường, ông Phùng Đình Thích, bà Phùng Thị Trinh, bà Phùng Thị Đậm, bà Phùng Thị Được, ông Phùng Đình Lắm đồng thừa kế của ông Phùng Đình Kích | J41: ='Dat-Bieu10'!I42 -> 1059 | K41: ='Dat-Bieu10'!H42 -> LUC | L41: ='Dat-Bieu10'!K42*5 -> 340000 | M41: =L41*J41 -> 360060000 | N41: =I41+M41 -> 360060000
J42: ='Dat-Bieu10'!I43 -> 1098 | K42: ='Dat-Bieu10'!H43 -> LUC | L42: ='Dat-Bieu10'!K43*5 -> 340000 | M42: =L42*J42 -> 373320000 | N42: =I42+M42 -> 373320000
A43: =MAX(A$6:$B42)+1 -> 27 | B43: ='Dat-Bieu10'!B44 -> Hộ ông Ngô Quang Hiền và bà Võ Thị Ngãnh | C43: 1753 | D43: 1753 | E43: =D43/C43*100 -> 100 | F43: 7 | G43: 12 | H43: =30*16333 -> 489990 | I43: =G43*F43*H43 -> 41159160 | J43: ='Dat-Bieu10'!I44 -> 442 | K43: ='Dat-Bieu10'!H44 -> LUC | L43: ='Dat-Bieu10'!K44*5 -> 340000 | M43: =L43*J43 -> 150280000 | N43: =I43+M43 -> 191439160
D44: 1311 | I44: =G44*F44*H44 -> 0 | J44: ='Dat-Bieu10'!I45 -> 1311 | K44: ='Dat-Bieu10'!H45 -> LUC | L44: ='Dat-Bieu10'!K45*5 -> 340000 | M44: =L44*J44 -> 445740000 | N44: =I44+M44 -> 445740000
A45: =MAX(A$6:$B44)+1 -> 28 | B45: ='Dat-Bieu10'!B46 -> Hộ ông Phạm Hùng và bà Nguyễn Thị Ngọc | C45: 4502.9051 | D45: 909 | E45: =D45/C45*100 -> 20.186968 | F45: 6 | G45: 3 | H45: =30*16333 -> 489990 | I45: =G45*F45*H45 -> 8819820 | J45: ='Dat-Bieu10'!I46 -> 298 | K45: ='Dat-Bieu10'!H46 -> LUC | L45: ='Dat-Bieu10'!K46*5 -> 355000 | M45: =L45*J45 -> 105790000 | N45: =I45+M45 -> 114609820
D46: 611 | I46: =G46*F46*H46 -> 0 | J46: ='Dat-Bieu10'!I47 -> 611 | K46: ='Dat-Bieu10'!H47 -> LUC | L46: ='Dat-Bieu10'!K47*5 -> 340000 | M46: =L46*J46 -> 207740000 | N46: =I46+M46 -> 207740000
A47: =MAX(A$6:$B46)+1 -> 29 | B47: ='Dat-Bieu10'!B48 -> Hộ ông Nguyễn Hiệp và bà Nguyễn Thị Bi | C47: 8249.0523 | D47: 926 | E47: =D47/C47*100 -> 11.225532 | F47: 4 | G47: 2 | H47: =30*16333 -> 489990 | I47: =G47*F47*H47 -> 3919920 | J47: ='Dat-Bieu10'!I48 -> 926 | K47: ='Dat-Bieu10'!H48 -> LUC | L47: ='Dat-Bieu10'!K48*5 -> 375000 | M47: =L47*J47 -> 347250000 | N47: =I47+M47 -> 351169920
A48: =MAX(A$6:$B47)+1 -> 30 | B48: ='Dat-Bieu10'!B49 -> Hộ ông Ngô Tấn Hồng và bà Phùng Thị Hoa | C48: 3716 | D48: 2286 | E48: =D48/C48*100 -> 61.517761 | F48: 2 | G48: 6 | H48: =30*16333 -> 489990 | I48: =G48*F48*H48 -> 5879880 | J48: ='Dat-Bieu10'!I49 -> 1820 | K48: ='Dat-Bieu10'!H49 -> LUC | L48: ='Dat-Bieu10'!K49*5 -> 340000 | M48: =L48*J48 -> 618800000 | N48: =I48+M48 -> 624679880
I49: =G49*F49*H49 -> 0 | J49: ='Dat-Bieu10'!I50 -> 466 | K49: ='Dat-Bieu10'!H50 -> LUC | L49: ='Dat-Bieu10'!K50*5 -> 340000 | M49: =L49*J49 -> 158440000 | N49: =I49+M49 -> 158440000
A50: =MAX(A$6:$B49)+1 -> 31 | B50: ='Dat-Bieu10'!B51 -> ông Võ Thanh Hồng | C50: 1766 | D50: 1766 | E50: =D50/C50*100 -> 100 | F50: 10 | G50: 12 | H50: =30*16333 -> 489990 | I50: =G50*F50*H50 -> 58798800 | J50: ='Dat-Bieu10'!I51 -> 1766 | K50: ='Dat-Bieu10'!H51 -> LUC | L50: ='Dat-Bieu10'!K51*5 -> 355000 | M50: =L50*J50 -> 626930000 | N50: =I50+M50 -> 685728800
A51: =MAX(A$6:$B50)+1 -> 32 | B51: ='Dat-Bieu10'!B52 -> Hộ ông Trần Hồng và bà Ngô Thị Lập | C51: 6874.162 | D51: 1849 | E51: =D51/C51*100 -> 26.897824 | F51: 4 | G51: 3 | H51: =30*16333 -> 489990 | I51: =G51*F51*H51 -> 5879880 | J51: ='Dat-Bieu10'!I52 -> 1212 | K51: ='Dat-Bieu10'!H52 -> LUC | L51: ='Dat-Bieu10'!K52*5 -> 355000 | M51: =L51*J51 -> 430260000 | N51: =I51+M51 -> 436139880
D52: 637 | I52: =G52*F52*H52 -> 0 | J52: ='Dat-Bieu10'!I53 -> 637 | K52: ='Dat-Bieu10'!H53 -> LUC | L52: ='Dat-Bieu10'!K53*5 -> 355000 | M52: =L52*J52 -> 226135000 | N52: =I52+M52 -> 226135000
A53: =MAX(A$6:$B52)+1 -> 33 | B53: ='Dat-Bieu10'!B54 -> ông Nguyễn Tấn Hiền và bà Lê Thị Kim Nhung | C53: 4060 | D53: 1290.9 | E53: =D53/C53*100 -> 31.795567 | F53: 8 | G53: 6 | H53: =30*16333 -> 489990 | I53: =G53*F53*H53 -> 23519520 | J53: ='Dat-Bieu10'!I54 -> 528 | K53: ='Dat-Bieu10'!H54 -> HNK | L53: ='Dat-Bieu10'!K54*5 -> 340000 | M53: =L53*J53 -> 179520000 | N53: =I53+M53 -> 203039520
A54: =MAX(A$6:$B53)+1 -> 34 | B54: ='Dat-Bieu10'!B55 -> Hộ ông Nguyễn Tấn Hiền và bà Lê Thị Kim Nhung | D54: 711.7 | I54: =G54*F54*H54 -> 0 | J54: ='Dat-Bieu10'!I55 -> 711.7 | K54: ='Dat-Bieu10'!H55 -> LUC | L54: ='Dat-Bieu10'!K55*5 -> 340000 | M54: =L54*J54 -> 2.41978e+08 | N54: =I54+M54 -> 2.41978e+08
D55: 51.2 | I55: =G55*F55*H55 -> 0 | J55: ='Dat-Bieu10'!I56 -> 51.2 | K55: ='Dat-Bieu10'!H56 -> LUC | L55: ='Dat-Bieu10'!K56*5 -> 340000 | M55: =L55*J55 -> 17408000 | N55: =I55+M55 -> 17408000
A56: =MAX(A$6:$B55)+1 -> 35 | B56: ='Dat-Bieu10'!B57 -> Hộ bà Nguyễn Thị Hữu | C56: 3005.4 | D56: 1358.6 | E56: =D56/C56*100 -> 45.205297 | F56: 1 | G56: 6 | H56: =30*16333 -> 489990 | I56: =G56*F56*H56 -> 2939940 | J56: ='Dat-Bieu10'!I57 -> 985.9 | K56: ='Dat-Bieu10'!H57 -> LUC | L56: ='Dat-Bieu10'!K57*5 -> 340000 | M56: =L56*J56 -> 335206000 | N56: =I56+M56 -> 338145940
D57: 372.7 | I57: =G57*F57*H57 -> 0 | J57: ='Dat-Bieu10'!I58 -> 365.5 | K57: ='Dat-Bieu10'!H58 -> LUC | L57: ='Dat-Bieu10'!K58*5 -> 340000 | M57: =L57*J57 -> 124270000 | N57: =I57+M57 -> 124270000
A58: =MAX(A$6:$B57)+1 -> 36 | B58: ='Dat-Bieu10'!B59 -> ông Phùng Đình Hoa và bà Trần Thị Mai | C58: 6124.6211 | D58: 333 | E58: =D58/C58*100 -> 5.437071 | F58: 7 | G58: 1 | H58: =30*16333 -> 489990 | I58: =G58*F58*H58 -> 3429930 | J58: ='Dat-Bieu10'!I59 -> 333 | K58: ='Dat-Bieu10'!H59 -> HNK | L58: ='Dat-Bieu10'!K59*5 -> 340000 | M58: =L58*J58 -> 113220000 | N58: =I58+M58 -> 116649930
A59: =MAX(A$6:$B58)+1 -> 37 | B59: ='Dat-Bieu10'!B60 -> Hộ bà Phùng Thị Hương và ông Huỳnh Phú | C59: 1989 | D59: 1707 | E59: =D59/C59*100 -> 85.822021 | F59: 5 | G59: 12 | H59: =30*16333 -> 489990 | I59: =G59*F59*H59 -> 29399400 | J59: ='Dat-Bieu10'!I60 -> 1707 | K59: ='Dat-Bieu10'!H60 -> LUC | L59: ='Dat-Bieu10'!K60*5 -> 340000 | M59: =L59*J59 -> 580380000 | N59: =I59+M59 -> 609779400
A60: =MAX(A$6:$B59)+1 -> 38 | B60: ='Dat-Bieu10'!B61 -> ông Ngô Lá, bà Ngô Thị Thu, ông Ngô Văn Toàn, ông Ngô Lâm đồng thừa kế của bà Trần Thị Hoàng | I60: =G60*F60*H60 -> 0 | J60: ='Dat-Bieu10'!I61 -> 1546 | K60: ='Dat-Bieu10'!H61 -> LUC | L60: ='Dat-Bieu10'!K61*5 -> 340000 | M60: =L60*J60 -> 525640000 | N60: =I60+M60 -> 525640000
A61: =MAX(A$6:$B60)+1 -> 39 | B61: ='Dat-Bieu10'!B62 -> Hộ ông Nguyễn Văn Hùng và bà Phạm Thị Lựa | C61: 5503.4 | D61: 580 | E61: =D61/C61*100 -> 10.53894 | F61: 6 | G61: 2 | H61: =30*16333 -> 489990 | I61: =G61*F61*H61 -> 5879880 | J61: ='Dat-Bieu10'!I62 -> 580 | K61: ='Dat-Bieu10'!H62 -> LUC | L61: ='Dat-Bieu10'!K62*5 -> 340000 | M61: =L61*J61 -> 197200000 | N61: =I61+M61 -> 203079880
A62: =MAX(A$6:$B61)+1 -> 40 | B62: ='Dat-Bieu10'!B63 -> Hộ ông Phạm Trọng Hiếu và bà Võ Thị Sáu | C62: 8083 | D62: 696 | E62: =D62/C62*100 -> 8.6106644 | F62: 2 | G62: 1 | H62: =30*16333 -> 489990 | I62: =G62*F62*H62 -> 979980 | J62: ='Dat-Bieu10'!I63 -> 696 | K62: ='Dat-Bieu10'!H63 -> LUC | L62: ='Dat-Bieu10'!K63*5 -> 340000 | M62: =L62*J62 -> 236640000 | N62: =I62+M62 -> 237619980
A63: =MAX(A$6:$B62)+1 -> 41 | B63: ='Dat-Bieu10'!B64 -> Hộ bà Ngô Thị Hữu | C63: 4594.7348 | D63: 681 | E63: =D63/C63*100 -> 14.821312 | F63: 5 | G63: 2 | H63: =30*16333 -> 489990 | I63: =G63*F63*H63 -> 4899900 | J63: ='Dat-Bieu10'!I64 -> 681 | K63: ='Dat-Bieu10'!H64 -> LUC | L63: ='Dat-Bieu10'!K64*5 -> 375000 | M63: =L63*J63 -> 255375000 | N63: =I63+M63 -> 260274900
A64: =MAX(A$6:$B63)+1 -> 42 | B64: ='Dat-Bieu10'!B65 -> Hộ ông Nguyễn Duy Khánh và bà Nguyễn Thị Kim Liên | C64: 4569.882 | D64: 824 | E64: =D64/C64*100 -> 18.0311 | F64: 3 | G64: 2 | H64: =30*16333 -> 489990 | I64: =G64*F64*H64 -> 2939940 | J64: ='Dat-Bieu10'!I65 -> 824 | K64: ='Dat-Bieu10'!H65 -> LUC | L64: ='Dat-Bieu10'!K65*5 -> 355000 | M64: =L64*J64 -> 292520000 | N64: =I64+M64 -> 295459940
A65: =MAX(A$6:$B64)+1 -> 43 | B65: ='Dat-Bieu10'!B66 -> Hộ ông Phùng Đình Khánh và bà Nguyễn Thị Hương | C65: 3235.7391 | D65: 758 | E65: =D65/C65*100 -> 23.425869 | F65: 8 | G65: 3 | H65: =30*16333 -> 489990 | I65: =G65*F65*H65 -> 11759760 | J65: ='Dat-Bieu10'!I66 -> 758 | K65: ='Dat-Bieu10'!H66 -> LUC | L65: ='Dat-Bieu10'!K66*5 -> 375000 | M65: =L65*J65 -> 284250000 | N65: =I65+M65 -> 296009760
A66: =MAX(A$6:$B65)+1 -> 44 | B66: ='Dat-Bieu10'!B67 -> ông Nguyễn Tấn Phó, bà Nguyễn Thị Hòa, ông Nguyễn Công Danh, ông Nguyễn Văn Chiến, bà Nguyễn Thị Thắng đồng thừa kế của bà Nguyễn Thị Kỉnh | I66: =G66*F66*H66 -> 0 | J66: ='Dat-Bieu10'!I67 -> 600 | K66: ='Dat-Bieu10'!H67 -> LUC | L66: ='Dat-Bieu10'!K67*5 -> 355000 | M66: =L66*J66 -> 213000000 | N66: =I66+M66 -> 213000000
A67: =MAX(A$6:$B66)+1 -> 45 | B67: ='Dat-Bieu10'!B68 -> bà Nguyễn Thị Nhàn, bà Phùng Thị Thư, ông Phùng Đình Bằng, ông Phùng Đình Lĩnh, bà Phùng Thị Phương Linh đồng thừa kế của ông Phùng Đình Khải | I67: =G67*F67*H67 -> 0 | J67: ='Dat-Bieu10'!I68 -> 2255 | K67: ='Dat-Bieu10'!H68 -> LUC | L67: ='Dat-Bieu10'!K68*5 -> 355000 | M67: =L67*J67 -> 800525000 | N67: =I67+M67 -> 800525000
A68: =MAX(A$6:$B67)+1 -> 46 | B68: ='Dat-Bieu10'!B69 -> ông Võ Sỉ Khánh và bà Nguyễn Thị Nhi | C68: 92 | D68: 92 | E68: =D68/C68*100 -> 100 | F68: 5 | G68: 12 | H68: =30*16333 -> 489990 | I68: =G68*F68*H68 -> 29399400 | J68: ='Dat-Bieu10'!I69 -> 92 | K68: ='Dat-Bieu10'!H69 -> HNK | L68: ='Dat-Bieu10'!K69*5 -> 340000 | M68: =L68*J68 -> 31280000 | N68: =I68+M68 -> 60679400
A69: =MAX(A$6:$B68)+1 -> 47 | B69: ='Dat-Bieu10'!B70 -> ông Đoàn Tấn Linh và bà Đinh Thị Thu Hà | C69: 588 | D69: 588 | E69: =D69/C69*100 -> 100 | F69: 5 | G69: 12 | H69: =30*16333 -> 489990 | I69: =G69*F69*H69 -> 29399400 | J69: ='Dat-Bieu10'!I70 -> 588 | K69: ='Dat-Bieu10'!H70 -> LUC | L69: ='Dat-Bieu10'!K70*5 -> 340000 | M69: =L69*J69 -> 199920000 | N69: =I69+M69 -> 229319400
A70: =MAX(A$6:$B69)+1 -> 48 | B70: ='Dat-Bieu10'!B71 -> Hộ bà Nguyễn Thị Kim Long | C70: 5064.2162 | D70: 862 | E70: =D70/C70*100 -> 17.02139 | F70: 1 | G70: 2 | H70: =30*16333 -> 489990 | I70: =G70*F70*H70 -> 979980 | J70: ='Dat-Bieu10'!I71 -> 862 | K70: ='Dat-Bieu10'!H71 -> LUC | L70: ='Dat-Bieu10'!K71*5 -> 340000 | M70: =L70*J70 -> 293080000 | N70: =I70+M70 -> 294059980
A71: =MAX(A$6:$B70)+1 -> 49 | B71: ='Dat-Bieu10'!B72 -> ông Trần Minh Long, ông Trần Minh Nam, bà Trần Thị Vĩnh, ông Trần Minh Quảng, ông Trần Quảng Đại đồng thừa kế của bà Nguyễn Thị Huấn | I71: =G71*F71*H71 -> 0 | J71: ='Dat-Bieu10'!I72 -> 364 | K71: ='Dat-Bieu10'!H72 -> LUC | M71: =L71*J71 -> 0 | N71: =I71+M71 -> 0 | P71: tạm không áp, nếu văn bản PCTK để ông Long thì ko HT vì ông đang nhận lương hưu
A72: =MAX(A$6:$B71)+1 -> 50 | B72: ='Dat-Bieu10'!B73 -> Hộ ông Ngô Văn Liễu và bà Nguyễn Thị My | C72: 1732.8 | D72: 325.1 | E72: =D72/C72*100 -> 18.761542 | F72: 10 | G72: 2 | H72: =30*16333 -> 489990 | I72: =G72*F72*H72 -> 9799800 | J72: ='Dat-Bieu10'!I73 -> 311 | K72: ='Dat-Bieu10'!H73 -> LUC | L72: ='Dat-Bieu10'!K73*5 -> 340000 | M72: =L72*J72 -> 105740000 | N72: =I72+M72 -> 115539800
A73: =MAX(A$6:$B72)+1 -> 51 | B73: ='Dat-Bieu10'!B74 -> ông Ngô Văn Liễu và bà Nguyễn Thị My | D73: 14.1 | I73: =G73*F73*H73 -> 0 | J73: ='Dat-Bieu10'!I74 -> 14.1 | K73: ='Dat-Bieu10'!H74 -> HNK | L73: ='Dat-Bieu10'!K74*5 -> 340000 | M73: =L73*J73 -> 4794000 | N73: =I73+M73 -> 4794000
A74: =MAX(A$6:$B73)+1 -> 52 | B74: ='Dat-Bieu10'!B75 -> Hộ bà Lê Thị Thanh Nga và ông Nguyễn Hưng Liễm | C74: 1353 | D74: 960.8 | E74: =D74/C74*100 -> 71.012565 | F74: 3 | G74: 12 | H74: =30*16333 -> 489990 | I74: =G74*F74*H74 -> 17639640 | J74: ='Dat-Bieu10'!I75 -> 960.8 | K74: ='Dat-Bieu10'!H75 -> LUC | L74: ='Dat-Bieu10'!K75*5 -> 355000 | M74: =L74*J74 -> 341084000 | N74: =I74+M74 -> 358723640
A75: =MAX(A$6:$B74)+1 -> 53 | B75: ='Dat-Bieu10'!B76 -> Hộ ông Nguyễn Lành và bà Phùng Thị Tâm | C75: 6908 | D75: 1975 | E75: =D75/C75*100 -> 28.590041 | F75: 4 | G75: 3 | H75: =30*16333 -> 489990 | I75: =G75*F75*H75 -> 5879880 | J75: ='Dat-Bieu10'!I76 -> 1975 | K75: ='Dat-Bieu10'!H76 -> LUC | L75: ='Dat-Bieu10'!K76*5 -> 340000 | M75: =L75*J75 -> 671500000 | N75: =I75+M75 -> 677379880
A76: =MAX(A$6:$B75)+1 -> 54 | B76: ='Dat-Bieu10'!B77 -> Hộ ông Phùng Đình Lai và bà Ngô Thị Liễu | C76: 10257.247 | D76: 2019.4 | E76: =D76/C76*100 -> 19.687543 | F76: 6 | G76: 2 | H76: =30*16333 -> 489990 | I76: =G76*F76*H76 -> 5879880 | J76: ='Dat-Bieu10'!I77 -> 2019.4 | K76: ='Dat-Bieu10'!H77 -> LUC | L76: ='Dat-Bieu10'!K77*5 -> 375000 | M76: =L76*J76 -> 757275000 | N76: =I76+M76 -> 763154880
A77: =MAX(A$6:$B76)+1 -> 55 | B77: ='Dat-Bieu10'!B78 -> Hộ ông Nguyễn Lộc và bà Nguyễn Thị Sô | C77: 3138.8 | D77: 1751 | E77: =D77/C77*100 -> 55.785651 | F77: 3 | G77: 6 | H77: =30*16333 -> 489990 | I77: =G77*F77*H77 -> 8819820 | J77: ='Dat-Bieu10'!I78 -> 1136 | K77: ='Dat-Bieu10'!H78 -> LUC | L77: ='Dat-Bieu10'!K78*5 -> 340000 | M77: =L77*J77 -> 386240000 | N77: =I77+M77 -> 395059820
A78: =MAX(A$6:$B77)+1 -> 56 | B78: ='Dat-Bieu10'!B79 -> ông Nguyễn Lộc và bà Nguyễn Thị Sô | D78: 615 | I78: =G78*F78*H78 -> 0 | J78: ='Dat-Bieu10'!I79 -> 615 | K78: ='Dat-Bieu10'!H79 -> HNK | L78: ='Dat-Bieu10'!K79*5 -> 340000 | M78: =L78*J78 -> 209100000 | N78: =I78+M78 -> 209100000
A79: =MAX(A$6:$B78)+1 -> 57 | B79: ='Dat-Bieu10'!B80 -> Hộ ông Ngô Văn Lệ và bà Đào Thị Mỹ Linh | C79: 1927.106 | D79: 621 | E79: =D79/C79*100 -> 32.224486 | F79: 5 | G79: 6 | H79: =30*16333 -> 489990 | I79: =G79*F79*H79 -> 14699700 | J79: ='Dat-Bieu10'!I80 -> 621 | K79: ='Dat-Bieu10'!H80 -> LUC | L79: ='Dat-Bieu10'!K80*5 -> 355000 | M79: =L79*J79 -> 220455000 | N79: =I79+M79 -> 235154700
A80: =MAX(A$6:$B79)+1 -> 58 | B80: ='Dat-Bieu10'!B81 -> Hộ ông Nguyễn Lương và bà Nguyễn Thị Hùng | C80: 6567.66 | D80: 2294 | E80: =D80/C80*100 -> 34.928727 | F80: 5 | G80: 6 | H80: =30*16333 -> 489990 | I80: =G80*F80*H80 -> 14699700 | J80: ='Dat-Bieu10'!I81 -> 1580 | K80: ='Dat-Bieu10'!H81 -> LUC | L80: ='Dat-Bieu10'!K81*5 -> 340000 | M80: =L80*J80 -> 537200000 | N80: =I80+M80 -> 551899700
D81: 714 | I81: =G81*F81*H81 -> 0 | J81: ='Dat-Bieu10'!I82 -> 714 | K81: ='Dat-Bieu10'!H82 -> LUC | L81: ='Dat-Bieu10'!K82*5 -> 340000 | M81: =L81*J81 -> 242760000 | N81: =I81+M81 -> 242760000
A82: =MAX(A$6:$B81)+1 -> 59 | B82: ='Dat-Bieu10'!B83 -> Ông Nguyễn Tấn Lực và bà Phùng Thị Thu | C82: 997 | D82: 997 | E82: =D82/C82*100 -> 100 | F82: 4 | G82: 12 | H82: =30*16333 -> 489990 | I82: =G82*F82*H82 -> 23519520 | J82: ='Dat-Bieu10'!I83 -> 997 | K82: ='Dat-Bieu10'!H83 -> LUC | L82: ='Dat-Bieu10'!K83*5 -> 340000 | M82: =L82*J82 -> 338980000 | N82: =I82+M82 -> 362499520
A83: =MAX(A$6:$B82)+1 -> 60 | B83: ='Dat-Bieu10'!B84 -> Ông Trịnh Bích và bà Trần Thị Lệ | C83: 1773.084 | D83: 542 | E83: =D83/C83*100 -> 30.568208 | F83: 6 | G83: 6 | H83: =30*16333 -> 489990 | I83: =G83*F83*H83 -> 17639640 | J83: ='Dat-Bieu10'!I84 -> 542 | K83: ='Dat-Bieu10'!H84 -> LUC | L83: ='Dat-Bieu10'!K84*5 -> 340000 | M83: =L83*J83 -> 184280000 | N83: =I83+M83 -> 201919640
A84: =MAX(A$6:$B83)+1 -> 61 | B84: ='Dat-Bieu10'!B85 -> Hộ ông Ngô Đức Hùng và bà Nguyễn Thị Mười | C84: 7724.6775 | D84: ='Dat-Bieu10'!I85+'Dat-Bieu10'!I86 -> 1147 | E84: =D84/C84*100 -> 14.848516 | F84: 12 | G84: 2 | H84: =30*16333 -> 489990 | I84: =G84*F84*H84 -> 11759760 | J84: ='Dat-Bieu10'!I85 -> 771 | K84: ='Dat-Bieu10'!H85 -> LUC | L84: ='Dat-Bieu10'!K85*5 -> 355000 | M84: =L84*J84 -> 273705000 | N84: =I84+M84 -> 285464760
D85: 375.1 | I85: =G85*F85*H85 -> 0 | J85: ='Dat-Bieu10'!I86 -> 376 | K85: ='Dat-Bieu10'!H86 -> LUC | L85: ='Dat-Bieu10'!K86*5 -> 355000 | M85: =L85*J85 -> 133480000 | N85: =I85+M85 -> 133480000
A86: =MAX(A$6:$B85)+1 -> 62 | B86: ='Dat-Bieu10'!B87 -> Hộ bà Trần Thị Mực | C86: 4649 | D86: 1290 | E86: =D86/C86*100 -> 27.747903 | F86: 6 | G86: 3 | H86: =30*16333 -> 489990 | I86: =G86*F86*H86 -> 8819820 | J86: ='Dat-Bieu10'!I87 -> 1290 | K86: ='Dat-Bieu10'!H87 -> LUC | L86: ='Dat-Bieu10'!K87*5 -> 355000 | M86: =L86*J86 -> 457950000 | N86: =I86+M86 -> 466769820
A87: =MAX(A$6:$B86)+1 -> 63 | B87: ='Dat-Bieu10'!B88 -> ông Phùng Đình Thôi, bà Phùng Thị Tí, bà Phùng Thị Mùi, bà Phùng Thị Vân, bà Phùng Thị Mười, bà Phùng Thị Dư đồng thừa kế của bà Lê Thị Năm | I87: =G87*F87*H87 -> 0 | J87: ='Dat-Bieu10'!I88 -> 950 | K87: ='Dat-Bieu10'!H88 -> LUC | L87: ='Dat-Bieu10'!K88*5 -> 340000 | M87: =L87*J87 -> 323000000 | N87: =I87+M87 -> 323000000
A88: =MAX(A$6:$B87)+1 -> 64 | B88: ='Dat-Bieu10'!B89 -> ông Lê Miên | C88: 989 | D88: 989 | E88: =D88/C88*100 -> 100 | F88: 4 | G88: 12 | H88: =30*16333 -> 489990 | I88: =G88*F88*H88 -> 23519520 | J88: ='Dat-Bieu10'!I89 -> 596 | K88: ='Dat-Bieu10'!H89 -> LUC | L88: ='Dat-Bieu10'!K89*5 -> 355000 | M88: =L88*J88 -> 211580000 | N88: =I88+M88 -> 235099520
D89: 393 | I89: =G89*F89*H89 -> 0 | J89: ='Dat-Bieu10'!I90 -> 393 | K89: ='Dat-Bieu10'!H90 -> LUC | L89: ='Dat-Bieu10'!K90*5 -> 340000 | M89: =L89*J89 -> 133620000 | N89: =I89+M89 -> 133620000
A90: =MAX(A$6:$B89)+1 -> 65 | B90: ='Dat-Bieu10'!B91 -> ông Lê Minh Mậu, bà Lê Thị Trang, ông Lê Văn Châu, ông Lê Minh Kiệt, ông Lê Minh Dũng, bà Lê Thị Ngọc, ông Lê Minh Hiệp đồng thừa kế của bà Nguyễn Thị Điểm | I90: =G90*F90*H90 -> 0 | J90: ='Dat-Bieu10'!I91 -> 200 | K90: ='Dat-Bieu10'!H91 -> HNK | L90: ='Dat-Bieu10'!K91*5 -> 340000 | M90: =L90*J90 -> 68000000 | N90: =I90+M90 -> 68000000
A91: =MAX(A$6:$B90)+1 -> 66 | B91: ='Dat-Bieu10'!B92 -> Hộ bà Phùng Thị Mỹ | C91: 1806 | D91: ='Dat-Bieu10'!I92+'Dat-Bieu10'!I93 -> 828.2 | E91: =D91/C91*100 -> 45.85825 | F91: 5 | G91: 6 | H91: =30*16333 -> 489990 | I91: =G91*F91*H91 -> 14699700 | J91: ='Dat-Bieu10'!I92 -> 731 | K91: ='Dat-Bieu10'!H92 -> LUC | L91: ='Dat-Bieu10'!K92*5 -> 375000 | M91: =L91*J91 -> 274125000 | N91: =I91+M91 -> 288824700
D92: 97.2 | I92: =G92*F92*H92 -> 0 | J92: ='Dat-Bieu10'!I93 -> 97.2 | K92: ='Dat-Bieu10'!H93 -> LUC | L92: ='Dat-Bieu10'!K93*5 -> 375000 | M92: =L92*J92 -> 36450000 | N92: =I92+M92 -> 36450000
A93: =MAX(A$6:$B92)+1 -> 67 | B93: ='Dat-Bieu10'!B94 -> bà Phùng Thị Mỹ, ông Đinh Xuân Tuấn, ông Đinh Xuân Đạt, bà Đinh Thanh Thúy, bà Đinh Thị Bích Ngọc đồng thừa kế của ông Đinh Vận | I93: =G93*F93*H93 -> 0 | J93: ='Dat-Bieu10'!I94 -> 329.4 | K93: ='Dat-Bieu10'!H94 -> HNK | L93: ='Dat-Bieu10'!K94*5 -> 340000 | M93: =L93*J93 -> 1.11996e+08 | N93: =I93+M93 -> 1.11996e+08
A94: =MAX(A$6:$B93)+1 -> 68 | B94: ='Dat-Bieu10'!B95 -> Hộ ông Lê Hồng Nga và bà Nguyễn Thị Mai Anh | C94: 8215 | D94: 1833.1 | E94: =D94/C94*100 -> 22.31406 | F94: 6 | G94: 3 | H94: =30*16333 -> 489990 | I94: =G94*F94*H94 -> 8819820 | J94: ='Dat-Bieu10'!I95 -> 1578.9 | K94: ='Dat-Bieu10'!H95 -> LUC | L94: ='Dat-Bieu10'!K95*5 -> 340000 | M94: =L94*J94 -> 5.36826e+08 | N94: =I94+M94 -> 545645820
D95: 254.2 | I95: =G95*F95*H95 -> 0 | J95: ='Dat-Bieu10'!I96 -> 254.2 | K95: ='Dat-Bieu10'!H96 -> LUC | L95: ='Dat-Bieu10'!K96*5 -> 340000 | M95: =L95*J95 -> 86428000 | N95: =I95+M95 -> 86428000
A96: =MAX(A$6:$B95)+1 -> 69 | B96: ='Dat-Bieu10'!B97 -> bà Nguyễn Thị Nga | C96: 819 | D96: 542 | E96: =D96/C96*100 -> 66.178266 | F96: 3 | G96: 12 | H96: =30*16333 -> 489990 | I96: =G96*F96*H96 -> 17639640 | J96: ='Dat-Bieu10'!I97 -> 542 | K96: ='Dat-Bieu10'!H97 -> LUC | L96: ='Dat-Bieu10'!K97*5 -> 340000 | M96: =L96*J96 -> 184280000 | N96: =I96+M96 -> 201919640
A97: =MAX(A$6:$B96)+1 -> 70 | B97: ='Dat-Bieu10'!B98 -> bà Trương Thị Kim Nhựt, ông Phùng Đình Lưu, bà Phùng Thị Nguyện, ông Phùng Đình Ý đồng thừa kế của ông Phùng Đình Chiến | I97: =G97*F97*H97 -> 0 | J97: ='Dat-Bieu10'!I98 -> 1254 | K97: ='Dat-Bieu10'!H98 -> LUC | L97: ='Dat-Bieu10'!K98*5 -> 340000 | M97: =L97*J97 -> 426360000 | N97: =I97+M97 -> 426360000
I98: =G98*F98*H98 -> 0 | J98: ='Dat-Bieu10'!I99 -> 896 | K98: ='Dat-Bieu10'!H99 -> LUC | L98: ='Dat-Bieu10'!K99*5 -> 355000 | M98: =L98*J98 -> 318080000 | N98: =I98+M98 -> 318080000
A99: =MAX(A$6:$B98)+1 -> 71 | B99: ='Dat-Bieu10'!B100 -> bà Nguyễn Thị Nữ, ông Ngô Văn Điệp, ông Ngô Nhựt, bà Ngô Thị Bửu, ông Ngô Văn Hoàng, bà Ngô Thị Khắc Ghi đồng thừa kế của ông Ngô Nhứt | I99: =G99*F99*H99 -> 0 | J99: ='Dat-Bieu10'!I100 -> 999 | K99: ='Dat-Bieu10'!H100 -> LUC | L99: ='Dat-Bieu10'!K100*5 -> 340000 | M99: =L99*J99 -> 339660000 | N99: =I99+M99 -> 339660000
A100: =MAX(A$6:$B99)+1 -> 72 | B100: ='Dat-Bieu10'!B101 -> Hộ ông Ngô Tấn Ngọc và bà Nguyễn Thị Hương | C100: 1418 | D100: 1392 | E100: =D100/C100*100 -> 98.166432 | F100: 10 | G100: 12 | H100: =30*16333 -> 489990 | I100: =G100*F100*H100 -> 58798800 | J100: ='Dat-Bieu10'!I101 -> 1392 | K100: ='Dat-Bieu10'!H101 -> LUC | L100: ='Dat-Bieu10'!K101*5 -> 355000 | M100: =L100*J100 -> 494160000 | N100: =I100+M100 -> 552958800
...

Sheet TONG HOP TUNG NGUOI
H1: (Biểu số: 14)
A2: BẢNG TỔNG HỢP KINH PHÍ BỒI THƯỜNG, HỖ TRỢ DỰ ÁN: TIỂU DỰ ÁN BỒI THƯỜNG, HỖ TRỢ, TÁI ĐỊNH CƯ DỰ ÁN: KHU ĐÔ THỊ BẮC SA HUỲNH (ĐỢT 1)
A3: Đơn vị tính: Đồng
A4: STT | B4: Họ và tên Chủ hộ | C4: Địa chỉ thường trú | D4: Giá trị bồi thường hỗ trợ (đồng) | H4: Tổng cộng (đồng)
D5: Đất | E5: Mồ mã, công trình, VKT | F5: Cây cối, hoa màu | G5: Hỗ trợ
A6: 1 | B6: ='Dat-Bieu10'!B7 -> bà Nguyễn Thị Ai, bà Ngô Thị Ánh, ông Ngô Văn Bình, ông Ngô Văn Minh, bà Ngô Thị Diệu, bà Ngô Thị Hòa, bà Ngô Thị Lan, ông Ngô Văn Sang đồng thừa kế của ông Ngô Đức Tâm | C6: TDP Tân Diêm, phường Sa Huỳnh | D6: ='Dat-Bieu10'!N7+'Dat-Bieu10'!N8 -> 135048000 | E6: ='tài sản'!M8 -> 0 | F6: ='cây cối'!M7 -> 8142600 | G6: ='hỗ trợ'!N6+'hỗ trợ'!N7 -> 675240000 | H6: =G6+F6+E6+D6 -> 818430600
A7: =MAX(A$6:$B6)+1 -> 2 | B7: ='Dat-Bieu10'!B9 -> Hộ bà Trần Thị Bế | C7: TDP Tân Diêm, phường Sa Huỳnh | D7: ='Dat-Bieu10'!N9 -> 32368000 | F7: ='cây cối'!M10 -> 1951600 | G7: ='hỗ trợ'!N8 -> 185359520 | H7: =G7+F7+E7+D7 -> 219679120
A8: =MAX(A$6:$B7)+1 -> 3 | B8: ='Dat-Bieu10'!B10 -> Hộ bà Phạm Thị Bông | C8: TDP Tân Diêm, phường Sa Huỳnh | D8: ='Dat-Bieu10'!N10 -> 37468000 | E8: ='tài sản'!M10 -> 0 | F8: ='cây cối'!M12 -> 2259100 | G8: ='hỗ trợ'!N9 -> 216739400 | H8: =G8+F8+E8+D8 -> 256466500
A9: =MAX(A$6:$B8)+1 -> 4 | B9: ='Dat-Bieu10'!B11 -> Hộ bà Ngô Thị Bình | C9: TDP Tân Diêm, phường Sa Huỳnh | D9: ='Dat-Bieu10'!N11 -> 23800000 | E9: ='tài sản'!M12 -> 0 | F9: ='cây cối'!M14 -> 1435000 | G9: ='hỗ trợ'!N10 -> 123899900 | H9: =G9+F9+E9+D9 -> 149134900
A10: =MAX(A$6:$B9)+1 -> 5 | B10: ='Dat-Bieu10'!B12 -> Hộ ông Ngô Văn Bình và bà Nguyễn Thị Tho | C10: TDP Tân Diêm, phường Sa Huỳnh | D10: ='Dat-Bieu10'!N12 -> 17136000 | E10: ='tài sản'!M14 -> 0 | F10: ='cây cối'!M16 -> 1033200 | G10: ='hỗ trợ'!N11 -> 88129950 | H10: =G10+F10+E10+D10 -> 106299150
A11: =MAX(A$6:$B10)+1 -> 6 | B11: ='Dat-Bieu10'!B13 -> hộ bà Phùng Thị Bình | C11: TDP Tân Diêm, phường Sa Huỳnh | D11: ='Dat-Bieu10'!N13 -> 68204000 | F11: ='cây cối'!M18 -> 4112300 | G11: ='hỗ trợ'!N12 -> 342489970 | H11: =G11+F11+E11+D11 -> 414806270
A12: =MAX(A$6:$B11)+1 -> 7 | B12: ='Dat-Bieu10'!B14 -> ông Trần Văn Bình và bà Trương Thị Hồng Hoa | C12: TDP Tân Diêm, phường Sa Huỳnh | D12: ='Dat-Bieu10'!N14+'Dat-Bieu10'!N15 -> 82008000 | F12: ='cây cối'!M20 -> 4965800 | G12: ='hỗ trợ'!N13+'hỗ trợ'!N14 -> 424739700 | H12: =G12+F12+E12+D12 -> 511713500
A13: =MAX(A$6:$B12)+1 -> 8 | B13: ='Dat-Bieu10'!B16 -> bà Võ Thị Kim Oanh, ông Nguyễn Trọng Chương, ông Nguyễn Trọng Vương, ông Nguyễn Trọng Linh, ông Nguyễn Trọng Thủ, ông Nguyễn Trọng Lộc, bà Nguyễn Thị Bích Hậu đồng thừa kế của ông Nguyễn Anh Bản | C13: TDP Tân Diêm, phường Sa Huỳnh | D13: ='Dat-Bieu10'!N16+'Dat-Bieu10'!N17 -> 86360000 | F13: ='cây cối'!M23 -> 5207000 | G13: ='hỗ trợ'!N15+'hỗ trợ'!N16 -> 431800000 | H13: =G13+F13+E13+D13 -> 523367000
A14: =MAX(A$6:$B13)+1 -> 9 | B14: ='Dat-Bieu10'!B18 -> Hộ ông Ngô Văn Chinh và bà Lê Thị Tâm | C14: TDP Tân Diêm, phường Sa Huỳnh | D14: ='Dat-Bieu10'!N18 -> 28764000 | F14: ='cây cối'!M26 -> 1734300 | G14: ='hỗ trợ'!N17 -> 148719900 | H14: =G14+F14+E14+D14 -> 179218200
A15: =MAX(A$6:$B14)+1 -> 10 | B15: ='Dat-Bieu10'!B19 -> ông Lê Thành Công và bà Lê Thị Trịnh | C15: TDP Tân Diêm, phường Sa Huỳnh | D15: ='Dat-Bieu10'!N19 -> 14356200 | F15: ='cây cối'!M28 -> 0 | G15: ='hỗ trợ'!N18 -> 74230950 | H15: =G15+F15+E15+D15 -> 88587150
A16: =MAX(A$6:$B15)+1 -> 11 | B16: ='Dat-Bieu10'!B20 -> Hộ ông Lê Thành Công và bà Lê Thị Trịnh | C16: TDP Tân Diêm, phường Sa Huỳnh | D16: ='Dat-Bieu10'!N20 -> 32776000 | F16: ='cây cối'!M29 -> 1976200 | G16: ='hỗ trợ'!N19 -> 163880000 | H16: =G16+F16+E16+D16 -> 198632200
A17: =MAX(A$6:$B16)+1 -> 12 | B17: ='Dat-Bieu10'!B21 -> ông Phùng Đình Vân, ông Phùng Đình Trung, ông Phùng Đình Tâm, ông Phùng Đình Bảo, ông Phùng Đình Toàn, ông Phùng Đình Khanh, ông Phùng Thanh Hiếu đồng thừa kế của ông Phùng Đình Chánh và bà Trần Thị Tự | C17: TDP Tân Diêm, phường Sa Huỳnh | D17: ='Dat-Bieu10'!N21+'Dat-Bieu10'!N22+'Dat-Bieu10'!N23+'Dat-Bieu10'!N24 -> 201824000 | F17: ='cây cối'!M31 -> 12105400 | G17: ='hỗ trợ'!N20+'hỗ trợ'!N21+'hỗ trợ'!N22+'hỗ trợ'!N23 -> 1009120000 | H17: =G17+F17+E17+D17 -> 1223049400
A18: =MAX(A$6:$B17)+1 -> 13 | B18: ='Dat-Bieu10'!B25 -> Hộ ông Trần Văn Cứ và bà Nguyễn Thị Rùa | C18: TDP Tân Diêm, phường Sa Huỳnh | D18: ='Dat-Bieu10'!N25+'Dat-Bieu10'!N26 -> 152456000 | E18: ='tài sản'!M16 -> 0 | F18: ='cây cối'!M40 -> 9192200 | G18: ='hỗ trợ'!N24+'hỗ trợ'!N25 -> 785799520 | H18: =G18+F18+E18+D18 -> 947447720
A19: =MAX(A$6:$B18)+1 -> 14 | B19: ='Dat-Bieu10'!B27 -> ông Trần Văn Cứ bà Nguyễn Thị Rùa | C19: TDP Tân Diêm, phường Sa Huỳnh | D19: ='Dat-Bieu10'!N27+'Dat-Bieu10'!N28 -> 103338000 | F19: ='cây cối'!M43 -> 2283700 | G19: ='hỗ trợ'!N26+'hỗ trợ'!N27 -> 516690000 | H19: =G19+F19+E19+D19 -> 622311700
A20: =MAX(A$6:$B19)+1 -> 15 | B20: ='Dat-Bieu10'!B29 -> ông Ngô Văn Chiêm và bà Phùng Thị Xuyến | C20: TDP Tân Diêm, phường Sa Huỳnh | D20: ='Dat-Bieu10'!N29 -> 1536800 | E20: ='tài sản'!M20 -> 0 | F20: ='cây cối'!M45 -> 0 | G20: ='hỗ trợ'!N28 -> 9153970 | H20: =G20+F20+E20+D20 -> 10690770
A21: =MAX(A$6:$B20)+1 -> 16 | B21: ='Dat-Bieu10'!B30 -> Hộ ông Ngô Văn Chiêm và bà Phùng Thị Xuyến | C21: TDP Tân Diêm, phường Sa Huỳnh | D21: ='Dat-Bieu10'!N30 -> 34544000 | F21: ='cây cối'!M46 -> 2082800 | G21: ='hỗ trợ'!N29 -> 172720000 | H21: =G21+F21+E21+D21 -> 209346800
A22: =MAX(A$6:$B21)+1 -> 17 | B22: ='Dat-Bieu10'!B31 -> Hộ ông Ngô Hữu Chí và bà Nguyễn Thị Lương | C22: TDP Tân Diêm, phường Sa Huỳnh | D22: ='Dat-Bieu10'!N31 -> 74460000 | F22: ='cây cối'!M48 -> 4489500 | G22: ='hỗ trợ'!N30 -> 374259960 | H22: =G22+F22+E22+D22 -> 453209460
A23: =MAX(A$6:$B22)+1 -> 18 | B23: ='Dat-Bieu10'!B32 -> ông Lê Thành Công, bà Lê Thị Phi, bà Lê Thị Nguyệt, ông Lê Thanh Dân, ông Lê Đức Phước, bà Lê Thị Đức, ông Lê Văn Toàn, bà Lê Thị Oanh đồng thừa kế của ông Lê Cát và bà Nguyễn Thị Sáu | C23: TDP Tân Diêm, phường Sa Huỳnh | D23: ='Dat-Bieu10'!N32+'Dat-Bieu10'!N33 -> 99280000 | E23: ='tài sản'!M22 -> 0 | F23: ='cây cối'!M50 -> 5986000 | G23: ='hỗ trợ'!N31+'hỗ trợ'!N32 -> 496400000 | H23: =G23+F23+E23+D23 -> 601666000
A24: =MAX(A$6:$B23)+1 -> 19 | B24: ='Dat-Bieu10'!B34 -> Hộ ông Ngô Văn Chiền và bà Phạm Thị Gái | C24: TDP Tân Diêm, phường Sa Huỳnh | D24: ='Dat-Bieu10'!N34 -> 41961000 | E24: ='tài sản'!M24 -> 0 | F24: ='cây cối'!M53 -> 2423100 | G24: ='hỗ trợ'!N33 -> 217644840 | H24: =G24+F24+E24+D24 -> 262028940
A25: =MAX(A$6:$B24)+1 -> 20 | B25: ='Dat-Bieu10'!B35 -> bà Phùng Thị Chí, ông Trần Trọng Nghĩa, bà Trần Thị Kim Loan, ông Trần Đức Phụng, bà Trần Thị Mỹ Hạnh đồng thừa kế của ông Trần Mỉa | C25: TDP Tân Diêm, phường Sa Huỳnh | D25: ='Dat-Bieu10'!N35 -> 121040000 | F25: ='cây cối'!M55 -> 7298000 | G25: ='hỗ trợ'!N34 -> 605200000 | H25: =G25+F25+E25+D25 -> 733538000
A26: =MAX(A$6:$B25)+1 -> 21 | B26: ='Dat-Bieu10'!B36 -> hộ ông Trần Trung Dũng và bà Nguyễn Thị Cúc | C26: TDP Tân Diêm, phường Sa Huỳnh | D26: ='Dat-Bieu10'!N36+'Dat-Bieu10'!N37 -> 123975000 | E26: ='tài sản'!M26 -> 0 | F26: ='cây cối'!M57 -> 7318500 | G26: ='hỗ trợ'!N35+'hỗ trợ'!N36 -> 661034160 | H26: =G26+F26+E26+D26 -> 792327660
A27: =MAX(A$6:$B26)+1 -> 22 | B27: ='Dat-Bieu10'!B38 -> Hộ ông Phùng Đình Duy và bà Ngô Thị Hường | C27: TDP Tân Diêm, phường Sa Huỳnh | D27: ='Dat-Bieu10'!N38 -> 66150000 | F27: ='cây cối'!M60 -> 3616200 | G27: ='hỗ trợ'!N37 -> 334179930 | H27: =G27+F27+E27+D27 -> 403946130
A28: =MAX(A$6:$B27)+1 -> 23 | B28: ='Dat-Bieu10'!B39 -> Hộ ông Đào Văn Đỗi và bà Lê Thị Sông | C28: TDP Tân Diêm, phường Sa Huỳnh | D28: ='Dat-Bieu10'!N39 -> 36652000 | E28: ='tài sản'!M28 -> 0 | F28: ='cây cối'!M62 -> 2209900 | G28: ='hỗ trợ'!N38 -> 185219960 | H28: =G28+F28+E28+D28 -> 224081860
A29: =MAX(A$6:$B28)+1 -> 24 | B29: ='Dat-Bieu10'!B40 -> Hộ bà Ngô Thị Đài | C29: TDP Tân Diêm, phường Sa Huỳnh | D29: ='Dat-Bieu10'!N40 -> 66811000 | F29: ='cây cối'!M64 -> 3858100 | G29: ='hỗ trợ'!N39 -> 336994940 | H29: =G29+F29+E29+D29 -> 407664040
A30: =MAX(A$6:$B29)+1 -> 25 | B30: ='Dat-Bieu10'!B41 -> Hộ ông Nguyễn Tấn Đức và bà Trần Thị Ngọc Anh | C30: TDP Tân Diêm, phường Sa Huỳnh | D30: ='Dat-Bieu10'!N41 -> 112890000 | F30: ='cây cối'!M66 -> 6519000 | G30: ='hỗ trợ'!N40 -> 586499550 | H30: =G30+F30+E30+D30 -> 705908550
A31: =MAX(A$6:$B30)+1 -> 26 | B31: ='Dat-Bieu10'!B42 -> bà Võ Thị Hường, ông Phùng Đình Thích, bà Phùng Thị Trinh, bà Phùng Thị Đậm, bà Phùng Thị Được, ông Phùng Đình Lắm đồng thừa kế của ông Phùng Đình Kích | C31: TDP Tân Diêm, phường Sa Huỳnh | D31: ='Dat-Bieu10'!N42+'Dat-Bieu10'!N43 -> 146676000 | F31: ='cây cối'!M68 -> 8843700 | G31: ='hỗ trợ'!N41+'hỗ trợ'!N42 -> 733380000 | H31: =G31+F31+E31+D31 -> 888899700
A32: =MAX(A$6:$B31)+1 -> 27 | B32: ='Dat-Bieu10'!B44 -> Hộ ông Ngô Quang Hiền và bà Võ Thị Ngãnh | C32: TDP Tân Diêm, phường Sa Huỳnh | D32: ='Dat-Bieu10'!N44+'Dat-Bieu10'!N45 -> 119204000 | E32: ='tài sản'!M30 -> 0 | F32: ='cây cối'!M71 -> 7187300 | G32: ='hỗ trợ'!N43+'hỗ trợ'!N44 -> 637179160 | H32: =G32+F32+E32+D32 -> 763570460
A33: =MAX(A$6:$B32)+1 -> 28 | B33: ='Dat-Bieu10'!B46 -> Hộ ông Phạm Hùng và bà Nguyễn Thị Ngọc | C33: TDP Tân Diêm, phường Sa Huỳnh | D33: ='Dat-Bieu10'!N46+'Dat-Bieu10'!N47 -> 62706000 | F33: ='cây cối'!M74 -> 3726900 | G33: ='hỗ trợ'!N45+'hỗ trợ'!N46 -> 322349820 | H33: =G33+F33+E33+D33 -> 388782720
A34: =MAX(A$6:$B33)+1 -> 29 | B34: ='Dat-Bieu10'!B48 -> Hộ ông Nguyễn Hiệp và bà Nguyễn Thị Bi | C34: TDP Tân Diêm, phường Sa Huỳnh | D34: ='Dat-Bieu10'!N48 -> 69450000 | F34: ='cây cối'!M77 -> 3796600 | G34: ='hỗ trợ'!N47 -> 351169920 | H34: =G34+F34+E34+D34 -> 424416520
A35: =MAX(A$6:$B34)+1 -> 30 | B35: ='Dat-Bieu10'!B49 -> Hộ ông Ngô Tấn Hồng và bà Phùng Thị Hoa | C35: TDP Tân Diêm, phường Sa Huỳnh | D35: ='Dat-Bieu10'!N49+'Dat-Bieu10'!N50 -> 155448000 | E35: ='tài sản'!M32 -> 0 | F35: ='cây cối'!M79 -> 9372600 | G35: ='hỗ trợ'!N48+'hỗ trợ'!N49 -> 783119880 | H35: =G35+F35+E35+D35 -> 947940480
A36: =MAX(A$6:$B35)+1 -> 31 | B36: ='Dat-Bieu10'!B51 -> ông Võ Thanh Hồng | C36: TDP Thạnh Đức 1, phường Sa Huỳnh | D36: ='Dat-Bieu10'!N51 -> 125386000 | F36: ='cây cối'!M82 -> 7240600 | G36: ='hỗ trợ'!N50 -> 685728800 | H36: =G36+F36+E36+D36 -> 818355400
A37: =MAX(A$6:$B36)+1 -> 32 | B37: ='Dat-Bieu10'!B52 -> Hộ ông Trần Hồng và bà Ngô Thị Lập | C37: TDP Tân Diêm, phường Sa Huỳnh | D37: ='Dat-Bieu10'!N52+'Dat-Bieu10'!N53 -> 131279000 | E37: ='tài sản'!M35 -> 0 | F37: ='cây cối'!M84 -> 7580900 | G37: ='hỗ trợ'!N51+'hỗ trợ'!N52 -> 662274880 | H37: =G37+F37+E37+D37 -> 801134780
A38: =MAX(A$6:$B37)+1 -> 33 | B38: ='Dat-Bieu10'!B54 -> ông Nguyễn Tấn Hiền và bà Lê Thị Kim Nhung | C38: TDP Tân Diêm, phường Sa Huỳnh | D38: ='Dat-Bieu10'!N54 -> 35904000 | G38: ='hỗ trợ'!N53 -> 203039520 | H38: =G38+F38+E38+D38 -> 238943520
A39: =MAX(A$6:$B38)+1 -> 34 | B39: ='Dat-Bieu10'!B55 -> Hộ ông Nguyễn Tấn Hiền và bà Lê Thị Kim Nhung | C39: TDP Tân Diêm, phường Sa Huỳnh | D39: ='Dat-Bieu10'!N55+'Dat-Bieu10'!N56 -> 51877200 | E39: ='tài sản'!M38 -> 0 | F39: ='cây cối'!M87 -> 3127890 | G39: ='hỗ trợ'!N54+'hỗ trợ'!N55 -> 2.59386e+08 | H39: =G39+F39+E39+D39 -> 314391090
A40: =MAX(A$6:$B39)+1 -> 35 | B40: ='Dat-Bieu10'!B57 -> Hộ bà Nguyễn Thị Hữu | C40: TDP Tân Diêm, phường Sa Huỳnh | D40: ='Dat-Bieu10'!N57+'Dat-Bieu10'!N58 -> 91895200 | E40: ='tài sản'!M40 -> 0 | F40: ='cây cối'!M90 -> 5540740 | G40: ='hỗ trợ'!N56+'hỗ trợ'!N57 -> 462415940 | H40: =G40+F40+E40+D40 -> 559851880
A41: =MAX(A$6:$B40)+1 -> 36 | B41: ='Dat-Bieu10'!B59 -> ông Phùng Đình Hoa và bà Trần Thị Mai | C41: TDP Tân Diêm, phường Sa Huỳnh | D41: ='Dat-Bieu10'!N59 -> 22644000 | F41: ='cây cối'!M93 -> 1831500 | G41: ='hỗ trợ'!N58 -> 116649930 | H41: =G41+F41+E41+D41 -> 141125430
A42: =MAX(A$6:$B41)+1 -> 37 | B42: ='Dat-Bieu10'!B60 -> Hộ bà Phùng Thị Hương và ông Huỳnh Phú | C42: TDP Tân Diêm, phường Sa Huỳnh | D42: ='Dat-Bieu10'!N60 -> 116076000 | F42: ='cây cối'!M95 -> 6998700 | G42: ='hỗ trợ'!N59 -> 609779400 | H42: =G42+F42+E42+D42 -> 732854100
A43: =MAX(A$6:$B42)+1 -> 38 | B43: ='Dat-Bieu10'!B61 -> ông Ngô Lá, bà Ngô Thị Thu, ông Ngô Văn Toàn, ông Ngô Lâm đồng thừa kế của bà Trần Thị Hoàng | C43: TDP Tân Diêm, phường Sa Huỳnh | D43: ='Dat-Bieu10'!N61 -> 105128000 | F43: ='cây cối'!M97 -> 6338600 | G43: ='hỗ trợ'!N60 -> 525640000 | H43: =G43+F43+E43+D43 -> 637106600
A44: =MAX(A$6:$B43)+1 -> 39 | B44: ='Dat-Bieu10'!B62 -> Hộ ông Nguyễn Văn Hùng và bà Phạm Thị Lựa | C44: TDP Tân Diêm, phường Sa Huỳnh | D44: ='Dat-Bieu10'!N62 -> 39440000 | E44: ='tài sản'!M42 -> 0 | F44: ='cây cối'!M99 -> 2378000 | G44: ='hỗ trợ'!N61 -> 203079880 | H44: =G44+F44+E44+D44 -> 244897880
A45: =MAX(A$6:$B44)+1 -> 40 | B45: ='Dat-Bieu10'!B63 -> Hộ ông Phạm Trọng Hiếu và bà Võ Thị Sáu | C45: TDP Tân Diêm, phường Sa Huỳnh | D45: ='Dat-Bieu10'!N63 -> 47328000 | F45: ='cây cối'!M101 -> 2853600 | G45: ='hỗ trợ'!N62 -> 237619980 | H45: =G45+F45+E45+D45 -> 287801580
A46: =MAX(A$6:$B45)+1 -> 41 | B46: ='Dat-Bieu10'!B64 -> Hộ bà Ngô Thị Hữu | C46: TDP Tân Diêm, phường Sa Huỳnh | D46: ='Dat-Bieu10'!N64 -> 51075000 | F46: ='cây cối'!M103 -> 2792100 | G46: ='hỗ trợ'!N63 -> 260274900 | H46: =G46+F46+E46+D46 -> 314142000
A47: =MAX(A$6:$B46)+1 -> 42 | B47: ='Dat-Bieu10'!B65 -> Hộ ông Nguyễn Duy Khánh và bà Nguyễn Thị Kim Liên | C47: TDP Tân Diêm, phường Sa Huỳnh | D47: ='Dat-Bieu10'!N65 -> 58504000 | E47: ='tài sản'!M44 -> 0 | F47: ='cây cối'!M105 -> 3378400 | G47: ='hỗ trợ'!N64 -> 295459940 | H47: =G47+F47+E47+D47 -> 357342340
A48: =MAX(A$6:$B47)+1 -> 43 | B48: ='Dat-Bieu10'!B66 -> Hộ ông Phùng Đình Khánh và bà Nguyễn Thị Hương | C48: TDP Tân Diêm, phường Sa Huỳnh | D48: ='Dat-Bieu10'!N66 -> 56850000 | F48: ='cây cối'!M107 -> 3107800 | G48: ='hỗ trợ'!N65 -> 296009760 | H48: =G48+F48+E48+D48 -> 355967560
A49: =MAX(A$6:$B48)+1 -> 44 | B49: ='Dat-Bieu10'!B67 -> ông Nguyễn Tấn Phó, bà Nguyễn Thị Hòa, ông Nguyễn Công Danh, ông Nguyễn Văn Chiến, bà Nguyễn Thị Thắng đồng thừa kế của bà Nguyễn Thị Kỉnh | C49: TDP Tân Diêm, phường Sa Huỳnh | D49: ='Dat-Bieu10'!N67 -> 42600000 | F49: ='cây cối'!M109 -> 2460000 | G49: ='hỗ trợ'!N66 -> 213000000 | H49: =G49+F49+E49+D49 -> 258060000
A50: =MAX(A$6:$B49)+1 -> 45 | B50: ='Dat-Bieu10'!B68 -> bà Nguyễn Thị Nhàn, bà Phùng Thị Thư, ông Phùng Đình Bằng, ông Phùng Đình Lĩnh, bà Phùng Thị Phương Linh đồng thừa kế của ông Phùng Đình Khải | C50: TDP Tân Diêm, phường Sa Huỳnh | D50: ='Dat-Bieu10'!N68 -> 160105000 | E50: ='tài sản'!M46 -> 0 | F50: ='cây cối'!M111 -> 9245500 | G50: ='hỗ trợ'!N67 -> 800525000 | H50: =G50+F50+E50+D50 -> 969875500
A51: =MAX(A$6:$B50)+1 -> 46 | B51: ='Dat-Bieu10'!B69 -> ông Võ Sỉ Khánh và bà Nguyễn Thị Nhi | C51: TDP Tân Diêm, phường Sa Huỳnh | D51: ='Dat-Bieu10'!N69 -> 6256000 | F51: ='cây cối'!M113 -> 506000 | G51: ='hỗ trợ'!N68 -> 60679400 | H51: =G51+F51+E51+D51 -> 67441400
A52: =MAX(A$6:$B51)+1 -> 47 | B52: ='Dat-Bieu10'!B70 -> ông Đoàn Tấn Linh và bà Đinh Thị Thu Hà | C52: TDP Tân Diêm, phường Sa Huỳnh | D52: ='Dat-Bieu10'!N70 -> 39984000 | F52: ='cây cối'!M115 -> 2410800 | G52: ='hỗ trợ'!N69 -> 229319400 | H52: =G52+F52+E52+D52 -> 271714200
A53: =MAX(A$6:$B52)+1 -> 48 | B53: ='Dat-Bieu10'!B71 -> Hộ bà Nguyễn Thị Kim Long | C53: TDP Tân Diêm, phường Sa Huỳnh | D53: ='Dat-Bieu10'!N71 -> 58616000 | F53: ='cây cối'!M117 -> 3534200 | G53: ='hỗ trợ'!N70 -> 294059980 | H53: =G53+F53+E53+D53 -> 356210180
A54: =MAX(A$6:$B53)+1 -> 49 | B54: ='Dat-Bieu10'!B72 -> ông Trần Minh Long, ông Trần Minh Nam, bà Trần Thị Vĩnh, ông Trần Minh Quảng, ông Trần Quảng Đại đồng thừa kế của bà Nguyễn Thị Huấn | C54: TDP Tân Diêm, phường Sa Huỳnh | D54: ='Dat-Bieu10'!N72 -> 24752000 | E54: ='tài sản'!M48 -> 0 | F54: ='cây cối'!M119 -> 1492400 | G54: ='hỗ trợ'!N71 -> 0 | H54: =G54+F54+E54+D54 -> 26244400
A55: =MAX(A$6:$B54)+1 -> 50 | B55: ='Dat-Bieu10'!B73 -> Hộ ông Ngô Văn Liễu và bà Nguyễn Thị My | C55: TDP Tân Diêm, phường Sa Huỳnh | D55: ='Dat-Bieu10'!N73 -> 21148000 | E55: ='tài sản'!M50 -> 0 | F55: ='cây cối'!M121 -> 1275100 | G55: ='hỗ trợ'!N72 -> 115539800 | H55: =G55+F55+E55+D55 -> 137962900
A56: =MAX(A$6:$B55)+1 -> 51 | B56: ='Dat-Bieu10'!B74 -> ông Ngô Văn Liễu và bà Nguyễn Thị My | C56: TDP Tân Diêm, phường Sa Huỳnh | D56: ='Dat-Bieu10'!N74 -> 958800 | F56: ='cây cối'!M123 -> 0 | G56: ='hỗ trợ'!N73 -> 4794000 | H56: =G56+F56+E56+D56 -> 5752800
A57: =MAX(A$6:$B56)+1 -> 52 | B57: ='Dat-Bieu10'!B75 -> Hộ bà Lê Thị Thanh Nga và ông Nguyễn Hưng Liễm | C57: TDP Tân Diêm, phường Sa Huỳnh | D57: ='Dat-Bieu10'!N75 -> 68216800 | F57: ='cây cối'!M124 -> 3939280 | G57: ='hỗ trợ'!N74 -> 358723640 | H57: =G57+F57+E57+D57 -> 430879720
A58: =MAX(A$6:$B57)+1 -> 53 | B58: ='Dat-Bieu10'!B76 -> Hộ ông Nguyễn Lành và bà Phùng Thị Tâm | C58: TDP Tân Diêm, phường Sa Huỳnh | D58: ='Dat-Bieu10'!N76 -> 134300000 | E58: ='tài sản'!M52 -> 0 | F58: ='cây cối'!M126 -> 8097500 | G58: ='hỗ trợ'!N75 -> 677379880 | H58: =G58+F58+E58+D58 -> 819777380
A59: =MAX(A$6:$B58)+1 -> 54 | B59: ='Dat-Bieu10'!B77 -> Hộ ông Phùng Đình Lai và bà Ngô Thị Liễu | C59: TDP Tân Diêm, phường Sa Huỳnh | D59: ='Dat-Bieu10'!N77 -> 151455000 | F59: ='cây cối'!M128 -> 8279540 | G59: ='hỗ trợ'!N76 -> 763154880 | H59: =G59+F59+E59+D59 -> 922889420
A60: =MAX(A$6:$B59)+1 -> 55 | B60: ='Dat-Bieu10'!B78 -> Hộ ông Nguyễn Lộc và bà Nguyễn Thị Sô | C60: TDP Tân Diêm, phường Sa Huỳnh | D60: ='Dat-Bieu10'!N78 -> 77248000 | F60: ='cây cối'!M130 -> 4657600 | G60: ='hỗ trợ'!N77 -> 395059820 | H60: =G60+F60+E60+D60 -> 476965420
A61: =MAX(A$6:$B60)+1 -> 56 | B61: ='Dat-Bieu10'!B79 -> ông Nguyễn Lộc và bà Nguyễn Thị Sô | C61: TDP Tân Diêm, phường Sa Huỳnh | D61: ='Dat-Bieu10'!N79 -> 41820000 | F61: ='cây cối'!M132 -> 3817500 | G61: ='hỗ trợ'!N78 -> 209100000 | H61: =G61+F61+E61+D61 -> 254737500
A62: =MAX(A$6:$B61)+1 -> 57 | B62: ='Dat-Bieu10'!B80 -> Hộ ông Ngô Văn Lệ và bà Đào Thị Mỹ Linh | C62: TDP Tân Diêm, phường Sa Huỳnh | D62: ='Dat-Bieu10'!N80 -> 44091000 | E62: ='tài sản'!M55 -> 0 | F62: ='cây cối'!M136 -> 2546100 | G62: ='hỗ trợ'!N79 -> 235154700 | H62: =G62+F62+E62+D62 -> 281791800
A63: =MAX(A$6:$B62)+1 -> 58 | B63: ='Dat-Bieu10'!B81 -> Hộ ông Nguyễn Lương và bà Nguyễn Thị Hùng | C63: TDP Tân Diêm, phường Sa Huỳnh | D63: ='Dat-Bieu10'!N81+'Dat-Bieu10'!N82 -> 155992000 | E63: ='tài sản'!M57 -> 0 | F63: ='cây cối'!M138 -> 9405400 | G63: ='hỗ trợ'!N80+'hỗ trợ'!N81 -> 794659700 | H63: =G63+F63+E63+D63 -> 960057100
A64: =MAX(A$6:$B63)+1 -> 59 | B64: ='Dat-Bieu10'!B83 -> Ông Nguyễn Tấn Lực và bà Phùng Thị Thu | C64: TDP Tân Diêm, phường Sa Huỳnh | D64: ='Dat-Bieu10'!N83 -> 67796000 | F64: ='cây cối'!M141 -> 4087700 | G64: ='hỗ trợ'!N82 -> 362499520 | H64: =G64+F64+E64+D64 -> 434383220
A65: =MAX(A$6:$B64)+1 -> 60 | B65: ='Dat-Bieu10'!B84 -> Ông Trịnh Bích và bà Trần Thị Lệ | C65: TDP Tân Diêm, phường Sa Huỳnh | D65: ='Dat-Bieu10'!N84 -> 36856000 | F65: ='cây cối'!M143 -> 2222200 | G65: ='hỗ trợ'!N83 -> 201919640 | H65: =G65+F65+E65+D65 -> 240997840
A66: =MAX(A$6:$B65)+1 -> 61 | B66: ='Dat-Bieu10'!B85 -> Hộ ông Ngô Đức Hùng và bà Nguyễn Thị Mười | C66: TDP Tân Diêm, phường Sa Huỳnh | D66: ='Dat-Bieu10'!N85+'Dat-Bieu10'!N86 -> 81437000 | F66: ='cây cối'!M145 -> 4702700 | G66: ='hỗ trợ'!N84+'hỗ trợ'!N85 -> 418944760 | H66: =G66+F66+E66+D66 -> 505084460
A67: =MAX(A$6:$B66)+1 -> 62 | B67: ='Dat-Bieu10'!B87 -> Hộ bà Trần Thị Mực | C67: TDP Tân Diêm, phường Sa Huỳnh | D67: ='Dat-Bieu10'!N87 -> 91590000 | F67: ='cây cối'!M148 -> 5289000 | G67: ='hỗ trợ'!N86 -> 466769820 | H67: =G67+F67+E67+D67 -> 563648820
A68: =MAX(A$6:$B67)+1 -> 63 | B68: ='Dat-Bieu10'!B88 -> ông Phùng Đình Thôi, bà Phùng Thị Tí, bà Phùng Thị Mùi, bà Phùng Thị Vân, bà Phùng Thị Mười, bà Phùng Thị Dư đồng thừa kế của bà Lê Thị Năm | C68: TDP Tân Diêm, phường Sa Huỳnh | D68: ='Dat-Bieu10'!N88 -> 64600000 | E68: ='tài sản'!M61 -> 0 | F68: ='cây cối'!M150 -> 3895000 | G68: ='hỗ trợ'!N87 -> 323000000 | H68: =G68+F68+E68+D68 -> 391495000
A69: =MAX(A$6:$B68)+1 -> 64 | B69: ='Dat-Bieu10'!B89 -> ông Lê Miên | C69: TDP Tân Diêm, phường Sa Huỳnh | D69: ='Dat-Bieu10'!N89+'Dat-Bieu10'!N90 -> 69040000 | F69: ='cây cối'!M152 -> 4054900 | G69: ='hỗ trợ'!N88++'hỗ trợ'!N89 -> 368719520 | H69: =G69+F69+E69+D69 -> 441814420
A70: =MAX(A$6:$B69)+1 -> 65 | B70: ='Dat-Bieu10'!B91 -> ông Lê Minh Mậu, bà Lê Thị Trang, ông Lê Văn Châu, ông Lê Minh Kiệt, ông Lê Minh Dũng, bà Lê Thị Ngọc, ông Lê Minh Hiệp đồng thừa kế của bà Nguyễn Thị Điểm | C70: TDP Tân Diêm, phường Sa Huỳnh | D70: ='Dat-Bieu10'!N91 -> 13600000 | F70: ='cây cối'!M155 -> 1204800 | G70: ='hỗ trợ'!N90 -> 68000000 | H70: =G70+F70+E70+D70 -> 82804800
A71: =MAX(A$6:$B70)+1 -> 66 | B71: ='Dat-Bieu10'!B92 -> Hộ bà Phùng Thị Mỹ | C71: TDP Tân Diêm, phường Sa Huỳnh | D71: ='Dat-Bieu10'!N92+'Dat-Bieu10'!N93 -> 62115000 | F71: ='cây cối'!M158 -> 3395620 | G71: ='hỗ trợ'!N91+'hỗ trợ'!N92 -> 325274700 | H71: =G71+F71+E71+D71 -> 390785320
A72: =MAX(A$6:$B71)+1 -> 67 | B72: ='Dat-Bieu10'!B94 -> bà Phùng Thị Mỹ, ông Đinh Xuân Tuấn, ông Đinh Xuân Đạt, bà Đinh Thanh Thúy, bà Đinh Thị Bích Ngọc đồng thừa kế của ông Đinh Vận | C72: TDP Tân Diêm, phường Sa Huỳnh | D72: ='Dat-Bieu10'!N94 -> 22399200 | F72: ='cây cối'!M161 -> 1811700 | G72: ='hỗ trợ'!N93 -> 1.11996e+08 | H72: =G72+F72+E72+D72 -> 136206900
A73: =MAX(A$6:$B72)+1 -> 68 | B73: ='Dat-Bieu10'!B95 -> Hộ ông Lê Hồng Nga và bà Nguyễn Thị Mai Anh | C73: TDP Tân Diêm, phường Sa Huỳnh | D73: ='Dat-Bieu10'!N95+'Dat-Bieu10'!N96 -> 124650800 | F73: ='cây cối'!M163 -> 7515710 | G73: ='hỗ trợ'!N94+'hỗ trợ'!N95 -> 632073820 | H73: =G73+F73+E73+D73 -> 764240330
A74: =MAX(A$6:$B73)+1 -> 69 | B74: ='Dat-Bieu10'!B97 -> bà Nguyễn Thị Nga | C74: TDP Tân Diêm, phường Sa Huỳnh | D74: ='Dat-Bieu10'!N97 -> 36856000 | F74: ='cây cối'!M166 -> 2222200 | G74: ='hỗ trợ'!N96 -> 201919640 | H74: =G74+F74+E74+D74 -> 240997840
A75: =MAX(A$6:$B74)+1 -> 70 | B75: ='Dat-Bieu10'!B98 -> bà Trương Thị Kim Nhựt, ông Phùng Đình Lưu, bà Phùng Thị Nguyện, ông Phùng Đình Ý đồng thừa kế của ông Phùng Đình Chiến | C75: TDP Tân Diêm, phường Sa Huỳnh | D75: ='Dat-Bieu10'!N98+'Dat-Bieu10'!N99 -> 148888000 | E75: ='tài sản'!M63 -> 0 | F75: ='cây cối'!M168 -> 8815000 | G75: ='hỗ trợ'!N97+'hỗ trợ'!N98 -> 744440000 | H75: =G75+F75+E75+D75 -> 902143000
A76: =MAX(A$6:$B75)+1 -> 71 | B76: ='Dat-Bieu10'!B100 -> bà Nguyễn Thị Nữ, ông Ngô Văn Điệp, ông Ngô Nhựt, bà Ngô Thị Bửu, ông Ngô Văn Hoàng, bà Ngô Thị Khắc Ghi đồng thừa kế của ông Ngô Nhứt | C76: TDP Tân Diêm, phường Sa Huỳnh | D76: ='Dat-Bieu10'!N100 -> 67932000 | F76: ='cây cối'!M171 -> 4095900 | G76: ='hỗ trợ'!N99 -> 339660000 | H76: =G76+F76+E76+D76 -> 411687900
A77: =MAX(A$6:$B76)+1 -> 72 | B77: ='Dat-Bieu10'!B101 -> Hộ ông Ngô Tấn Ngọc và bà Nguyễn Thị Hương | C77: TDP Tân Diêm, phường Sa Huỳnh | D77: ='Dat-Bieu10'!N101 -> 98832000 | F77: ='cây cối'!M173 -> 5707200 | G77: ='hỗ trợ'!N100 -> 552958800 | H77: =G77+F77+E77+D77 -> 657498000
A78: =MAX(A$6:$B77)+1 -> 73 | B78: ='Dat-Bieu10'!B102 -> ông Ngô Tấn Ngọc, bà Ngô Thị Đào, bà Ngô Thị Sáng, ông Ngô Gương đồng thừa kế của hộ bà Nguyễn Thị Có | C78: TDP Tân Diêm, phường Sa Huỳnh | D78: ='Dat-Bieu10'!N102 -> 44336000 | E78: ='tài sản'!M65 -> 0 | F78: ='cây cối'!M175 -> 2673200 | G78: ='hỗ trợ'!N101 -> 221680000 | H78: =G78+F78+E78+D78 -> 268689200
A79: =MAX(A$6:$B78)+1 -> 74 | B79: ='Dat-Bieu10'!B103 -> Hộ bà Mai Thị Nỡ | C79: TDP Tân Diêm, phường Sa Huỳnh | D79: ='Dat-Bieu10'!N103+'Dat-Bieu10'!N104 -> 52423000 | F79: ='cây cối'!M177 -> 3070900 | G79: ='hỗ trợ'!N102+'hỗ trợ'!N103 -> 285634520 | H79: =G79+F79+E79+D79 -> 341128420
A80: =MAX(A$6:$B79)+1 -> 75 | B80: ='Dat-Bieu10'!B105 -> bà Mai Thị Nỡ | C80: TDP Tân Diêm, phường Sa Huỳnh | D80: ='Dat-Bieu10'!N105 -> 29784000 | G80: ='hỗ trợ'!N104 -> 148920000 | H80: =G80+F80+E80+D80 -> 178704000
A81: =MAX(A$6:$B80)+1 -> 76 | B81: ='Dat-Bieu10'!B106 -> bà Đào Thị Nguyệt, bà Đào Thị Tuyết Thương, bà Đào Thị Tuyết Vân, ông Đào Anh Toàn, ông Đào Anh Tuấn đồng thừa kế của ông Đào Văn Ngại | C81: TDP Tân Diêm, phường Sa Huỳnh | D81: ='Dat-Bieu10'!N106 -> 86700000 | F81: ='cây cối'!M180 -> 5227500 | G81: ='hỗ trợ'!N105 -> 433500000 | H81: =G81+F81+E81+D81 -> 525427500
A82: =MAX(A$6:$B81)+1 -> 77 | B82: ='Dat-Bieu10'!B107 -> Hộ ông Phùng Đình Ninh và bà Nguyễn Thị Sa | C82: TDP Tân Diêm, phường Sa Huỳnh | D82: ='Dat-Bieu10'!N107 -> 138521000 | F82: ='cây cối'!M182 -> 7999100 | G82: ='hỗ trợ'!N106 -> 696524920 | H82: =G82+F82+E82+D82 -> 843045020
A83: =MAX(A$6:$B82)+1 -> 78 | B83: ='Dat-Bieu10'!B108 -> Hộ ông Nguyễn Xuân Nam và bà Trương Thị Lan | C83: TDP Tân Diêm, phường Sa Huỳnh | D83: ='Dat-Bieu10'!N108 -> 61132000 | F83: ='cây cối'!M184 -> 3685900 | G83: ='hỗ trợ'!N107 -> 323299640 | H83: =G83+F83+E83+D83 -> 388117540
A84: =MAX(A$6:$B83)+1 -> 79 | B84: ='Dat-Bieu10'!B109 -> bà Nguyễn Thị Hường, bà Nguyễn Thị Bông, ông Nguyễn Văn Trường, ông Nguyễn Hữu Thọ đồng thừa kế của bà Ngô Thị Năm | C84: TDP Tân Diêm, phường Sa Huỳnh | D84: ='Dat-Bieu10'!N109 -> 72284000 | F84: ='cây cối'!M186 -> 4358300 | G84: ='hỗ trợ'!N108 -> 361420000 | H84: =G84+F84+E84+D84 -> 438062300
A85: =MAX(A$6:$B84)+1 -> 80 | B85: ='Dat-Bieu10'!B110 -> bà Nguyễn Thị Nhị | C85: TDP Tân Diêm, phường Sa Huỳnh | D85: ='Dat-Bieu10'!N110 -> 30124000 | F85: ='cây cối'!M188 -> 1816300 | G85: ='hỗ trợ'!N109 -> 162379760 | H85: =G85+F85+E85+D85 -> 194320060
A86: =MAX(A$6:$B85)+1 -> 81 | B86: ='Dat-Bieu10'!B111 -> ông Ngô Văn Tín, ông Ngô Văn Sương, bà Ngô Thị Lập, bà Ngô Thị Hồng đồng thừa kế của bà Nguyễn Thị Nơi | C86: TDP Tân Diêm, phường Sa Huỳnh | D86: ='Dat-Bieu10'!N111 -> 19856000 | E86: ='tài sản'!M68 -> 0 | F86: ='cây cối'!M190 -> 1197200 | G86: ='hỗ trợ'!N110 -> 99280000 | H86: =G86+F86+E86+D86 -> 120333200
A87: =MAX(A$6:$B86)+1 -> 82 | B87: ='Dat-Bieu10'!B112 -> ông Trần Trung Nguyên và bà Nguyễn Thị Diệu | C87: TDP Tân Diêm, phường Sa Huỳnh | D87: ='Dat-Bieu10'!N112 -> 82756000 | F87: ='cây cối'!M192 -> 4989700 | G87: ='hỗ trợ'!N111 -> 428479700 | H87: =G87+F87+E87+D87 -> 516225400
A88: =MAX(A$6:$B87)+1 -> 83 | B88: ='Dat-Bieu10'!B113 -> bà Nguyễn Thị Châu, bà Ngô Thị Bích Trâm, ông Ngô Văn Vinh, ông Ngô Vinh Quang đồng thừa kế của ông Ngô Văn Ngữ | C88: TDP Tân Diêm, phường Sa Huỳnh | D88: ='Dat-Bieu10'!N113+'Dat-Bieu10'!N114 -> 143562000 | E88: ='tài sản'!M70 -> 0 | F88: ='cây cối'!M194 -> 8290200 | G88: ='hỗ trợ'!N112+'hỗ trợ'!N113 -> 717810000 | H88: =G88+F88+E88+D88 -> 869662200
A89: =MAX(A$6:$B88)+1 -> 84 | B89: ='Dat-Bieu10'!B115 -> bà Phạm Thị Sáu | C89: TDP Tân Diêm, phường Sa Huỳnh | D89: ='Dat-Bieu10'!N115 -> 33864000 | F89: ='cây cối'!M197 -> 2041800 | G89: ='hỗ trợ'!N114 -> 169320000 | H89: =G89+F89+E89+D89 -> 205225800
A90: =MAX(A$6:$B89)+1 -> 85 | B90: ='Dat-Bieu10'!B116 -> Hộ ông Nguyễn Tấn Phó và bà Đặng Thị Điệp | C90: TDP Tân Diêm, phường Sa Huỳnh | D90: ='Dat-Bieu10'!N116 -> 33252000 | F90: ='cây cối'!M199 -> 2004900 | G90: ='hỗ trợ'!N115 -> 178019760 | H90: =G90+F90+E90+D90 -> 213276660
A91: =MAX(A$6:$B90)+1 -> 86 | B91: ='Dat-Bieu10'!B117 -> ông Nguyễn Tấn Phó và bà Đặng Thị Điệp | C91: TDP Tân Diêm, phường Sa Huỳnh | D91: ='Dat-Bieu10'!N117 -> 15028000 | F91: ='cây cối'!M201 -> 0 | G91: ='hỗ trợ'!N116 -> 75140000 | H91: =G91+F91+E91+D91 -> 90168000
A92: =MAX(A$6:$B91)+1 -> 87 | B92: ='Dat-Bieu10'!B118 -> hộ ông Trần Bình Phục | C92: TDP Tân Diêm, phường Sa Huỳnh | D92: ='Dat-Bieu10'!N118 -> 44812000 | E92: ='tài sản'!M74 -> 0 | F92: ='cây cối'!M204 -> 2701900 | G92: ='hỗ trợ'!N117 -> 253459400 | H92: =G92+F92+E92+D92 -> 300973300
A93: =MAX(A$6:$B92)+1 -> 88 | B93: ='Dat-Bieu10'!B119 -> Hộ bà Trần Thị Rợ | C93: TDP Tân Diêm, phường Sa Huỳnh | D93: ='Dat-Bieu10'!N119 -> 50796000 | F93: ='cây cối'!M206 -> 3062700 | G93: ='hỗ trợ'!N118 -> 258879900 | H93: =G93+F93+E93+D93 -> 312738600
A94: =MAX(A$6:$B93)+1 -> 89 | B94: ='Dat-Bieu10'!B120 -> Hộ ông Đào Ngọc Sĩ | C94: TDP Tân Diêm, phường Sa Huỳnh | D94: ='Dat-Bieu10'!N120 -> 50796000 | F94: ='cây cối'!M208 -> 3062700 | G94: ='hỗ trợ'!N119 -> 256919940 | H94: =G94+F94+E94+D94 -> 310778640
A95: =MAX(A$6:$B94)+1 -> 90 | B95: ='Dat-Bieu10'!B121 -> Hộ bà Phùng Thị Sáu | C95: TDP Tân Diêm, phường Sa Huỳnh | D95: ='Dat-Bieu10'!N121 -> 20672000 | F95: ='cây cối'!M210 -> 1246400 | G95: ='hỗ trợ'!N120 -> 109239880 | H95: =G95+F95+E95+D95 -> 131158280
A96: =MAX(A$6:$B95)+1 -> 91 | B96: ='Dat-Bieu10'!B122 -> ông Trịnh Quốc Sinh và bà Trương Thị Lệ Thu | C96: TDP Tân Diêm, phường Sa Huỳnh | D96: ='Dat-Bieu10'!N122 -> 47175000 | F96: ='cây cối'!M212 -> 2578900 | G96: ='hỗ trợ'!N121 -> 238814940 | H96: =G96+F96+E96+D96 -> 288568840
A97: =MAX(A$6:$B96)+1 -> 92 | B97: ='Dat-Bieu10'!B123 -> bà Nguyễn Thị Lựu, ông Ngô Văn Hà, ông Ngô Văn Hải, bà Ngô Thị Hưng, ông Ngô Văn Hạng, bà Ngô Thị Hằng đồng thừa kế của ông Ngô Thanh Sơn | C97: TDP Tân Diêm, phường Sa Huỳnh | D97: ='Dat-Bieu10'!N123+'Dat-Bieu10'!N124+'Dat-Bieu10'!N125+'Dat-Bieu10'!N126 -> 164634000 | E97: ='tài sản'!M76 -> 0 | F97: ='cây cối'!M214 -> 3546500 | G97: ='hỗ trợ'!N122+'hỗ trợ'!N123+'hỗ trợ'!N124+'hỗ trợ'!N125 -> 823170000 | H97: =G97+F97+E97+D97 -> 991350500
A98: =MAX(A$6:$B97)+1 -> 93 | B98: ='Dat-Bieu10'!B127 -> bà Phạm Thị Thanh | C98: TDP Tân Diêm, phường Sa Huỳnh | D98: ='Dat-Bieu10'!N127+'Dat-Bieu10'!N128+'Dat-Bieu10'!N129 -> 215016000 | F98: ='cây cối'!M217 -> 11836700 | G98: ='hỗ trợ'!N126+'hỗ trợ'!N127+'hỗ trợ'!N128 -> 1101539460 | H98: =G98+F98+E98+D98 -> 1328392160
A99: =MAX(A$6:$B98)+1 -> 94 | B99: ='Dat-Bieu10'!B130 -> ông Nguyễn Hữu Trị | C99: TDP Tân Diêm, phường Sa Huỳnh | D99: ='Dat-Bieu10'!N130 -> 49096000 | F99: ='cây cối'!M220 -> 2960200 | G99: ='hỗ trợ'!N129 -> 246949970 | H99: =G99+F99+E99+D99 -> 299006170
A100: =MAX(A$6:$B99)+1 -> 95 | B100: ='Dat-Bieu10'!B131 -> Hộ ông Nguyễn Bá Thống và bà Nguyễn Thị Bông | C100: TDP Tân Diêm, phường Sa Huỳnh | D100: ='Dat-Bieu10'!N131 -> 92371000 | E100: ='tài sản'!M79 -> 0 | F100: ='cây cối'!M222 -> 5334100 | G100: ='hỗ trợ'!N130 -> 464794940 | H100: =G100+F100+E100+D100 -> 562500040
...

Sheet cây hỗ trợ
A1: STT | B1: Họ và tên chủ sử dụng | C1: Chủng lọai, quy cách cây trồng | D1: Đơn vị tính | E1: Số lượng kiểm kê | F1: Số thửa | G1: Tờ bản đồ dự án | H1: Loại đất | I1: Ghi chú
A3: 1 | B3: ông Phùng Đình Vân, ông Phùng Đình Trung, ông Phùng Đình Tâm, ông Phùng Đình Bảo, ông Phùng Đình Toàn, ông Phùng Đình Khanh, ông Phùng Thanh Hiếu đồng thừa kế của ông Phùng Đình Chánh và bà Trần Thị Tự | C3: Dừa cây mới trồng | D3: cây | E3: 6 | F3: 747 | G3: 1 | H3: HNK
C4: Dừa cây đã cho quả | D4: cây | E4: 4 | F4: 747 | G4: 1 | H4: HNK
C5: Tre thường cây xanh chưa già | D5: cây | E5: 17 | F5: 747 | G5: 1 | H5: HNK
C6: Tre thường cây già sử dụng được | D6: cây | E6: 35 | F6: 747 | G6: 1 | H6: HNK
C7: Bạch đàn cây có đường kính gốc > 8cm đến ≤ 12cm | D7: cây | E7: 11 | F7: 747 | G7: 1 | H7: HNK
C8: Bạch đàn cây có đường kính gốc > 12cm đến ≤ 16cm | D8: cây | E8: 8 | F8: 747 | G8: 1 | H8: HNK
A9: 2 | B9: ông Nguyễn Lộc và bà Nguyễn Thị Sô | C9: Tre thường cây xanh chưa già | D9: cây | E9: 13 | F9: 1231 | G9: 1 | H9: HNK
C10: Tre thường cây già sử dụng được | D10: cây | E10: 8 | F10: 1231 | G10: 1 | H10: HNK
A11: 3 | B11: ông Lê Minh Mậu, bà Lê Thị Trang, ông Lê Văn Châu, ông Lê Minh Kiệt, ông Lê Minh Dũng, bà Lê Thị Ngọc, ông Lê Minh Hiệp đồng thừa kế của bà Nguyễn Thị Điểm | C11: Bạch đàn cây có đường kính gốc > 12cm đến ≤ 16cm | D11: cây | E11: 12 | F11: 41 | G11: 1 | H11: HNK
C12: Bạch đàn cây có đường kính gốc > 16cm đến ≤ 20cm | D12: cây | E12: 8 | F12: 41 | G12: 1 | H12: HNK
A13: 4 | B13: ông Nguyễn Tấn Phó và bà Đặng Thị Điệp | C13: Keo cây có đường kính gốc > 4cm đến ≤ 8cm | D13: cây | E13: 44 | F13: 1066 | G13: 1 | H13: HNK
C14: Keo cây có đường kính gốc > 8cm đến ≤ 12cm | D14: cây | E14: 68 | F14: 1066 | G14: 1 | H14: HNK
A24: STT | B24: Họ tên chủ hộ | C24: Tờ BĐ dự án | D24: Số thửa | E24: Loại đất | F24: Nhà, công trình phục vụ đời sống | J24: Ghi chú
F25: Hạng mục | G25: Đơn vị tính | H25: Khối lượng | I25: Năm xây dựng
A26: 1 | B26: Hộ ông Nguyễn Cho và bà Nguyễn Thị Lộc | C26: 1 | D26: 1124 | E26: HNK | F26: Giếng đóng bằng ống nhựa (PVC) Ø60, không có máy bơm điện, đầu bơm tay, nền giếng. Chiều sâu > 8m ÷ ≤ 12m | G26: m | H26: 12 | I26: 1998
A27: 2 | B27: ông Phan Xu, ông Phan Văn Ánh, ông Phan Thanh Hiện, bà, Phan Thị Tâm, ông Phan Văn Lý, bà Phan Thị Nguyệt, ông Phan Văn Thục, ông Phan Thanh Tại đồng thừa kế của bà Võ Thị Tạo | C27: 1 | D27: 1205 | E27: HNK | F27: Giếng đóng bằng ống nhựa (PVC) Ø60, không có máy bơm điện, đầu bơm tay, nền giếng. Chiều sâu 16m | G27: m | H27: 16 | I27: 1998

Sheet Sheet1
A1: DANH SÁCH ĐỀ NGHỊ HỖ TRỢ VỤ LÚA CHO CÁC HỘ GIA ĐÌNH, CÁ NHÂN CÓ ĐẤT NÔNG NGHIỆP KHÔNG THỂ SẢN XUẤT ĐƯỢC BỊ ẢNH HƯỞNG BỞI CÔNG TRÌNH: SÂN VẬN ĐỘNG PHỔ THẠNH
A2: Địa điểm: xã Phổ Thạnh, huyện Đức Phổ, tỉnh Quảng Ngãi
K3: ĐVT: m2
A4: STT | B4: Họ và tên | C4: Địa chỉ thường trú | D4: Tờ bản đồ | E4: Thửa đất số | F4: Diện tích thửa (m2) | G4: Loại đất | H4: Diện tích Quy hoạch (m2) | I4: Diện tích thực tế không sản xuất được đề nghị hỗ trợ (m2) | J4: Số vụ không sản xuất lúa đề nghị hỗ trợ | K4: Ghi chú
A6: 1 | B6: Hộ ông Nguyễn Mười và bà Trần Thị Son | C6: thôn La Vân, xã Phổ Thạnh | D6: 24 | E6: 543 | F6: 1933 | G6: LUC | H6: 1273 | I6: =F6 -> 1933 | J6: 1
A7: 2 | B7: Bà Ngô Thị Diệu | C7: thôn Thạch By 1, xã Phổ Thạnh | D7: 24 | E7: 576 | F7: 976 | G7: LUC | H7: 487 | I7: =F7 -> 976 | J7: 1
A8: 3 | B8: Ông Lê Thành Công | C8: thôn Tân Diêm, xã Phổ Thạnh | D8: 24 | E8: 577 | F8: 1482 | G8: LUC | H8: 1425 | I8: =F8 -> 1482 | J8: 1
A9: 4 | B9: Hộ ông Nguyễn Văn Xừ và bà Phùng Thị Yến | C9: thôn Tân Diêm, xã Phổ Thạnh | D9: 24 | E9: 579 | F9: 1914 | G9: LUC | H9: 1105 | I9: =F9 -> 1914 | J9: 1
A10: 5 | B10: Hộ ông Phan Văn Lý và bà Nguyễn Thị Loan | C10: thôn La Vân, xã Phổ Thạnh | D10: 24 | E10: 599 | F10: 726 | G10: LUC | H10: 711 | I10: =F10 -> 726 | J10: 1
A11: 6 | B11: Hộ ông Lê Xin và bà Võ Thị Hoa | C11: thôn La Vân, xã Phổ Thạnh | D11: 24 | E11: 600 | F11: 579 | G11: LUC | H11: 486 | I11: =F11 -> 579 | J11: 1
A12: 7 | B12: Hộ ông Ngô Văn Chiêm và bà Phùng Thị Xuyến | C12: thôn Tân Diêm, xã Phổ Thạnh | D12: 24 | E12: 601 | F12: 1208 | G12: LUC | H12: 1208 | I12: =F12 -> 1208 | J12: 1
A13: 8 | B13: Ông Nguyễn Hùng | C13: thôn Tân Diêm, xã Phổ Thạnh | D13: 24 | E13: 602 | F13: 2263 | G13: LUC | H13: 1970 | I13: =F13 -> 2263 | J13: 1
A14: 9 | B14: Hộ ông Võ Ngọc Hoàng | C14: thôn Thạch By 1, xã Phổ Thạnh | D14: 24 | E14: 623 | F14: 964 | G14: LUC | H14: 964 | I14: =F14 -> 964 | J14: 1
A15: 10 | B15: Ông Võ Tùng và Bà Hồ Thị Kim Thương | C15: thôn Tân Diêm, xã Phổ Thạnh | D15: 24 | E15: 625 | F15: 1644 | G15: LUC | H15: 1644 | I15: =F15 -> 1644 | J15: 1
B16: Ông Võ Tùng và Bà Hồ Thị Kim Thương | C16: thôn Tân Diêm, xã Phổ Thạnh | D16: 24 | E16: 651 | F16: 1313 | G16: LUC | H16: 1313 | I16: =F16 -> 1313 | J16: 1
A17: 11 | B17: Hộ ông Nguyễn Văn Liêm và bà Võ Thị Gai | C17: thôn La Vân, xã Phổ Thạnh | D17: 24 | E17: 626 | F17: 667 | G17: LUC | H17: 523 | I17: =F17 -> 667 | J17: 1
A18: 12 | B18: Hộ bà Nguyễn Thị Kim Long | C18: thôn Tân Diêm, xã Phổ Thạnh | D18: 24 | E18: 627 | F18: 1333 | G18: LUC | H18: 765 | I18: =F18 -> 1333 | J18: 1
A19: 13 | B19: Bà Nguyễn Thị Nga | C19: thôn Tân Diêm, xã Phổ Thạnh | D19: 24 | E19: 628 | F19: 1388 | G19: LUC | H19: 747 | I19: =F19 -> 1388 | J19: 1
A20: 14 | B20: Ông Lê Đức Phước | C20: thôn Thạch By 1, xã Phổ Thạnh | D20: 24 | E20: 649 | F20: 1084 | G20: LUC | H20: 387 | I20: =F20 -> 1084 | J20: 1
A21: 15 | B21: Hộ ông Nguyễn Hộp | C21: thôn Thạch By 1, xã Phổ Thạnh | D21: 24 | E21: 650 | F21: 1230 | G21: LUC | H21: 587 | I21: =F21 -> 1230 | J21: 1
A22: 16 | B22: Hộ ông Ngô Tấn Hồng và bà Trần Thị Hoa | C22: thôn Tân Diêm, xã Phổ Thạnh | D22: 24 | E22: 652 | F22: 1241 | G22: LUC | H22: 787 | I22: =F22 -> 1241 | J22: 1
A23: 17 | B23: Hộ ông Võ Ngọc Sau và bà Lê Thị Tính | C23: thôn La Vân, xã Phổ Thạnh | D23: 24 | E23: 678 | F23: 998 | G23: LUC | H23: 905 | I23: =F23 -> 998 | J23: 1
A24: 18 | B24: Bà Phùng Thị Phiên | C24: thôn Tân Diêm, xã Phổ Thạnh | D24: 24 | E24: 679 | F24: 1125 | G24: LUC | H24: 1125 | I24: =F24 -> 1125 | J24: 1
A25: 19 | B25: Hộ ông Võ Ngọc Trai và bà Lê Thị Thanh | C25: thôn La Vân, xã Phổ Thạnh | D25: 24 | E25: 681 | F25: 834 | G25: LUC | H25: 834 | I25: =F25 -> 834 | J25: 1
A26: 20 | B26: Hộ ông Võ Văn Thành và bà Lê Thị Dàng | C26: thôn La Vân, xã Phổ Thạnh | D26: 24 | E26: 682 | F26: 482 | G26: LUC | H26: 482 | I26: =F26 -> 482 | J26: 1
A27: 21 | B27: Ông Trần Ngọc Trinh | C27: thôn La Vân, xã Phổ Thạnh | D27: 24 | E27: 699 | F27: 458 | G27: LUC | H27: 458 | I27: =F27 -> 458 | J27: 1
A28: 22 | B28: Hộ ông Trần Ngọc Sa và bà Lê Thị Thu Hà | C28: thôn La Vân, xã Phổ Thạnh | D28: 24 | E28: 701 | F28: 373 | G28: LUC | H28: 261 | I28: =F28 -> 373 | J28: 1
... A32: 26 | B32: Hộ ông Nguyễn Văn Như và bà Huỳnh Thị Gái | C32: thôn La Vân, xã Phổ Thạnh | D32: 24 | E32: 743 | F32: 294 | G32: LUC | H32: 52 | I32: =F32 -> 294 | J32: 1
A33: Tổng | F33: =SUM(F6:F32) -> 29647 | H33: =SUM(H6:H32) -> 22369 | I33: =SUM(I6:I32) -> 29647
H35: Phổ Thạnh, ngày tháng năm 2018
B36: NGƯỜI LẬP | D36: ĐỊA CHÍNH | H36: UBND XÃ PHỔ THẠNH
