Workbook
Name \0: '[1]PNT-QUOT-#3'!#REF!
Name \0: '[1]PNT-QUOT-#3'!#REF!
Name \a: '[2]FA-LISTING'!#REF!
Name \a: '[2]FA-LISTING'!#REF!
Name \b: #REF!
Name \b: #REF!
Name \c: #REF!
Name \c: #REF!
Name \d: '[3]??-BLDG'!#REF!
Name \d: '[3]??-BLDG'!#REF!
Name \e: '[3]??-BLDG'!#REF!
Name \e: '[3]??-BLDG'!#REF!
Name \f: '[3]??-BLDG'!#REF!
Name \f: '[3]??-BLDG'!#REF!
Name \g: '[3]??-BLDG'!#REF!
Name \g: '[3]??-BLDG'!#REF!
Name \h: '[3]??-BLDG'!#REF!
Name \h: '[3]??-BLDG'!#REF!
Name \i: '[3]??-BLDG'!#REF!
Name \j: '[3]??-BLDG'!#REF!
Name \k: '[3]??-BLDG'!#REF!
Name \l: '[3]??-BLDG'!#REF!
Name \m: '[3]??-BLDG'!#REF!
Name \n: '[3]??-BLDG'!#REF!
Name \o: '[3]??-BLDG'!#REF!
Name \p: '[2]FA-LISTING'!#REF!
Name \z: '[1]COAT&WRAP-QIOT-#3'!#REF!
Name _?: #REF!
Name _??????: #REF!
Name __?: #REF!
Name __??????: #REF!
Name ___?: #REF!
Name ___??????: #REF!
Name ____?: #REF!
Name ____??????: #REF!
Name ______gxl1: #REF!
Name _____A65700: '[4]MTO REV.2(ARMOR)'!#REF!
Name _____A65800: '[4]MTO REV.2(ARMOR)'!#REF!
Name _____A66000: '[4]MTO REV.2(ARMOR)'!#REF!
Name _____A67000: '[4]MTO REV.2(ARMOR)'!#REF!
Name _____A68000: '[4]MTO REV.2(ARMOR)'!#REF!
Name _____A70000: '[4]MTO REV.2(ARMOR)'!#REF!
Name _____A75000: '[4]MTO REV.2(ARMOR)'!#REF!
Name _____A85000: '[4]MTO REV.2(ARMOR)'!#REF!
Name _____abb91: [5]chitimc!#REF!
Name _____atn1: #REF!
Name _____atn10: #REF!
Name _____atn2: #REF!
Name _____atn3: #REF!
Name _____atn4: #REF!
Name _____atn5: #REF!
Name _____atn6: #REF!
Name _____atn7: #REF!
Name _____atn8: #REF!
Name _____atn9: #REF!
Name _____bac3: [6]bluong!$B$15
Name _____bac4: [6]bluong!$B$25
Name _____ban1: #REF!
Name _____Bia1: #REF!
Name _____Bia2: #REF!

Sheet foxz

Sheet tổng
H1: Biểu số: 09
B2: BẢNG TỔNG HỢP GIÁ TRỊ BỒI THƯỜNG, HỖ TRỢ DỰ ÁN: KHU ĐÔ THỊ BẮC SA HUỲNH (ĐỢT 1)
B3: Phần I : Mức bồi thường, hỗ trợ: | H3: ĐVT: Đồng
B4: STT | C4: Hạng mục | D4: ĐVT | E4: Số lượng | F4: Bồi thường, hỗ trợ (%) | G4: Đơn giá | H4: Thành tiền (đồng)
B5: -1 | C5: -2 | D5: -3 | E5: -4 | F5: -5 | G5: -6 | H5: -7
B6: A | C6: ĐẤT ĐAI | H6: =H7 -> 14809149500 | I6: ='Dat-Bieu10'!N290 -> 14809149500
B7: 1 | C7: Bồi thường về đất | H7: =SUM(H8:H13) -> 14809149500
B8: 1.1 | C8: Đất trồng lúa (LUC) thuộc Khu vực 1, vị trí 1 | D8: m2 | E8: 16586.4 | F8: 1 | G8: 75000 | H8: =E8*F8*G8 -> 1243980000
B9: 1.2 | C9: Đất trồng lúa (LUC) thuộc Khu vực 1, vị trí 2 | D9: m2 | E9: 43868.9 | F9: 1 | G9: 71000 | H9: =E9*F9*G9 -> 3114691900
B10: 1.3 | C10: Đất trồng lúa (LUC) thuộc Khu vực 1, vị trí 3 | D10: m2 | E10: 142234.9 | F10: 1 | G10: 68000 | H10: =E10*F10*G10 -> 9671973200
B11: 1.4 | C11: Đất trồng cây hằng năm khác (HNK) thuộc Khu vực 1, vị trí 2 | D11: m2 | E11: 2345.6 | F11: 1 | G11: 71000 | H11: =E11*F11*G11 -> 166537600
B12: 1.5 | C12: Đất trồng cây hằng năm khác (HNK) thuộc Khu vực 1, vị trí 3 | D12: m2 | E12: 8383.1 | F12: 1 | G12: 68000 | H12: =E12*F12*G12 -> 570050800
B13: 1.6 | C13: Đất nuôi trồng thuỷ sản (NTS) thuộc Khu vực 1, vị trí 2 | D13: m2 | E13: 598.8 | F13: 1 | G13: 70000 | H13: =E13*F13*G13 -> 41916000
B14: B | C14: CÔNG TRÌNH NHÀ CỬA, VẬT KIẾN TRÚC | H14: =SUM(H15:H15) -> 2315600 | I14: ='tài sản'!M175 -> 2315600
C15: Giếng đóng bằng ống nhựa (PVC) Ø60, không có máy bơm điện, đầu bơm tay, nền giếng. Chiều sâu 16m | D15: m | E15: 16 | F15: 0.7 | G15: 206750 | H15: =G15*F15*E15 -> 2315600
B16: C | C16: CÂY CỐI, HOA MÀU | H16: =SUM(H17:H29) -> 853801520 | I16: ='cây cối'!M488 -> 853801520
B17: 1 | C17: Lúa | D17: m² | E17: 203140.2 | F17: 1 | G17: =VLOOKUP(C17,[181]Sheet2!$B$5:$D$733,3,0) -> 4100 | H17: =E17*F17*G17 -> 832874820
B18: 2 | C18: Cây khoai lang lấy củ | D18: cây | E18: 106 | F18: 1 | G18: =VLOOKUP(C18,[181]Sheet2!$B$5:$D$733,3,0) -> 4300 | H18: =E18*F18*G18 -> 455800
B19: 3 | C19: Dừa cây mới trồng | D19: cây | E19: 6 | F19: 0 | G19: =VLOOKUP(C19,[181]Sheet2!$B$5:$D$733,3,0) -> 85000 | H19: =E19*F19*G19 -> 0
B20: 4 | C20: Dừa cây đã cho quả | D20: cây | E20: 4 | F20: 0.3 | G20: =VLOOKUP(C20,[181]Sheet2!$B$5:$D$733,3,0) -> 900000 | H20: =E20*F20*G20 -> 1080000
B21: 5 | C21: Tre thường cây xanh chưa già | D21: cây | E21: 30 | F21: 0.3 | G21: =VLOOKUP(C21,[181]Sheet2!$B$5:$D$733,3,0) -> 50000 | H21: =E21*F21*G21 -> 450000
B22: 6 | C22: Tre thường cây già sử dụng được | D22: cây | E22: 43 | F22: 0.3 | G22: =VLOOKUP(C22,[181]Sheet2!$B$5:$D$733,3,0) -> 100000 | H22: =E22*F22*G22 -> 1290000
B23: 7 | C23: Bạch đàn cây có đường kính gốc > 8cm đến ≤ 12cm | D23: cây | E23: 11 | F23: 0.3 | G23: =VLOOKUP(C23,[181]Sheet2!$B$5:$D$733,3,0) -> 136000 | H23: =E23*F23*G23 -> 448800
B24: 8 | C24: Bạch đàn cây có đường kính gốc > 12cm đến ≤ 16cm | D24: cây | E24: 20 | F24: 0.3 | G24: =VLOOKUP(C24,[181]Sheet2!$B$5:$D$733,3,0) -> 180000 | H24: =E24*F24*G24 -> 1080000
B25: 9 | C25: Cây lạc | D25: m² | E25: 2289.4 | F25: 1 | G25: =VLOOKUP(C25,[181]Sheet2!$B$5:$D$733,3,0) -> 5500 | H25: =E25*F25*G25 -> 12591700
B26: 10 | C26: Bạch đàn cây có đường kính gốc > 16cm đến ≤ 20cm | D26: cây | E26: 8 | F26: 0.3 | G26: =VLOOKUP(C26,[181]Sheet2!$B$5:$D$733,3,0) -> 232000 | H26: =E26*F26*G26 -> 556800
B27: 11 | C27: Keo cây có đường kính gốc > 4cm đến ≤ 8cm | D27: cây | E27: 44 | F27: 0 | G27: =VLOOKUP(C27,[181]Sheet2!$B$5:$D$733,3,0) -> 90000 | H27: =E27*F27*G27 -> 0
B28: 12 | C28: Keo cây có đường kính gốc > 8cm đến ≤ 12cm | D28: cây | E28: 68 | F28: 0 | G28: =VLOOKUP(C28,[181]Sheet2!$B$5:$D$733,3,0) -> 136000 | H28: =E28*F28*G28 -> 0
B29: 13 | C29: Dưa hấu | D29: m² | E29: 252 | F29: 1 | G29: =VLOOKUP(C29,[181]Sheet2!$B$5:$D$733,3,0) -> 11800 | H29: =E29*F29*G29 -> 2973600
B30: D | C30: CÁC KHOẢN HỖ TRỢ | H30: =H31+H38 -> 75968961200 | I30: ='hỗ trợ'!N287 -> 75968961200
B31: 1 | C31: Hỗ trợ chuyển đổi nghề nghiệp | H31: =SUM(H32:H37) -> 73700307500 | I31: ='hỗ trợ'!M287 -> 73700307500
B32: 1.1 | C32: Đất trồng lúa (LUC) thuộc Khu vực 1, vị trí 1 | D32: m2 | E32: =E8 -> 16586.4 | F32: 5 | G32: 75000 | H32: =E32*F32*G32 -> 6219900000 | I32: =H31-I31 -> 0
B33: 1.2 | C33: Đất trồng lúa (LUC) thuộc Khu vực 1, vị trí 2 | D33: m2 | E33: =E9 -> 43868.9 | F33: 5 | G33: 71000 | H33: =E33*F33*G33 -> 15573459500
B34: 1.3 | C34: Đất trồng lúa (LUC) thuộc Khu vực 1, vị trí 3 | D34: m2 | E34: =E10-364 -> 141870.9 | F34: 5 | G34: 68000 | H34: =E34*F34*G34 -> 48236106000 | I34: =E34-143785.9 -> -1915
B35: 1.4 | C35: Đất trồng cây hằng năm khác (HNK) thuộc Khu vực 1, vị trí 2 | D35: m2 | E35: =E11 -> 2345.6 | F35: 5 | G35: 71000 | H35: =E35*F35*G35 -> 832688000
B36: 1.5 | C36: Đất trồng cây hằng năm khác (HNK) thuộc Khu vực 1, vị trí 3 | D36: m2 | E36: =E12-652 -> 7731.1 | F36: 5 | G36: 68000 | H36: =E36*F36*G36 -> 2628574000
B37: 1.6 | C37: Đất nuôi trồng thuỷ sản (NTS) thuộc Khu vực 1, vị trí 2 | D37: m2 | E37: =E13 -> 598.8 | F37: 5 | G37: 70000 | H37: =E37*F37*G37 -> 209580000
B38: 2 | C38: Hỗ trợ ổn định đời sống | F38: 1 | G38: ='hỗ trợ'!I287 -> 2268653700 | H38: =G38 -> 2268653700
C39: Tổng cộng Phần I= (A+B+C+D) | H39: =H6+H14+H16+H30 -> 91634227820 | I39: ='TONG HOP TUNG NGUOI'!H218 -> 91634227820
B40: * Tổng giá trị bồi thường, hỗ trợ: | H40: =H39 -> 91634227820
...

Sheet Dat-Bieu10
N1: (Biểu số 10)
A2: BẢNG TÍNH CHI TIẾT GIÁ TRỊ BỒI THƯỜNG, HỖ TRỢ VỀ ĐẤT CỦA TỔ CHỨC, HỘ GIA ĐÌNH, CÁ NHÂN THUỘC DỰ ÁN: KHU ĐÔ THỊ BẮC SA HUỲNH (ĐỢT 1)
A3: Địa điểm: phường Sa Huỳnh, tỉnh Quảng Ngãi
A4: TT | B4: Họ và tên chủ sử dụng, quản lý | C4: Tờ bản đồ trích đo địa chính thực hiện dự án | I4: Bồi thường đất nông nghiệp, đất vườn | N4: Tổng cộng (đồng)
C5: Số tờ bản đồ địa chính | D5: Số thửa | E5: Diện tích thửa (m²) | F5: Diện tích đất thu hồi trong quy hoạch (m²) | G5: Diện tích đất thu hồi ngoài quy hoạch (m²) | H5: Loại đất | I5: Diện tích (m²) | J5: Vị trí | K5: Đơn giá (đồng) | L5: Hệ số điều chỉnh giá đất (K) | M5: Thành tiền (đồng)
A6: I | B6: Tổ dân phố Tân Diêm
A7: 1 | B7: bà Nguyễn Thị Ai, bà Ngô Thị Ánh, ông Ngô Văn Bình, ông Ngô Văn Minh, bà Ngô Thị Diệu, bà Ngô Thị Hòa, bà Ngô Thị Lan, ông Ngô Văn Sang đồng thừa kế của ông Ngô Đức Tâm | C7: 24 | D7: 1423 | E7: 746 | F7: 746 | H7: LUC | I7: =F7+G7 -> 746 | J7: 3 | K7: 68000 | M7: =K7*I7 -> 50728000 | N7: =M7 -> 50728000
B8: bà Nguyễn Thị Ai, bà Ngô Thị Ánh, ông Ngô Văn Bình, ông Ngô Văn Minh, bà Ngô Thị Diệu, bà Ngô Thị Hòa, bà Ngô Thị Lan, ông Ngô Văn Sang đồng thừa kế của ông Ngô Đức Tâm | C8: 23 | D8: 310 | E8: 1240 | F8: 1240 | H8: LUC | I8: =F8+G8 -> 1240 | J8: 3 | K8: 68000 | M8: =K8*I8 -> 84320000 | N8: =M8 -> 84320000
A9: =MAX(A$7:$B8)+1 -> 2 | B9: Hộ bà Trần Thị Bế | C9: 23 | D9: 874 | E9: 476 | F9: 476 | H9: LUC | I9: =F9+G9 -> 476 | J9: 3 | K9: 68000 | M9: =K9*I9 -> 32368000 | N9: =M9 -> 32368000
A10: =MAX(A$7:$B9)+1 -> 3 | B10: Hộ bà Phạm Thị Bông | C10: 24 | D10: 443 | E10: 551 | F10: 551 | H10: LUC | I10: =F10+G10 -> 551 | J10: 3 | K10: 68000 | M10: =K10*I10 -> 37468000 | N10: =M10 -> 37468000
A11: =MAX(A$7:$B10)+1 -> 4 | B11: Hộ bà Ngô Thị Bình | C11: 24 | D11: 506 | E11: 350 | F11: 350 | H11: LUC | I11: =F11+G11 -> 350 | J11: 3 | K11: 68000 | M11: =K11*I11 -> 23800000 | N11: =M11 -> 23800000
A12: =MAX(A$7:$B11)+1 -> 5 | B12: Hộ ông Ngô Văn Bình và bà Nguyễn Thị Tho | C12: 24 | D12: 546 | E12: 252 | F12: 252 | H12: LUC | I12: =F12+G12 -> 252 | J12: 3 | K12: 68000 | M12: =K12*I12 -> 17136000 | N12: =M12 -> 17136000
A13: =MAX(A$7:$B12)+1 -> 6 | B13: hộ bà Phùng Thị Bình | C13: 23 | D13: 975 | E13: 1003 | F13: 1003 | H13: LUC | I13: =F13+G13 -> 1003 | J13: 3 | K13: 68000 | M13: =K13*I13 -> 68204000 | N13: =M13 -> 68204000
A14: =MAX(A$7:$B13)+1 -> 7 | B14: ông Trần Văn Bình và bà Trương Thị Hồng Hoa | C14: 23 | D14: 1072 | E14: 106 | F14: 106 | H14: HNK | I14: =F14+G14 -> 106 | J14: 3 | K14: 68000 | M14: =K14*I14 -> 7208000 | N14: =M14 -> 7208000 | P14: có mộ | Q14: ='[182]Dat-Bieu10'!K11*5 -> 340000
B15: ông Trần Văn Bình và bà Trương Thị Hồng Hoa | C15: 24 | D15: 1444 | E15: 1100 | F15: 1100 | H15: LUC | I15: =F15+G15 -> 1100 | J15: 3 | K15: 68000 | M15: =K15*I15 -> 74800000 | N15: =M15 -> 74800000
A16: =MAX(A$7:$B15)+1 -> 8 | B16: bà Võ Thị Kim Oanh, ông Nguyễn Trọng Chương, ông Nguyễn Trọng Vương, ông Nguyễn Trọng Linh, ông Nguyễn Trọng Thủ, ông Nguyễn Trọng Lộc, bà Nguyễn Thị Bích Hậu đồng thừa kế của ông Nguyễn Anh Bản | C16: 23 | D16: 605 | E16: 540 | F16: 540 | H16: LUC | I16: =F16+G16 -> 540 | J16: 3 | K16: 68000 | M16: =K16*I16 -> 36720000 | N16: =M16 -> 36720000
B17: bà Võ Thị Kim Oanh, ông Nguyễn Trọng Chương, ông Nguyễn Trọng Vương, ông Nguyễn Trọng Linh, ông Nguyễn Trọng Thủ, ông Nguyễn Trọng Lộc, bà Nguyễn Thị Bích Hậu đồng thừa kế của ông Nguyễn Anh Bản | C17: 24 | D17: 451 | E17: 730 | F17: 730 | H17: LUC | I17: =F17+G17 -> 730 | J17: 3 | K17: 68000 | M17: =K17*I17 -> 49640000 | N17: =M17 -> 49640000
A18: =MAX(A$7:$B17)+1 -> 9 | B18: Hộ ông Ngô Văn Chinh và bà Lê Thị Tâm | C18: 24 | D18: 213 | E18: 423 | F18: 423 | H18: LUC | I18: =F18+G18 -> 423 | J18: 3 | K18: 68000 | M18: =K18*I18 -> 28764000 | N18: =M18 -> 28764000
A19: =MAX(A$7:$B18)+1 -> 10 | B19: ông Lê Thành Công và bà Lê Thị Trịnh | C19: 24 | D19: 12 | E19: 915 | F19: 202.2 | H19: HNK | I19: =F19+G19 -> 202.2 | J19: 2 | K19: 71000 | M19: =K19*I19 -> 14356200 | N19: =M19 -> 14356200 | P19: chưa kiểm kê cây
A20: =MAX(A$7:$B19)+1 -> 11 | B20: Hộ ông Lê Thành Công và bà Lê Thị Trịnh | C20: 23 | D20: 834 | E20: 482 | F20: 482 | H20: LUC | I20: =F20+G20 -> 482 | J20: 3 | K20: 68000 | M20: =K20*I20 -> 32776000 | N20: =M20 -> 32776000
A21: =MAX(A$7:$B20)+1 -> 12 | B21: ông Phùng Đình Vân, ông Phùng Đình Trung, ông Phùng Đình Tâm, ông Phùng Đình Bảo, ông Phùng Đình Toàn, ông Phùng Đình Khanh, ông Phùng Thanh Hiếu đồng thừa kế của ông Phùng Đình Chánh và bà Trần Thị Tự | C21: 23 | D21: 1084 | E21: 472 | F21: 472 | H21: HNK | I21: =F21+G21 -> 472 | J21: 3 | K21: 68000 | M21: =K21*I21 -> 32096000 | N21: =M21 -> 32096000 | P21: có mộ , GĐ2
B22: ông Phùng Đình Vân, ông Phùng Đình Trung, ông Phùng Đình Tâm, ông Phùng Đình Bảo, ông Phùng Đình Toàn, ông Phùng Đình Khanh, ông Phùng Thanh Hiếu đồng thừa kế của ông Phùng Đình Chánh và bà Trần Thị Tự | C22: 24 | D22: 747 | E22: 340 | F22: 340 | H22: HNK | I22: =F22+G22 -> 340 | J22: 3 | K22: 68000 | M22: =K22*I22 -> 23120000 | N22: =M22 -> 23120000 | P22: cỏ voi, GĐ2
B23: ông Phùng Đình Vân, ông Phùng Đình Trung, ông Phùng Đình Tâm, ông Phùng Đình Bảo, ông Phùng Đình Toàn, ông Phùng Đình Khanh, ông Phùng Thanh Hiếu đồng thừa kế của ông Phùng Đình Chánh và bà Trần Thị Tự | C23: 24 | D23: 64 | E23: 1236 | F23: 1236 | H23: LUC | I23: =F23+G23 -> 1236 | J23: 3 | K23: 68000 | M23: =K23*I23 -> 84048000 | N23: =M23 -> 84048000
B24: ông Phùng Đình Vân, ông Phùng Đình Trung, ông Phùng Đình Tâm, ông Phùng Đình Bảo, ông Phùng Đình Toàn, ông Phùng Đình Khanh, ông Phùng Thanh Hiếu đồng thừa kế của ông Phùng Đình Chánh và bà Trần Thị Tự | C24: 24 | D24: 11 | E24: 1132 | F24: 920 | H24: LUC | I24: =F24+G24 -> 920 | J24: 3 | K24: 68000 | M24: =K24*I24 -> 62560000 | N24: =M24 -> 62560000
A25: =MAX(A$7:$B24)+1 -> 13 | B25: Hộ ông Trần Văn Cứ và bà Nguyễn Thị Rùa | C25: 23 | D25: 228 | E25: 884 | F25: 884 | H25: LUC | I25: =F25+G25 -> 884 | J25: 3 | K25: 68000 | M25: =K25*I25 -> 60112000 | N25: =M25 -> 60112000
B26: Hộ ông Trần Văn Cứ và bà Nguyễn Thị Rùa | C26: 24 | D26: 431 | E26: 1358 | F26: 1358 | H26: LUC | I26: =F26+G26 -> 1358 | J26: 3 | K26: 68000 | M26: =K26*I26 -> 92344000 | N26: =M26 -> 92344000
A27: =MAX(A$7:$B26)+1 -> 14 | B27: ông Trần Văn Cứ bà Nguyễn Thị Rùa | C27: 23 | D27: 246 | E27: 557 | F27: 557 | H27: LUC | I27: =F27+G27 -> 557 | J27: 3 | K27: 68000 | M27: =K27*I27 -> 37876000 | N27: =M27 -> 37876000
B28: ông Trần Văn Cứ bà Nguyễn Thị Rùa | C28: 23 | D28: 1110 | E28: 922 | F28: 922 | H28: HNK | I28: =F28+G28 -> 922 | J28: 2 | K28: 71000 | M28: =K28*I28 -> 65462000 | N28: =M28 -> 65462000 | P28: có mộ, GĐ2
A29: =MAX(A$7:$B28)+1 -> 15 | B29: ông Ngô Văn Chiêm và bà Phùng Thị Xuyến | C29: 23 | D29: 1117 | E29: 458 | F29: 22.6 | H29: HNK | I29: =F29+G29 -> 22.6 | J29: 3 | K29: 68000 | M29: =K29*I29 -> 1536800 | N29: =M29 -> 1536800 | P29: để kiểm tra lại, GĐ2
A30: =MAX(A$7:$B29)+1 -> 16 | B30: Hộ ông Ngô Văn Chiêm và bà Phùng Thị Xuyến | C30: 24 | D30: 601 | E30: 508 | F30: 508 | H30: LUC | I30: =F30+G30 -> 508 | J30: 3 | K30: 68000 | M30: =K30*I30 -> 34544000 | N30: =M30 -> 34544000
A31: =MAX(A$7:$B30)+1 -> 17 | B31: Hộ ông Ngô Hữu Chí và bà Nguyễn Thị Lương | C31: 24 | D31: 66 | E31: 1095 | F31: 1095 | H31: LUC | I31: =F31+G31 -> 1095 | J31: 3 | K31: 68000 | M31: =K31*I31 -> 74460000 | N31: =M31 -> 74460000
A32: =MAX(A$7:$B31)+1 -> 18 | B32: ông Lê Thành Công, bà Lê Thị Phi, bà Lê Thị Nguyệt, ông Lê Thanh Dân, ông Lê Đức Phước, bà Lê Thị Đức, ông Lê Văn Toàn, bà Lê Thị Oanh đồng thừa kế của ông Lê Cát và bà Nguyễn Thị Sáu | C32: 24 | D32: 1591 | E32: 104 | F32: 104 | H32: LUC | I32: =F32+G32 -> 104 | J32: 3 | K32: 68000 | M32: =K32*I32 -> 7072000 | N32: =M32 -> 7072000
B33: ông Lê Thành Công, bà Lê Thị Phi, bà Lê Thị Nguyệt, ông Lê Thanh Dân, ông Lê Đức Phước, bà Lê Thị Đức, ông Lê Văn Toàn, bà Lê Thị Oanh đồng thừa kế của ông Lê Cát và bà Nguyễn Thị Sáu | C33: 24 | D33: 1592 | E33: 1356 | F33: 1356 | H33: LUC | I33: =F33+G33 -> 1356 | J33: 3 | K33: 68000 | M33: =K33*I33 -> 92208000 | N33: =M33 -> 92208000
A34: =MAX(A$7:$B33)+1 -> 19 | B34: Hộ ông Ngô Văn Chiền và bà Phạm Thị Gái | C34: 24 | D34: 605 | E34: 591 | F34: 591 | H34: LUC | I34: =F34+G34 -> 591 | J34: 2 | K34: 71000 | M34: =K34*I34 -> 41961000 | N34: =M34 -> 41961000
A35: =MAX(A$7:$B34)+1 -> 20 | B35: bà Phùng Thị Chí, ông Trần Trọng Nghĩa, bà Trần Thị Kim Loan, ông Trần Đức Phụng, bà Trần Thị Mỹ Hạnh đồng thừa kế của ông Trần Mỉa | C35: 24 | D35: 107 | E35: 1780 | F35: 1780 | H35: LUC | I35: =F35+G35 -> 1780 | J35: 3 | K35: 68000 | M35: =K35*I35 -> 121040000 | N35: =M35 -> 121040000
A36: =MAX(A$7:$B35)+1 -> 21 | B36: hộ ông Trần Trung Dũng và bà Nguyễn Thị Cúc | C36: 24 | D36: 379 | E36: 920 | F36: 920 | H36: LUC | I36: =F36+G36 -> 920 | J36: 3 | K36: 68000 | M36: =K36*I36 -> 62560000 | N36: =M36 -> 62560000
B37: hộ ông Trần Trung Dũng và bà Nguyễn Thị Cúc | C37: 24 | D37: 449 | E37: 865 | F37: 865 | H37: LUC | I37: =F37+G37 -> 865 | J37: 2 | K37: 71000 | M37: =K37*I37 -> 61415000 | N37: =M37 -> 61415000
A38: =MAX(A$7:$B37)+1 -> 22 | B38: Hộ ông Phùng Đình Duy và bà Ngô Thị Hường | C38: 23 | D38: 892 | E38: 882 | F38: 859.4 | G38: 22.6 | H38: LUC | I38: =F38+G38 -> 882 | J38: 1 | K38: 75000 | M38: =K38*I38 -> 66150000 | N38: =M38 -> 66150000
A39: =MAX(A$7:$B38)+1 -> 23 | B39: Hộ ông Đào Văn Đỗi và bà Lê Thị Sông | C39: 24 | D39: 508 | E39: 539 | F39: 539 | H39: LUC | I39: =F39+G39 -> 539 | J39: 3 | K39: 68000 | M39: =K39*I39 -> 36652000 | N39: =M39 -> 36652000
A40: =MAX(A$7:$B39)+1 -> 24 | B40: Hộ bà Ngô Thị Đài | C40: 24 | D40: 414 | E40: 941 | F40: 941 | H40: LUC | I40: =F40+G40 -> 941 | J40: 2 | K40: 71000 | M40: =K40*I40 -> 66811000 | N40: =M40 -> 66811000
...

Sheet tài sản
M1: (Biểu số: 11)
A3: BẢNG TÍNH CHI TIẾT GIÁ TRỊ BỒI THƯỜNG, HỖ TRỢ NHÀ, CÔNG TRÌNH PHỤC VỤ ĐỜI SỐNG SẢN XUẤT DỰ ÁN:KHU ĐÔ THỊ BẮC SA HUỲNH (ĐỢT 1) Địa điểm: phường Sa Huỳnh, tỉnh Quảng Ngãi
A5: STT | B5: Họ tên chủ hộ | C5: Tờ BĐ | D5: Số thửa | E5: Loại đất | F5: Nhà, công trình phục vụ đời sống | M5: Tổng cộng (đồng)
F6: Hạng mục | G6: Đơn vị tính | H6: Khối lượng | I6: Năm xây dựng | J6: Bồi thường, hỗ trợ (%) | K6: Đơn giá (đồng) | L6: Thành tiền (đồng)
A7: I | B7: Tổ dân phố Tân Diêm
A8: 1 | B8: ='Dat-Bieu10'!B7 -> bà Nguyễn Thị Ai, bà Ngô Thị Ánh, ông Ngô Văn Bình, ông Ngô Văn Minh, bà Ngô Thị Diệu, bà Ngô Thị Hòa, bà Ngô Thị Lan, ông Ngô Văn Sang đồng thừa kế của ông Ngô Đức Tâm | L8: =L9 -> 0 | M8: =L8 -> 0 | N8: Xong
A9: =IF(B9="","",SUBTOTAL(3,$B$8:B9)) | C9: 1 | D9: 1423 | E9: LUC | F9: Giếng đóng bằng ống nhựa (PVC) Ø60, không có máy bơm điện, đầu bơm tay, nền giếng. Chiều sâu > 8m ÷ ≤ 12m | G9: m | H9: 12 | I9: 1998 | J9: 0 | K9: 211000 | L9: =K9*H9*J9 -> 0
A10: 3 | B10: Hộ bà Phạm Thị Bông | L10: =L11 -> 0 | M10: =L10 -> 0 | N10: Xong
A11: =IF(B11="","",SUBTOTAL(3,$B$8:B11)) | C11: 1 | D11: 443 | E11: LUC | F11: Giếng đóng bằng ống nhựa (PVC) Ø60, không có máy bơm điện, đầu bơm tay, nền giếng. Chiều sâu 14m | G11: m | H11: 14 | I11: 2014 | J11: 0 | K11: 211000 | L11: =K11*H11*J11 -> 0
A12: 4 | B12: Hộ bà Ngô Thị Bình | L12: =L13 -> 0 | M12: =L12 -> 0 | N12: Xong
A13: =IF(B13="","",SUBTOTAL(3,$B$8:B13)) | C13: 1 | D13: 506 | E13: LUC | F13: Giếng đóng bằng ống nhựa (PVC) Ø60, không có máy bơm điện, đầu bơm tay, nền giếng. Chiều sâu > 8m ÷ ≤ 12m | G13: m | H13: 12 | I13: 1998 | J13: 0 | K13: 211000 | L13: =K13*H13*J13 -> 0
A14: 5 | B14: Hộ ông Ngô Văn Bình và bà Nguyễn Thị Tho | L14: =L15 -> 0 | M14: =L14 -> 0 | N14: Xong
A15: =IF(B15="","",SUBTOTAL(3,$B$8:B15)) | C15: 1 | D15: 546 | E15: LUC | F15: Giếng đóng bằng ống nhựa (PVC) Ø60, không có máy bơm điện, đầu bơm tay, nền giếng. Chiều sâu > 8m ÷ ≤ 12m | G15: m | H15: 8 | I15: 2014 | J15: 0 | K15: 211000 | L15: =K15*H15*J15 -> 0
A16: 13 | B16: Hộ ông Trần Văn Cứ và bà Nguyễn Thị Rùa | L16: =SUM(L17:L19) -> 0 | M16: =L16 -> 0 | N16: Xong
A17: =IF(B17="","",SUBTOTAL(3,$B$8:B17)) | C17: 1 | D17: 228 | E17: LUC | F17: Giếng đóng bằng ống nhựa (PVC) Ø60, không có máy bơm điện, đầu bơm tay, nền giếng. Chiều sâu > 8m ÷ ≤ 12m | G17: m | H17: 12 | I17: 1998 | J17: 0 | K17: 211000 | L17: =K17*H17*J17 -> 0 | N17: kiểm tra lại có ko
A18: =IF(B18="","",SUBTOTAL(3,$B$8:B18)) | C18: 1 | D18: 431 | E18: LUC | F18: Giếng đóng bằng ống nhựa (PVC) Ø60, không có máy bơm điện, đầu bơm tay, nền giếng. Chiều sâu > 8m ÷ ≤ 12m | G18: m | H18: 12 | I18: 1998 | J18: 0 | K18: 211000 | L18: =K18*H18*J18 -> 0 | N18: kiểm tra lại có ko
A19: =IF(B19="","",SUBTOTAL(3,$B$8:B19)) | C19: 1 | D19: 246 | E19: LUC | F19: Giếng đóng bằng ống nhựa (PVC) Ø60, không có máy bơm điện, đầu bơm tay, nền giếng. Chiều sâu > 8m ÷ ≤ 12m | G19: m | H19: 12 | I19: 1998 | J19: 0 | K19: 211000 | L19: =K19*H19*J19 -> 0 | N19: kiểm tra lại có ko
A20: 16 | B20: Hộ ông Ngô Văn Chiêm và bà Phùng Thị Xuyến | L20: =L21 -> 0 | M20: =L20 -> 0 | N20: Xong
A21: =IF(B21="","",SUBTOTAL(3,$B$8:B21)) | C21: 1 | D21: 1624 | E21: LUC | F21: Giếng đóng bằng ống nhựa (PVC) Ø60, không có máy bơm điện, đầu bơm tay, nền giếng. Chiều sâu 30m | G21: m | H21: 30 | I21: 2015 | J21: 0 | K21: 211000 | L21: =K21*H21*J21 -> 0
A22: 18 | B22: ='Dat-Bieu10'!B32 -> ông Lê Thành Công, bà Lê Thị Phi, bà Lê Thị Nguyệt, ông Lê Thanh Dân, ông Lê Đức Phước, bà Lê Thị Đức, ông Lê Văn Toàn, bà Lê Thị Oanh đồng thừa kế của ông Lê Cát và bà Nguyễn Thị Sáu | L22: =L23 -> 0 | M22: =L22 -> 0 | N22: Xong
A23: =IF(B23="","",SUBTOTAL(3,$B$8:B23)) | C23: 1 | D23: 1591 | E23: LUC | F23: Giếng đóng bằng ống nhựa (PVC) Ø60, không có máy bơm điện, đầu bơm tay, nền giếng. Chiều sâu > 8m ÷ ≤ 12m | G23: m | H23: 8 | I23: 2000 | J23: 0 | K23: 211000 | L23: =K23*H23*J23 -> 0
A24: 19 | B24: Hộ ông Ngô Văn Chiền và bà Phạm Thị Gái | L24: =L25 -> 0 | M24: =L24 -> 0 | N24: Xong
A25: =IF(B25="","",SUBTOTAL(3,$B$8:B25)) | C25: 1 | D25: 605 | E25: LUC | F25: Giếng đóng bằng ống nhựa (PVC) Ø60, không có máy bơm điện, đầu bơm tay, nền giếng. Chiều sâu > 8m ÷ ≤ 12m | G25: m | H25: 12 | I25: 1998 | J25: 0 | K25: 211000 | L25: =K25*H25*J25 -> 0
A26: 21 | B26: hộ ông Trần Trung Dũng và bà Nguyễn Thị Cúc | L26: =L27 -> 0 | M26: =L26 -> 0 | N26: Xong
A27: =IF(B27="","",SUBTOTAL(3,$B$8:B27)) | C27: 1 | D27: 379 | E27: LUC | F27: Giếng đóng bằng ống nhựa (PVC) Ø60, không có máy bơm điện, đầu bơm tay, nền giếng. Chiều sâu > 8m ÷ ≤ 12m | G27: m | H27: 11 | I27: 2008 | J27: 0 | K27: 211000 | L27: =K27*H27*J27 -> 0
A28: 23 | B28: Hộ ông Đào Văn Đỗi và bà Lê Thị Sông | L28: =L29 -> 0 | M28: =L28 -> 0 | N28: Xong trên đất ông Ngô Văn Bình thửa 546
A29: =IF(B29="","",SUBTOTAL(3,$B$8:B29)) | C29: 1 | D29: 508 | E29: LUC | F29: Giếng đóng bằng ống nhựa (PVC) Ø60, không có máy bơm điện, đầu bơm tay, nền giếng. Chiều sâu > 8m ÷ ≤ 12m | G29: m | H29: 12 | I29: 2000 | J29: 0 | K29: 211000 | L29: =K29*H29*J29 -> 0
A30: 27 | B30: Hộ ông Ngô Quang Hiền và bà Võ Thị Ngãnh | L30: =L31 -> 0 | M30: =L30 -> 0 | N30: Xong
A31: =IF(B31="","",SUBTOTAL(3,$B$8:B31)) | C31: 1 | D31: 492 | E31: LUC | F31: Giếng đóng bằng ống nhựa (PVC) Ø60, không có máy bơm điện, đầu bơm tay, nền giếng. Chiều sâu 14m | G31: m | H31: 14 | I31: 2000 | J31: 0 | K31: 211000 | L31: =K31*H31*J31 -> 0
A32: 30 | B32: Hộ ông Ngô Tấn Hồng và bà Phùng Thị Hoa | L32: =L33+L34 -> 0 | M32: =L32 -> 0 | N32: Xong
A33: =IF(B33="","",SUBTOTAL(3,$B$8:B33)) | C33: 1 | D33: 394 | E33: LUC | F33: Giếng đóng bằng ống nhựa (PVC) Ø60, không có máy bơm điện, đầu bơm tay, nền giếng. Chiều sâu > 8m ÷ ≤ 12m | G33: m | H33: 12 | I33: 1998 | J33: 0 | K33: 211000 | L33: =K33*H33*J33 -> 0
A34: =IF(B34="","",SUBTOTAL(3,$B$8:B34)) | C34: 1 | D34: 547 | E34: LUC | F34: Giếng đóng bằng ống nhựa (PVC) Ø60, không có máy bơm điện, đầu bơm tay, nền giếng. Chiều sâu > 8m ÷ ≤ 12m | G34: m | H34: 12 | I34: 1998 | J34: 0 | K34: 211000 | L34: =K34*H34*J34 -> 0
A35: 32 | B35: Hộ ông Trần Hồng và bà Ngô Thị Lập | L35: =L36+L37 -> 0 | M35: =L35 -> 0 | N35: Xong
A36: =IF(B36="","",SUBTOTAL(3,$B$8:B36)) | C36: 1 | D36: 313 | E36: LUC | F36: Giếng đóng bằng ống nhựa (PVC) Ø60, không có máy bơm điện, đầu bơm tay, nền giếng. Chiều sâu > 8m ÷ ≤ 12m | G36: m | H36: 12 | I36: 1998 | J36: 0 | K36: 211000 | L36: =K36*H36*J36 -> 0 | N36: kiểm tra lại có ko
A37: =IF(B37="","",SUBTOTAL(3,$B$8:B37)) | C37: 1 | D37: 423 | E37: LUC | F37: Giếng đóng bằng ống nhựa (PVC) Ø60, không có máy bơm điện, đầu bơm tay, nền giếng. Chiều sâu > 8m ÷ ≤ 12m | G37: m | H37: 12 | I37: 1998 | J37: 0 | K37: 211000 | L37: =K37*H37*J37 -> 0 | N37: kiểm tra lại có ko
A38: 34 | B38: Hộ ông Nguyễn Tấn Hiền và bà Lê Thị Kim Nhung | L38: =L39 -> 0 | M38: =L38 -> 0 | N38: Xong
A39: =IF(B39="","",SUBTOTAL(3,$B$8:B39)) | C39: 1 | D39: 1606 | E39: LUC | F39: Giếng đóng bằng ống nhựa (PVC) Ø60, không có máy bơm điện, đầu bơm tay, nền giếng. Chiều sâu 16m | G39: m | H39: 16 | I39: 1998 | J39: 0 | K39: 211000 | L39: =K39*H39*J39 -> 0
A40: 35 | B40: bà Nguyễn Thị Hữu | L40: =L41 -> 0 | M40: =L40 -> 0 | N40: Xong Trên đất người khác
A41: =IF(B41="","",SUBTOTAL(3,$B$8:B41)) | C41: 1 | D41: 1589 | E41: LUC | F41: Giếng đóng bằng ống nhựa (PVC) Ø60, không có máy bơm điện, đầu bơm tay, nền giếng. Chiều sâu > 8m ÷ ≤ 12m | G41: m | H41: 12 | I41: 2010 | J41: 0 | K41: 211000 | L41: =K41*H41*J41 -> 0
A42: 39 | B42: ='Dat-Bieu10'!B62 -> Hộ ông Nguyễn Văn Hùng và bà Phạm Thị Lựa | L42: =L43 -> 0 | M42: =L42 -> 0 | N42: Xong
...

Sheet cây cối
L1: (Biểu số 12)
A2: BẢNG TÍNH CHI TIẾT GIÁ TRỊ BỒI THƯỜNG, HỖ TRỢ CÂY CỐI, HOA MÀU CỦA HỘ GIA ĐÌNH, CÁ NHÂN DỰ ÁN: KHU ĐÔ THỊ BẮC SA HUỲNH (ĐỢT 1)
A3: TT | B3: Họ và tên | C3: Số lượng theo thực tế kiểm kê | I3: Số lượng được bồi thường, hỗ trợ theo quy định | M3: Tổng cộng (đồng)
C4: Chủng lọai, quy cách cây trồng | D4: Đơn vị tính | E4: Số lượng kiểm kê | F4: Số thửa | G4: Tờ bản đồ | H4: Loại đất | I4: Số lượng | J4: Đơn giá | K4: Tỷ lệ bồi thường, hỗ trợ (%) | L4: Thành tiền (đồng)
A6: I | B6: Tổ dân phố Tân Diêm
A7: 1 | B7: ='Dat-Bieu10'!B7 -> bà Nguyễn Thị Ai, bà Ngô Thị Ánh, ông Ngô Văn Bình, ông Ngô Văn Minh, bà Ngô Thị Diệu, bà Ngô Thị Hòa, bà Ngô Thị Lan, ông Ngô Văn Sang đồng thừa kế của ông Ngô Đức Tâm | L7: =SUM(L8:L9) -> 8142600 | M7: =L7 -> 8142600
C8: Lúa | D8: m² | E8: 746 | F8: 1423 | G8: 1 | H8: LUC | I8: =E8 -> 746 | J8: =VLOOKUP(C8,'[183]giá cây'!$B$3:$D$732,3,0) -> 4100 | K8: 1 | L8: =I8*J8*K8 -> 3058600
C9: Lúa | D9: m² | E9: 1240 | F9: 310 | G9: 1 | H9: LUC | I9: =E9 -> 1240 | J9: =VLOOKUP(C9,'[183]giá cây'!$B$3:$D$732,3,0) -> 4100 | K9: 1 | L9: =I9*J9*K9 -> 5084000
A10: 3 | B10: Hộ bà Trần Thị Bế | L10: =SUM(L11) -> 1951600 | M10: =L10 -> 1951600
C11: Lúa | D11: m² | E11: 476 | F11: 874 | G11: 1 | H11: LUC | I11: =E11 -> 476 | J11: =VLOOKUP(C11,'[183]giá cây'!$B$3:$D$732,3,0) -> 4100 | K11: 1 | L11: =I11*J11*K11 -> 1951600
A12: 4 | B12: Hộ bà Phạm Thị Bông | L12: =SUM(L13) -> 2259100 | M12: =L12 -> 2259100
C13: Lúa | D13: m² | E13: 551 | F13: 443 | G13: 1 | H13: LUC | I13: =E13 -> 551 | J13: =VLOOKUP(C13,'[183]giá cây'!$B$3:$D$732,3,0) -> 4100 | K13: 1 | L13: =I13*J13*K13 -> 2259100
A14: 5 | B14: Hộ bà Ngô Thị Bình | L14: =SUM(L15) -> 1435000 | M14: =L14 -> 1435000
C15: Lúa | D15: m² | E15: 350 | F15: 506 | G15: 1 | H15: LUC | I15: =E15 -> 350 | J15: =VLOOKUP(C15,'[183]giá cây'!$B$3:$D$732,3,0) -> 4100 | K15: 1 | L15: =I15*J15*K15 -> 1435000
A16: 7 | B16: Hộ ông Ngô Văn Bình và bà Nguyễn Thị Tho | L16: =SUM(L17) -> 1033200 | M16: =L16 -> 1033200
C17: Lúa | D17: m² | E17: 252 | F17: 546 | G17: 1 | H17: LUC | I17: =E17 -> 252 | J17: =VLOOKUP(C17,'[183]giá cây'!$B$3:$D$732,3,0) -> 4100 | K17: 1 | L17: =I17*J17*K17 -> 1033200
A18: 8 | B18: hộ bà Phùng Thị Bình | L18: =SUM(L19) -> 4112300 | M18: =L18 -> 4112300
C19: Lúa | D19: m² | E19: 1003 | F19: 975 | G19: 1 | H19: LUC | I19: =E19 -> 1003 | J19: =VLOOKUP(C19,'[183]giá cây'!$B$3:$D$732,3,0) -> 4100 | K19: 1 | L19: =I19*J19*K19 -> 4112300
A20: 9 | B20: ông Trần Văn Bình và bà Trương Thị Hồng Hoa | L20: =SUM(L21:L22) -> 4965800 | M20: =L20 -> 4965800
C21: Lúa | D21: m² | E21: 1100 | F21: 1444 | G21: 1 | H21: LUC | I21: =E21 -> 1100 | J21: =VLOOKUP(C21,'[183]giá cây'!$B$3:$D$732,3,0) -> 4100 | K21: 1 | L21: =I21*J21*K21 -> 4510000
C22: Cây khoai lang lấy củ | D22: m² | E22: 106 | F22: 1072 | G22: 1 | H22: HNK | I22: =E22 -> 106 | J22: =VLOOKUP(C22,'[183]giá cây'!$B$3:$D$732,3,0) -> 4300 | K22: 1 | L22: =I22*J22*K22 -> 455800
A23: 10 | B23: ='Dat-Bieu10'!B16 -> bà Võ Thị Kim Oanh, ông Nguyễn Trọng Chương, ông Nguyễn Trọng Vương, ông Nguyễn Trọng Linh, ông Nguyễn Trọng Thủ, ông Nguyễn Trọng Lộc, bà Nguyễn Thị Bích Hậu đồng thừa kế của ông Nguyễn Anh Bản | L23: =SUM(L24:L25) -> 5207000 | M23: =L23 -> 5207000
C24: Lúa | D24: m² | E24: 540 | F24: 605 | G24: 1 | H24: LUC | I24: =E24 -> 540 | J24: =VLOOKUP(C24,'[183]giá cây'!$B$3:$D$732,3,0) -> 4100 | K24: 1 | L24: =I24*J24*K24 -> 2214000
C25: Lúa | D25: m² | E25: 730 | F25: 451 | G25: 1 | H25: LUC | I25: =E25 -> 730 | J25: =VLOOKUP(C25,'[183]giá cây'!$B$3:$D$732,3,0) -> 4100 | K25: 1 | L25: =I25*J25*K25 -> 2993000
A26: 12 | B26: Hộ ông Ngô Văn Chinh và bà Lê Thị Tâm | L26: =SUM(L27) -> 1734300 | M26: =L26 -> 1734300
C27: Lúa | D27: m² | E27: 423 | F27: 213 | G27: 1 | H27: LUC | I27: =E27 -> 423 | J27: =VLOOKUP(C27,'[183]giá cây'!$B$3:$D$732,3,0) -> 4100 | K27: 1 | L27: =I27*J27*K27 -> 1734300
A28: 14 | B28: ông Lê Thành Công và bà Lê Thị Trịnh | L28: 0 | M28: =L28 -> 0
A29: 15 | B29: Hộ ông Lê Thành Công và bà Lê Thị Trịnh | L29: =SUM(L30) -> 1976200 | M29: =L29 -> 1976200
C30: Lúa | D30: m² | E30: 482 | F30: 834 | G30: 1 | H30: LUC | I30: =E30 -> 482 | J30: =VLOOKUP(C30,'[183]giá cây'!$B$3:$D$732,3,0) -> 4100 | K30: 1 | L30: =I30*J30*K30 -> 1976200
A31: 16 | B31: ='Dat-Bieu10'!B21 -> ông Phùng Đình Vân, ông Phùng Đình Trung, ông Phùng Đình Tâm, ông Phùng Đình Bảo, ông Phùng Đình Toàn, ông Phùng Đình Khanh, ông Phùng Thanh Hiếu đồng thừa kế của ông Phùng Đình Chánh và bà Trần Thị Tự | L31: =SUM(L32:L39) -> 12105400 | M31: =L31 -> 12105400
C32: Dừa cây mới trồng | D32: cây | E32: 6 | F32: 747 | G32: 1 | H32: HNK | I32: =E32 -> 6 | J32: =VLOOKUP(C32,[184]Sheet2!$B$2:$D$732,3,0) -> 85000 | K32: 0 | L32: =I32*J32*K32 -> 0
C33: Dừa cây đã cho quả | D33: cây | E33: 4 | F33: 747 | G33: 1 | H33: HNK | I33: =E33 -> 4 | J33: =VLOOKUP(C33,[184]Sheet2!$B$2:$D$732,3,0) -> 900000 | K33: 0.3 | L33: =I33*J33*K33 -> 1080000
C34: Tre thường cây xanh chưa già | D34: cây | E34: 17 | F34: 747 | G34: 1 | H34: HNK | I34: =E34 -> 17 | J34: =VLOOKUP(C34,[184]Sheet2!$B$2:$D$732,3,0) -> 50000 | K34: 0.3 | L34: =I34*J34*K34 -> 255000
C35: Tre thường cây già sử dụng được | D35: cây | E35: 35 | F35: 747 | G35: 1 | H35: HNK | I35: =E35 -> 35 | J35: =VLOOKUP(C35,[184]Sheet2!$B$2:$D$732,3,0) -> 100000 | K35: 0.3 | L35: =I35*J35*K35 -> 1050000
C36: Bạch đàn cây có đường kính gốc > 8cm đến ≤ 12cm | D36: cây | E36: 11 | F36: 747 | G36: 1 | H36: HNK | I36: =E36 -> 11 | J36: =VLOOKUP(C36,[184]Sheet2!$B$2:$D$732,3,0) -> 136000 | K36: 0.3 | L36: =I36*J36*K36 -> 448800
C37: Bạch đàn cây có đường kính gốc > 12cm đến ≤ 16cm | D37: cây | E37: 8 | F37: 747 | G37: 1 | H37: HNK | I37: =E37 -> 8 | J37: =VLOOKUP(C37,[184]Sheet2!$B$2:$D$732,3,0) -> 180000 | K37: 0.3 | L37: =I37*J37*K37 -> 432000
C38: Lúa | D38: m² | E38: 1236 | F38: 64 | G38: 1 | H38: LUC | I38: =E38 -> 1236 | J38: =VLOOKUP(C38,'[183]giá cây'!$B$3:$D$732,3,0) -> 4100 | K38: 1 | L38: =I38*J38*K38 -> 5067600
C39: Lúa | D39: m² | E39: 920 | F39: 11 | G39: 1 | H39: LUC | I39: =E39 -> 920 | J39: =VLOOKUP(C39,'[183]giá cây'!$B$3:$D$732,3,0) -> 4100 | K39: 1 | L39: =I39*J39*K39 -> 3772000
A40: 19 | B40: Hộ ông Trần Văn Cứ và bà Nguyễn Thị Rùa | L40: =SUM(L41:L42) -> 9192200 | M40: =L40 -> 9192200
C41: Lúa | D41: m² | E41: 884 | F41: 228 | G41: 1 | H41: LUC | I41: =E41 -> 884 | J41: =VLOOKUP(C41,'[183]giá cây'!$B$3:$D$732,3,0) -> 4100 | K41: 1 | L41: =I41*J41*K41 -> 3624400
...

Sheet hỗ trợ
N1: (Biểu số 13)
A2: BẢNG TÍNH CHI TIẾT CÁC KHOẢN HỖ TRỢ CỦA HỘ GIA ĐÌNH, CÁ NHÂN THUỘC DỰ ÁN: KHU ĐÔ THỊ BẮC SA HUỲNH (ĐỢT 1)
N3: ĐVT: Đồng
A4: Stt | B4: Họ và tên chủ sử dụng đất | C4: Hỗ trợ ổn định đời sống | J4: Hỗ trợ chuyển đổi nghề nghiệp, đào tạo việc làm | N4: TỔNG CỘNG
C5: Tổng diện tích đất nông nghiệp đang sử dụng trên địa bàn phường Sa Huỳnh | D5: Diện tích đất nông nghiệp bị thu hồi | E5: Tỷ lệ (%) đất bị thu hồi | F5: Số nhân khẩu hỗ trợ | G5: Số tháng hỗ trợ | H5: Đơn giá hỗ trợ (đồng) | I5: Thành tiền (đồng) | J5: Diện tích đất bị thu hồi (m2) | K5: Loại đất | L5: Mức hỗ trợ (đồng) | M5: Thành tiền (đồng)
A6: 1 | B6: ='Dat-Bieu10'!B7 -> bà Nguyễn Thị Ai, bà Ngô Thị Ánh, ông Ngô Văn Bình, ông Ngô Văn Minh, bà Ngô Thị Diệu, bà Ngô Thị Hòa, bà Ngô Thị Lan, ông Ngô Văn Sang đồng thừa kế của ông Ngô Đức Tâm | I6: =G6*F6*H6 -> 0 | J6: ='Dat-Bieu10'!I7 -> 746 | K6: ='Dat-Bieu10'!H7 -> LUC | L6: ='Dat-Bieu10'!K7*5 -> 340000 | M6: =L6*J6 -> 253640000 | N6: =I6+M6 -> 253640000
I7: =G7*F7*H7 -> 0 | J7: ='Dat-Bieu10'!I8 -> 1240 | K7: ='Dat-Bieu10'!H8 -> LUC | L7: ='Dat-Bieu10'!K8*5 -> 340000 | M7: =L7*J7 -> 421600000 | N7: =I7+M7 -> 421600000
A8: =MAX(A$6:$B7)+1 -> 2 | B8: ='Dat-Bieu10'!B9 -> Hộ bà Trần Thị Bế | C8: 476 | D8: 476 | E8: =D8/C8*100 -> 100 | F8: 4 | G8: 12 | H8: =30*16333 -> 489990 | I8: =G8*F8*H8 -> 23519520 | J8: ='Dat-Bieu10'!I9 -> 476 | K8: ='Dat-Bieu10'!H9 -> LUC | L8: ='Dat-Bieu10'!K9*5 -> 340000 | M8: =L8*J8 -> 161840000 | N8: =I8+M8 -> 185359520
A9: =MAX(A$6:$B8)+1 -> 3 | B9: ='Dat-Bieu10'!B10 -> Hộ bà Phạm Thị Bông | C9: 551 | D9: 551 | E9: =D9/C9*100 -> 100 | F9: 5 | G9: 12 | H9: =30*16333 -> 489990 | I9: =G9*F9*H9 -> 29399400 | J9: ='Dat-Bieu10'!I10 -> 551 | K9: ='Dat-Bieu10'!H10 -> LUC | L9: ='Dat-Bieu10'!K10*5 -> 340000 | M9: =L9*J9 -> 187340000 | N9: =I9+M9 -> 216739400
A10: =MAX(A$6:$B9)+1 -> 4 | B10: ='Dat-Bieu10'!B11 -> Hộ bà Ngô Thị Bình | C10: 2207.871 | D10: 350 | E10: =D10/C10*100 -> 15.852375 | F10: 5 | G10: 2 | H10: =30*16333 -> 489990 | I10: =G10*F10*H10 -> 4899900 | J10: ='Dat-Bieu10'!I11 -> 350 | K10: ='Dat-Bieu10'!H11 -> LUC | L10: ='Dat-Bieu10'!K11*5 -> 340000 | M10: =L10*J10 -> 119000000 | N10: =I10+M10 -> 123899900
A11: =MAX(A$6:$B10)+1 -> 5 | B11: ='Dat-Bieu10'!B12 -> Hộ ông Ngô Văn Bình và bà Nguyễn Thị Tho | C11: 4357.4327 | D11: 252 | E11: =D11/C11*100 -> 5.7832218 | F11: 5 | G11: 1 | H11: =30*16333 -> 489990 | I11: =G11*F11*H11 -> 2449950 | J11: ='Dat-Bieu10'!I12 -> 252 | K11: ='Dat-Bieu10'!H12 -> LUC | L11: ='Dat-Bieu10'!K12*5 -> 340000 | M11: =L11*J11 -> 85680000 | N11: =I11+M11 -> 88129950
A12: =MAX(A$6:$B11)+1 -> 6 | B12: ='Dat-Bieu10'!B13 -> hộ bà Phùng Thị Bình | C12: 4931.5205 | D12: 1003 | E12: =D12/C12*100 -> 20.338555 | F12: 1 | G12: 3 | H12: =30*16333 -> 489990 | I12: =G12*F12*H12 -> 1469970 | J12: ='Dat-Bieu10'!I13 -> 1003 | K12: ='Dat-Bieu10'!H13 -> LUC | L12: ='Dat-Bieu10'!K13*5 -> 340000 | M12: =L12*J12 -> 341020000 | N12: =I12+M12 -> 342489970
A13: =MAX(A$6:$B12)+1 -> 7 | B13: ='Dat-Bieu10'!B14 -> ông Trần Văn Bình và bà Trương Thị Hồng Hoa | C13: 3088 | D13: 1215 | E13: =D13/C13*100 -> 39.345855 | F13: 5 | G13: 6 | H13: =30*16333 -> 489990 | I13: =G13*F13*H13 -> 14699700 | J13: ='Dat-Bieu10'!I14 -> 106 | K13: ='Dat-Bieu10'!H14 -> HNK | L13: ='Dat-Bieu10'!K14*5 -> 340000 | M13: =L13*J13 -> 36040000 | N13: =I13+M13 -> 50739700
F14: 5 | I14: =G14*F14*H14 -> 0 | J14: ='Dat-Bieu10'!I15 -> 1100 | K14: ='Dat-Bieu10'!H15 -> LUC | L14: ='Dat-Bieu10'!K15*5 -> 340000 | M14: =L14*J14 -> 374000000 | N14: =I14+M14 -> 374000000
A15: =MAX(A$6:$B14)+1 -> 8 | B15: ='Dat-Bieu10'!B16 -> bà Võ Thị Kim Oanh, ông Nguyễn Trọng Chương, ông Nguyễn Trọng Vương, ông Nguyễn Trọng Linh, ông Nguyễn Trọng Thủ, ông Nguyễn Trọng Lộc, bà Nguyễn Thị Bích Hậu đồng thừa kế của ông Nguyễn Anh Bản | I15: =G15*F15*H15 -> 0 | J15: ='Dat-Bieu10'!I16 -> 540 | K15: ='Dat-Bieu10'!H16 -> LUC | L15: ='Dat-Bieu10'!K16*5 -> 340000 | M15: =L15*J15 -> 183600000 | N15: =I15+M15 -> 183600000
I16: =G16*F16*H16 -> 0 | J16: ='Dat-Bieu10'!I17 -> 730 | K16: ='Dat-Bieu10'!H17 -> LUC | L16: ='Dat-Bieu10'!K17*5 -> 340000 | M16: =L16*J16 -> 248200000 | N16: =I16+M16 -> 248200000
A17: =MAX(A$6:$B16)+1 -> 9 | B17: ='Dat-Bieu10'!B18 -> Hộ ông Ngô Văn Chinh và bà Lê Thị Tâm | C17: 2647 | D17: 423 | E17: =D17/C17*100 -> 15.980355 | F17: 5 | G17: 2 | H17: =30*16333 -> 489990 | I17: =G17*F17*H17 -> 4899900 | J17: ='Dat-Bieu10'!I18 -> 423 | K17: ='Dat-Bieu10'!H18 -> LUC | L17: ='Dat-Bieu10'!K18*5 -> 340000 | M17: =L17*J17 -> 143820000 | N17: =I17+M17 -> 148719900
A18: =MAX(A$6:$B17)+1 -> 10 | B18: ='Dat-Bieu10'!B19 -> ông Lê Thành Công và bà Lê Thị Trịnh | C18: 7277.995 | D18: 684.2 | E18: =D18/C18*100 -> 9.4009408 | F18: 5 | G18: 1 | H18: =30*16333 -> 489990 | I18: =G18*F18*H18 -> 2449950 | J18: ='Dat-Bieu10'!I19 -> 202.2 | K18: ='Dat-Bieu10'!H19 -> HNK | L18: ='Dat-Bieu10'!K19*5 -> 355000 | M18: =L18*J18 -> 71781000 | N18: =I18+M18 -> 74230950
A19: =MAX(A$6:$B18)+1 -> 11 | B19: ='Dat-Bieu10'!B20 -> Hộ ông Lê Thành Công và bà Lê Thị Trịnh | I19: =G19*F19*H19 -> 0 | J19: ='Dat-Bieu10'!I20 -> 482 | K19: ='Dat-Bieu10'!H20 -> LUC | L19: ='Dat-Bieu10'!K20*5 -> 340000 | M19: =L19*J19 -> 163880000 | N19: =I19+M19 -> 163880000
A20: =MAX(A$6:$B19)+1 -> 12 | B20: ='Dat-Bieu10'!B21 -> ông Phùng Đình Vân, ông Phùng Đình Trung, ông Phùng Đình Tâm, ông Phùng Đình Bảo, ông Phùng Đình Toàn, ông Phùng Đình Khanh, ông Phùng Thanh Hiếu đồng thừa kế của ông Phùng Đình Chánh và bà Trần Thị Tự | I20: =G20*F20*H20 -> 0 | J20: ='Dat-Bieu10'!I21 -> 472 | K20: ='Dat-Bieu10'!H21 -> HNK | L20: ='Dat-Bieu10'!K21*5 -> 340000 | M20: =L20*J20 -> 160480000 | N20: =I20+M20 -> 160480000
I21: =G21*F21*H21 -> 0 | J21: ='Dat-Bieu10'!I22 -> 340 | K21: ='Dat-Bieu10'!H22 -> HNK | L21: ='Dat-Bieu10'!K22*5 -> 340000 | M21: =L21*J21 -> 115600000 | N21: =I21+M21 -> 115600000
I22: =G22*F22*H22 -> 0 | J22: ='Dat-Bieu10'!I23 -> 1236 | K22: ='Dat-Bieu10'!H23 -> LUC | L22: ='Dat-Bieu10'!K23*5 -> 340000 | M22: =L22*J22 -> 420240000 | N22: =I22+M22 -> 420240000
I23: =G23*F23*H23 -> 0 | J23: ='Dat-Bieu10'!I24 -> 920 | K23: ='Dat-Bieu10'!H24 -> LUC | L23: ='Dat-Bieu10'!K24*5 -> 340000 | M23: =L23*J23 -> 312800000 | N23: =I23+M23 -> 312800000
A24: =MAX(A$6:$B23)+1 -> 13 | B24: ='Dat-Bieu10'!B25 -> Hộ ông Trần Văn Cứ và bà Nguyễn Thị Rùa | C24: 10773.702 | D24: 3747 | E24: =D24/C24*100 -> 34.77913 | F24: 8 | G24: 6 | H24: =30*16333 -> 489990 | I24: =G24*F24*H24 -> 23519520 | J24: ='Dat-Bieu10'!I25 -> 884 | K24: ='Dat-Bieu10'!H25 -> LUC | L24: ='Dat-Bieu10'!K25*5 -> 340000 | M24: =L24*J24 -> 300560000 | N24: =I24+M24 -> 324079520
B25: ='Dat-Bieu10'!B26 -> Hộ ông Trần Văn Cứ và bà Nguyễn Thị Rùa | I25: =G25*F25*H25 -> 0 | J25: ='Dat-Bieu10'!I26 -> 1358 | K25: ='Dat-Bieu10'!H26 -> LUC | L25: ='Dat-Bieu10'!K26*5 -> 340000 | M25: =L25*J25 -> 461720000 | N25: =I25+M25 -> 461720000
A26: =MAX(A$6:$B25)+1 -> 14 | B26: ='Dat-Bieu10'!B27 -> ông Trần Văn Cứ bà Nguyễn Thị Rùa | I26: =G26*F26*H26 -> 0 | J26: ='Dat-Bieu10'!I27 -> 557 | K26: ='Dat-Bieu10'!H27 -> LUC | L26: ='Dat-Bieu10'!K27*5 -> 340000 | M26: =L26*J26 -> 189380000 | N26: =I26+M26 -> 189380000
B27: ='Dat-Bieu10'!B28 -> ông Trần Văn Cứ bà Nguyễn Thị Rùa | I27: =G27*F27*H27 -> 0 | J27: ='Dat-Bieu10'!I28 -> 922 | K27: ='Dat-Bieu10'!H28 -> HNK | L27: ='Dat-Bieu10'!K28*5 -> 355000 | M27: =L27*J27 -> 327310000 | N27: =I27+M27 -> 327310000
A28: =MAX(A$6:$B27)+1 -> 15 | B28: ='Dat-Bieu10'!B29 -> ông Ngô Văn Chiêm và bà Phùng Thị Xuyến | C28: 5650.818 | D28: 530.6 | E28: =D28/C28*100 -> 9.389791 | F28: 3 | G28: 1 | H28: =30*16333 -> 489990 | I28: =G28*F28*H28 -> 1469970 | J28: ='Dat-Bieu10'!I29 -> 22.6 | K28: ='Dat-Bieu10'!H29 -> HNK | L28: ='Dat-Bieu10'!K29*5 -> 340000 | M28: =L28*J28 -> 7684000 | N28: =I28+M28 -> 9153970
A29: =MAX(A$6:$B28)+1 -> 16 | B29: ='Dat-Bieu10'!B30 -> Hộ ông Ngô Văn Chiêm và bà Phùng Thị Xuyến | I29: =G29*F29*H29 -> 0 | J29: ='Dat-Bieu10'!I30 -> 508 | K29: ='Dat-Bieu10'!H30 -> LUC | L29: ='Dat-Bieu10'!K30*5 -> 340000 | M29: =L29*J29 -> 172720000 | N29: =I29+M29 -> 172720000
A30: =MAX(A$6:$B29)+1 -> 17 | B30: ='Dat-Bieu10'!B31 -> Hộ ông Ngô Hữu Chí và bà Nguyễn Thị Lương | C30: 11813.702 | D30: 1095 | E30: =D30/C30*100 -> 9.2688981 | F30: 4 | G30: 1 | H30: =30*16333 -> 489990 | I30: =G30*F30*H30 -> 1959960 | J30: ='Dat-Bieu10'!I31 -> 1095 | K30: ='Dat-Bieu10'!H31 -> LUC | L30: ='Dat-Bieu10'!K31*5 -> 340000 | M30: =L30*J30 -> 372300000 | N30: =I30+M30 -> 374259960
A31: =MAX(A$6:$B30)+1 -> 18 | B31: ='Dat-Bieu10'!B32 -> ông Lê Thành Công, bà Lê Thị Phi, bà Lê Thị Nguyệt, ông Lê Thanh Dân, ông Lê Đức Phước, bà Lê Thị Đức, ông Lê Văn Toàn, bà Lê Thị Oanh đồng thừa kế của ông Lê Cát và bà Nguyễn Thị Sáu | I31: =G31*F31*H31 -> 0 | J31: ='Dat-Bieu10'!I32 -> 104 | K31: ='Dat-Bieu10'!H32 -> LUC | L31: ='Dat-Bieu10'!K32*5 -> 340000 | M31: =L31*J31 -> 35360000 | N31: =I31+M31 -> 35360000
I32: =G32*F32*H32 -> 0 | J32: ='Dat-Bieu10'!I33 -> 1356 | K32: ='Dat-Bieu10'!H33 -> LUC | L32: ='Dat-Bieu10'!K33*5 -> 340000 | M32: =L32*J32 -> 461040000 | N32: =I32+M32 -> 461040000
A33: =MAX(A$6:$B32)+1 -> 19 | B33: ='Dat-Bieu10'!B34 -> Hộ ông Ngô Văn Chiền và bà Phạm Thị Gái | C33: 3813.8761 | D33: 591 | E33: =D33/C33*100 -> 15.496046 | F33: 8 | G33: 2 | H33: =30*16333 -> 489990 | I33: =G33*F33*H33 -> 7839840 | J33: ='Dat-Bieu10'!I34 -> 591 | K33: ='Dat-Bieu10'!H34 -> LUC | L33: ='Dat-Bieu10'!K34*5 -> 355000 | M33: =L33*J33 -> 209805000 | N33: =I33+M33 -> 217644840
A34: =MAX(A$6:$B33)+1 -> 20 | B34: ='Dat-Bieu10'!B35 -> bà Phùng Thị Chí, ông Trần Trọng Nghĩa, bà Trần Thị Kim Loan, ông Trần Đức Phụng, bà Trần Thị Mỹ Hạnh đồng thừa kế của ông Trần Mỉa | J34: ='Dat-Bieu10'!I35 -> 1780 | K34: ='Dat-Bieu10'!H35 -> LUC | L34: ='Dat-Bieu10'!K35*5 -> 340000 | M34: =L34*J34 -> 605200000 | N34: =I34+M34 -> 605200000
A35: =MAX(A$6:$B34)+1 -> 21 | B35: ='Dat-Bieu10'!B36 -> hộ ông Trần Trung Dũng và bà Nguyễn Thị Cúc | C35: 1798 | D35: 1785 | E35: =D35/C35*100 -> 99.276974 | F35: 7 | G35: 12 | H35: =30*16333 -> 489990 | I35: =G35*F35*H35 -> 41159160 | J35: ='Dat-Bieu10'!I36 -> 920 | K35: ='Dat-Bieu10'!H36 -> LUC | L35: ='Dat-Bieu10'!K36*5 -> 340000 | M35: =L35*J35 -> 312800000 | N35: =I35+M35 -> 353959160
D36: 865 | I36: =G36*F36*H36 -> 0 | J36: ='Dat-Bieu10'!I37 -> 865 | K36: ='Dat-Bieu10'!H37 -> LUC | L36: ='Dat-Bieu10'!K37*5 -> 355000 | M36: =L36*J36 -> 307075000 | N36: =I36+M36 -> 307075000
A37: =MAX(A$6:$B36)+1 -> 22 | B37: ='Dat-Bieu10'!B38 -> Hộ ông Phùng Đình Duy và bà Ngô Thị Hường | C37: 9274.707 | D37: 882 | E37: =D37/C37*100 -> 9.5097344 | F37: 7 | G37: 1 | H37: =30*16333 -> 489990 | I37: =G37*F37*H37 -> 3429930 | J37: ='Dat-Bieu10'!I38 -> 882 | K37: ='Dat-Bieu10'!H38 -> LUC | L37: ='Dat-Bieu10'!K38*5 -> 375000 | M37: =L37*J37 -> 330750000 | N37: =I37+M37 -> 334179930
A38: =MAX(A$6:$B37)+1 -> 23 | B38: ='Dat-Bieu10'!B39 -> Hộ ông Đào Văn Đỗi và bà Lê Thị Sông | C38: 7120.499 | D38: 539 | E38: =D38/C38*100 -> 7.5696942 | F38: 4 | G38: 1 | H38: =30*16333 -> 489990 | I38: =G38*F38*H38 -> 1959960 | J38: ='Dat-Bieu10'!I39 -> 539 | K38: ='Dat-Bieu10'!H39 -> LUC | L38: ='Dat-Bieu10'!K39*5 -> 340000 | M38: =L38*J38 -> 183260000 | N38: =I38+M38 -> 185219960
A39: =MAX(A$6:$B38)+1 -> 24 | B39: ='Dat-Bieu10'!B40 -> Hộ bà Ngô Thị Đài | C39: 1533 | D39: 941 | E39: =D39/C39*100 -> 61.382909 | F39: 1 | G39: 6 | H39: =30*16333 -> 489990 | I39: =G39*F39*H39 -> 2939940 | J39: ='Dat-Bieu10'!I40 -> 941 | K39: ='Dat-Bieu10'!H40 -> LUC | L39: ='Dat-Bieu10'!K40*5 -> 355000 | M39: =L39*J39 -> 334055000 | N39: =I39+M39 -> 336994940
A40: =MAX(A$6:$B39)+1 -> 25 | B40: ='Dat-Bieu10'!B41 -> Hộ ông Nguyễn Tấn Đức và bà Trần Thị Ngọc Anh | C40: 6453.66 | D40: 1590 | E40: =D40/C40*100 -> 24.637183 | F40: 15 | G40: 3 | H40: =30*16333 -> 489990 | I40: =G40*F40*H40 -> 22049550 | J40: ='Dat-Bieu10'!I41 -> 1590 | K40: ='Dat-Bieu10'!H41 -> LUC | L40: ='Dat-Bieu10'!K41*5 -> 355000 | M40: =L40*J40 -> 564450000 | N40: =I40+M40 -> 586499550
...

Sheet TONG HOP TUNG NGUOI
H1: (Biểu số: 14)
A2: BẢNG TỔNG HỢP KINH PHÍ BỒI THƯỜNG, HỖ TRỢ DỰ ÁN: TIỂU DỰ ÁN BỒI THƯỜNG, HỖ TRỢ, TÁI ĐỊNH CƯ DỰ ÁN: KHU ĐÔ THỊ BẮC SA HUỲNH (ĐỢT 1)
A3: Đơn vị tính: Đồng
A4: STT | B4: Họ và tên Chủ hộ | C4: Địa chỉ thường trú | D4: Giá trị bồi thường hỗ trợ (đồng) | H4: Tổng cộng (đồng)
D5: Đất | E5: Mồ mã, công trình, VKT | F5: Cây cối, hoa màu | G5: Hỗ trợ
A6: 1 | B6: ='Dat-Bieu10'!B7 -> bà Nguyễn Thị Ai, bà Ngô Thị Ánh, ông Ngô Văn Bình, ông Ngô Văn Minh, bà Ngô Thị Diệu, bà Ngô Thị Hòa, bà Ngô Thị Lan, ông Ngô Văn Sang đồng thừa kế của ông Ngô Đức Tâm | C6: TDP Tân Diêm, phường Sa Huỳnh | D6: ='Dat-Bieu10'!N7+'Dat-Bieu10'!N8 -> 135048000 | E6: ='tài sản'!M8 -> 0 | F6: ='cây cối'!M7 -> 8142600 | G6: ='hỗ trợ'!N6+'hỗ trợ'!N7 -> 675240000 | H6: =G6+F6+E6+D6 -> 818430600
A7: =MAX(A$6:$B6)+1 -> 2 | B7: ='Dat-Bieu10'!B9 -> Hộ bà Trần Thị Bế | C7: TDP Tân Diêm, phường Sa Huỳnh | D7: ='Dat-Bieu10'!N9 -> 32368000 | F7: ='cây cối'!M10 -> 1951600 | G7: ='hỗ trợ'!N8 -> 185359520 | H7: =G7+F7+E7+D7 -> 219679120
A8: =MAX(A$6:$B7)+1 -> 3 | B8: ='Dat-Bieu10'!B10 -> Hộ bà Phạm Thị Bông | C8: TDP Tân Diêm, phường Sa Huỳnh | D8: ='Dat-Bieu10'!N10 -> 37468000 | E8: ='tài sản'!M10 -> 0 | F8: ='cây cối'!M12 -> 2259100 | G8: ='hỗ trợ'!N9 -> 216739400 | H8: =G8+F8+E8+D8 -> 256466500
A9: =MAX(A$6:$B8)+1 -> 4 | B9: ='Dat-Bieu10'!B11 -> Hộ bà Ngô Thị Bình | C9: TDP Tân Diêm, phường Sa Huỳnh | D9: ='Dat-Bieu10'!N11 -> 23800000 | E9: ='tài sản'!M12 -> 0 | F9: ='cây cối'!M14 -> 1435000 | G9: ='hỗ trợ'!N10 -> 123899900 | H9: =G9+F9+E9+D9 -> 149134900
A10: =MAX(A$6:$B9)+1 -> 5 | B10: ='Dat-Bieu10'!B12 -> Hộ ông Ngô Văn Bình và bà Nguyễn Thị Tho | C10: TDP Tân Diêm, phường Sa Huỳnh | D10: ='Dat-Bieu10'!N12 -> 17136000 | E10: ='tài sản'!M14 -> 0 | F10: ='cây cối'!M16 -> 1033200 | G10: ='hỗ trợ'!N11 -> 88129950 | H10: =G10+F10+E10+D10 -> 106299150
A11: =MAX(A$6:$B10)+1 -> 6 | B11: ='Dat-Bieu10'!B13 -> hộ bà Phùng Thị Bình | C11: TDP Tân Diêm, phường Sa Huỳnh | D11: ='Dat-Bieu10'!N13 -> 68204000 | F11: ='cây cối'!M18 -> 4112300 | G11: ='hỗ trợ'!N12 -> 342489970 | H11: =G11+F11+E11+D11 -> 414806270
A12: =MAX(A$6:$B11)+1 -> 7 | B12: ='Dat-Bieu10'!B14 -> ông Trần Văn Bình và bà Trương Thị Hồng Hoa | C12: TDP Tân Diêm, phường Sa Huỳnh | D12: ='Dat-Bieu10'!N14+'Dat-Bieu10'!N15 -> 82008000 | F12: ='cây cối'!M20 -> 4965800 | G12: ='hỗ trợ'!N13+'hỗ trợ'!N14 -> 424739700 | H12: =G12+F12+E12+D12 -> 511713500
A13: =MAX(A$6:$B12)+1 -> 8 | B13: ='Dat-Bieu10'!B16 -> bà Võ Thị Kim Oanh, ông Nguyễn Trọng Chương, ông Nguyễn Trọng Vương, ông Nguyễn Trọng Linh, ông Nguyễn Trọng Thủ, ông Nguyễn Trọng Lộc, bà Nguyễn Thị Bích Hậu đồng thừa kế của ông Nguyễn Anh Bản | C13: TDP Tân Diêm, phường Sa Huỳnh | D13: ='Dat-Bieu10'!N16+'Dat-Bieu10'!N17 -> 86360000 | F13: ='cây cối'!M23 -> 5207000 | G13: ='hỗ trợ'!N15+'hỗ trợ'!N16 -> 431800000 | H13: =G13+F13+E13+D13 -> 523367000
A14: =MAX(A$6:$B13)+1 -> 9 | B14: ='Dat-Bieu10'!B18 -> Hộ ông Ngô Văn Chinh và bà Lê Thị Tâm | C14: TDP Tân Diêm, phường Sa Huỳnh | D14: ='Dat-Bieu10'!N18 -> 28764000 | F14: ='cây cối'!M26 -> 1734300 | G14: ='hỗ trợ'!N17 -> 148719900 | H14: =G14+F14+E14+D14 -> 179218200
A15: =MAX(A$6:$B14)+1 -> 10 | B15: ='Dat-Bieu10'!B19 -> ông Lê Thành Công và bà Lê Thị Trịnh | C15: TDP Tân Diêm, phường Sa Huỳnh | D15: ='Dat-Bieu10'!N19 -> 14356200 | F15: ='cây cối'!M28 -> 0 | G15: ='hỗ trợ'!N18 -> 74230950 | H15: =G15+F15+E15+D15 -> 88587150
A16: =MAX(A$6:$B15)+1 -> 11 | B16: ='Dat-Bieu10'!B20 -> Hộ ông Lê Thành Công và bà Lê Thị Trịnh | C16: TDP Tân Diêm, phường Sa Huỳnh | D16: ='Dat-Bieu10'!N20 -> 32776000 | F16: ='cây cối'!M29 -> 1976200 | G16: ='hỗ trợ'!N19 -> 163880000 | H16: =G16+F16+E16+D16 -> 198632200
A17: =MAX(A$6:$B16)+1 -> 12 | B17: ='Dat-Bieu10'!B21 -> ông Phùng Đình Vân, ông Phùng Đình Trung, ông Phùng Đình Tâm, ông Phùng Đình Bảo, ông Phùng Đình Toàn, ông Phùng Đình Khanh, ông Phùng Thanh Hiếu đồng thừa kế của ông Phùng Đình Chánh và bà Trần Thị Tự | C17: TDP Tân Diêm, phường Sa Huỳnh | D17: ='Dat-Bieu10'!N21+'Dat-Bieu10'!N22+'Dat-Bieu10'!N23+'Dat-Bieu10'!N24 -> 201824000 | F17: ='cây cối'!M31 -> 12105400 | G17: ='hỗ trợ'!N20+'hỗ trợ'!N21+'hỗ trợ'!N22+'hỗ trợ'!N23 -> 1009120000 | H17: =G17+F17+E17+D17 -> 1223049400
A18: =MAX(A$6:$B17)+1 -> 13 | B18: ='Dat-Bieu10'!B25 -> Hộ ông Trần Văn Cứ và bà Nguyễn Thị Rùa | C18: TDP Tân Diêm, phường Sa Huỳnh | D18: ='Dat-Bieu10'!N25+'Dat-Bieu10'!N26 -> 152456000 | E18: ='tài sản'!M16 -> 0 | F18: ='cây cối'!M40 -> 9192200 | G18: ='hỗ trợ'!N24+'hỗ trợ'!N25 -> 785799520 | H18: =G18+F18+E18+D18 -> 947447720
A19: =MAX(A$6:$B18)+1 -> 14 | B19: ='Dat-Bieu10'!B27 -> ông Trần Văn Cứ bà Nguyễn Thị Rùa | C19: TDP Tân Diêm, phường Sa Huỳnh | D19: ='Dat-Bieu10'!N27+'Dat-Bieu10'!N28 -> 103338000 | F19: ='cây cối'!M43 -> 2283700 | G19: ='hỗ trợ'!N26+'hỗ trợ'!N27 -> 516690000 | H19: =G19+F19+E19+D19 -> 622311700
A20: =MAX(A$6:$B19)+1 -> 15 | B20: ='Dat-Bieu10'!B29 -> ông Ngô Văn Chiêm và bà Phùng Thị Xuyến | C20: TDP Tân Diêm, phường Sa Huỳnh | D20: ='Dat-Bieu10'!N29 -> 1536800 | E20: ='tài sản'!M20 -> 0 | F20: ='cây cối'!M45 -> 0 | G20: ='hỗ trợ'!N28 -> 9153970 | H20: =G20+F20+E20+D20 -> 10690770
A21: =MAX(A$6:$B20)+1 -> 16 | B21: ='Dat-Bieu10'!B30 -> Hộ ông Ngô Văn Chiêm và bà Phùng Thị Xuyến | C21: TDP Tân Diêm, phường Sa Huỳnh | D21: ='Dat-Bieu10'!N30 -> 34544000 | F21: ='cây cối'!M46 -> 2082800 | G21: ='hỗ trợ'!N29 -> 172720000 | H21: =G21+F21+E21+D21 -> 209346800
A22: =MAX(A$6:$B21)+1 -> 17 | B22: ='Dat-Bieu10'!B31 -> Hộ ông Ngô Hữu Chí và bà Nguyễn Thị Lương | C22: TDP Tân Diêm, phường Sa Huỳnh | D22: ='Dat-Bieu10'!N31 -> 74460000 | F22: ='cây cối'!M48 -> 4489500 | G22: ='hỗ trợ'!N30 -> 374259960 | H22: =G22+F22+E22+D22 -> 453209460
A23: =MAX(A$6:$B22)+1 -> 18 | B23: ='Dat-Bieu10'!B32 -> ông Lê Thành Công, bà Lê Thị Phi, bà Lê Thị Nguyệt, ông Lê Thanh Dân, ông Lê Đức Phước, bà Lê Thị Đức, ông Lê Văn Toàn, bà Lê Thị Oanh đồng thừa kế của ông Lê Cát và bà Nguyễn Thị Sáu | C23: TDP Tân Diêm, phường Sa Huỳnh | D23: ='Dat-Bieu10'!N32+'Dat-Bieu10'!N33 -> 99280000 | E23: ='tài sản'!M22 -> 0 | F23: ='cây cối'!M50 -> 5986000 | G23: ='hỗ trợ'!N31+'hỗ trợ'!N32 -> 496400000 | H23: =G23+F23+E23+D23 -> 601666000
A24: =MAX(A$6:$B23)+1 -> 19 | B24: ='Dat-Bieu10'!B34 -> Hộ ông Ngô Văn Chiền và bà Phạm Thị Gái | C24: TDP Tân Diêm, phường Sa Huỳnh | D24: ='Dat-Bieu10'!N34 -> 41961000 | E24: ='tài sản'!M24 -> 0 | F24: ='cây cối'!M53 -> 2423100 | G24: ='hỗ trợ'!N33 -> 217644840 | H24: =G24+F24+E24+D24 -> 262028940
A25: =MAX(A$6:$B24)+1 -> 20 | B25: ='Dat-Bieu10'!B35 -> bà Phùng Thị Chí, ông Trần Trọng Nghĩa, bà Trần Thị Kim Loan, ông Trần Đức Phụng, bà Trần Thị Mỹ Hạnh đồng thừa kế của ông Trần Mỉa | C25: TDP Tân Diêm, phường Sa Huỳnh | D25: ='Dat-Bieu10'!N35 -> 121040000 | F25: ='cây cối'!M55 -> 7298000 | G25: ='hỗ trợ'!N34 -> 605200000 | H25: =G25+F25+E25+D25 -> 733538000
A26: =MAX(A$6:$B25)+1 -> 21 | B26: ='Dat-Bieu10'!B36 -> hộ ông Trần Trung Dũng và bà Nguyễn Thị Cúc | C26: TDP Tân Diêm, phường Sa Huỳnh | D26: ='Dat-Bieu10'!N36+'Dat-Bieu10'!N37 -> 123975000 | E26: ='tài sản'!M26 -> 0 | F26: ='cây cối'!M57 -> 7318500 | G26: ='hỗ trợ'!N35+'hỗ trợ'!N36 -> 661034160 | H26: =G26+F26+E26+D26 -> 792327660
A27: =MAX(A$6:$B26)+1 -> 22 | B27: ='Dat-Bieu10'!B38 -> Hộ ông Phùng Đình Duy và bà Ngô Thị Hường | C27: TDP Tân Diêm, phường Sa Huỳnh | D27: ='Dat-Bieu10'!N38 -> 66150000 | F27: ='cây cối'!M60 -> 3616200 | G27: ='hỗ trợ'!N37 -> 334179930 | H27: =G27+F27+E27+D27 -> 403946130
A28: =MAX(A$6:$B27)+1 -> 23 | B28: ='Dat-Bieu10'!B39 -> Hộ ông Đào Văn Đỗi và bà Lê Thị Sông | C28: TDP Tân Diêm, phường Sa Huỳnh | D28: ='Dat-Bieu10'!N39 -> 36652000 | E28: ='tài sản'!M28 -> 0 | F28: ='cây cối'!M62 -> 2209900 | G28: ='hỗ trợ'!N38 -> 185219960 | H28: =G28+F28+E28+D28 -> 224081860
A29: =MAX(A$6:$B28)+1 -> 24 | B29: ='Dat-Bieu10'!B40 -> Hộ bà Ngô Thị Đài | C29: TDP Tân Diêm, phường Sa Huỳnh | D29: ='Dat-Bieu10'!N40 -> 66811000 | F29: ='cây cối'!M64 -> 3858100 | G29: ='hỗ trợ'!N39 -> 336994940 | H29: =G29+F29+E29+D29 -> 407664040
A30: =MAX(A$6:$B29)+1 -> 25 | B30: ='Dat-Bieu10'!B41 -> Hộ ông Nguyễn Tấn Đức và bà Trần Thị Ngọc Anh | C30: TDP Tân Diêm, phường Sa Huỳnh | D30: ='Dat-Bieu10'!N41 -> 112890000 | F30: ='cây cối'!M66 -> 6519000 | G30: ='hỗ trợ'!N40 -> 586499550 | H30: =G30+F30+E30+D30 -> 705908550
A31: =MAX(A$6:$B30)+1 -> 26 | B31: ='Dat-Bieu10'!B42 -> bà Võ Thị Hường, ông Phùng Đình Thích, bà Phùng Thị Trinh, bà Phùng Thị Đậm, bà Phùng Thị Được, ông Phùng Đình Lắm đồng thừa kế của ông Phùng Đình Kích | C31: TDP Tân Diêm, phường Sa Huỳnh | D31: ='Dat-Bieu10'!N42+'Dat-Bieu10'!N43 -> 146676000 | F31: ='cây cối'!M68 -> 8843700 | G31: ='hỗ trợ'!N41+'hỗ trợ'!N42 -> 733380000 | H31: =G31+F31+E31+D31 -> 888899700
A32: =MAX(A$6:$B31)+1 -> 27 | B32: ='Dat-Bieu10'!B44 -> Hộ ông Ngô Quang Hiền và bà Võ Thị Ngãnh | C32: TDP Tân Diêm, phường Sa Huỳnh | D32: ='Dat-Bieu10'!N44+'Dat-Bieu10'!N45 -> 119204000 | E32: ='tài sản'!M30 -> 0 | F32: ='cây cối'!M71 -> 7187300 | G32: ='hỗ trợ'!N43+'hỗ trợ'!N44 -> 637179160 | H32: =G32+F32+E32+D32 -> 763570460
A33: =MAX(A$6:$B32)+1 -> 28 | B33: ='Dat-Bieu10'!B46 -> Hộ ông Phạm Hùng và bà Nguyễn Thị Ngọc | C33: TDP Tân Diêm, phường Sa Huỳnh | D33: ='Dat-Bieu10'!N46+'Dat-Bieu10'!N47 -> 62706000 | F33: ='cây cối'!M74 -> 3726900 | G33: ='hỗ trợ'!N45+'hỗ trợ'!N46 -> 322349820 | H33: =G33+F33+E33+D33 -> 388782720
A34: =MAX(A$6:$B33)+1 -> 29 | B34: ='Dat-Bieu10'!B48 -> Hộ ông Nguyễn Hiệp và bà Nguyễn Thị Bi | C34: TDP Tân Diêm, phường Sa Huỳnh | D34: ='Dat-Bieu10'!N48 -> 69450000 | F34: ='cây cối'!M77 -> 3796600 | G34: ='hỗ trợ'!N47 -> 351169920 | H34: =G34+F34+E34+D34 -> 424416520
A35: =MAX(A$6:$B34)+1 -> 30 | B35: ='Dat-Bieu10'!B49 -> Hộ ông Ngô Tấn Hồng và bà Phùng Thị Hoa | C35: TDP Tân Diêm, phường Sa Huỳnh | D35: ='Dat-Bieu10'!N49+'Dat-Bieu10'!N50 -> 155448000 | E35: ='tài sản'!M32 -> 0 | F35: ='cây cối'!M79 -> 9372600 | G35: ='hỗ trợ'!N48+'hỗ trợ'!N49 -> 783119880 | H35: =G35+F35+E35+D35 -> 947940480
A36: =MAX(A$6:$B35)+1 -> 31 | B36: ='Dat-Bieu10'!B51 -> ông Võ Thanh Hồng | C36: TDP Thạnh Đức 1, phường Sa Huỳnh | D36: ='Dat-Bieu10'!N51 -> 125386000 | F36: ='cây cối'!M82 -> 7240600 | G36: ='hỗ trợ'!N50 -> 685728800 | H36: =G36+F36+E36+D36 -> 818355400
A37: =MAX(A$6:$B36)+1 -> 32 | B37: ='Dat-Bieu10'!B52 -> Hộ ông Trần Hồng và bà Ngô Thị Lập | C37: TDP Tân Diêm, phường Sa Huỳnh | D37: ='Dat-Bieu10'!N52+'Dat-Bieu10'!N53 -> 131279000 | E37: ='tài sản'!M35 -> 0 | F37: ='cây cối'!M84 -> 7580900 | G37: ='hỗ trợ'!N51+'hỗ trợ'!N52 -> 662274880 | H37: =G37+F37+E37+D37 -> 801134780
A38: =MAX(A$6:$B37)+1 -> 33 | B38: ='Dat-Bieu10'!B54 -> ông Nguyễn Tấn Hiền và bà Lê Thị Kim Nhung | C38: TDP Tân Diêm, phường Sa Huỳnh | D38: ='Dat-Bieu10'!N54 -> 35904000 | G38: ='hỗ trợ'!N53 -> 203039520 | H38: =G38+F38+E38+D38 -> 238943520
A39: =MAX(A$6:$B38)+1 -> 34 | B39: ='Dat-Bieu10'!B55 -> Hộ ông Nguyễn Tấn Hiền và bà Lê Thị Kim Nhung | C39: TDP Tân Diêm, phường Sa Huỳnh | D39: ='Dat-Bieu10'!N55+'Dat-Bieu10'!N56 -> 51877200 | E39: ='tài sản'!M38 -> 0 | F39: ='cây cối'!M87 -> 3127890 | G39: ='hỗ trợ'!N54+'hỗ trợ'!N55 -> 2.59386e+08 | H39: =G39+F39+E39+D39 -> 314391090
A40: =MAX(A$6:$B39)+1 -> 35 | B40: ='Dat-Bieu10'!B57 -> Hộ bà Nguyễn Thị Hữu | C40: TDP Tân Diêm, phường Sa Huỳnh | D40: ='Dat-Bieu10'!N57+'Dat-Bieu10'!N58 -> 91895200 | E40: ='tài sản'!M40 -> 0 | F40: ='cây cối'!M90 -> 5540740 | G40: ='hỗ trợ'!N56+'hỗ trợ'!N57 -> 462415940 | H40: =G40+F40+E40+D40 -> 559851880
...

Sheet cây hỗ trợ
A1: STT | B1: Họ và tên chủ sử dụng | C1: Chủng lọai, quy cách cây trồng | D1: Đơn vị tính | E1: Số lượng kiểm kê | F1: Số thửa | G1: Tờ bản đồ dự án | H1: Loại đất | I1: Ghi chú
A3: 1 | B3: ông Phùng Đình Vân, ông Phùng Đình Trung, ông Phùng Đình Tâm, ông Phùng Đình Bảo, ông Phùng Đình Toàn, ông Phùng Đình Khanh, ông Phùng Thanh Hiếu đồng thừa kế của ông Phùng Đình Chánh và bà Trần Thị Tự | C3: Dừa cây mới trồng | D3: cây | E3: 6 | F3: 747 | G3: 1 | H3: HNK
C4: Dừa cây đã cho quả | D4: cây | E4: 4 | F4: 747 | G4: 1 | H4: HNK
C5: Tre thường cây xanh chưa già | D5: cây | E5: 17 | F5: 747 | G5: 1 | H5: HNK
C6: Tre thường cây già sử dụng được | D6: cây | E6: 35 | F6: 747 | G6: 1 | H6: HNK
C7: Bạch đàn cây có đường kính gốc > 8cm đến ≤ 12cm | D7: cây | E7: 11 | F7: 747 | G7: 1 | H7: HNK
C8: Bạch đàn cây có đường kính gốc > 12cm đến ≤ 16cm | D8: cây | E8: 8 | F8: 747 | G8: 1 | H8: HNK
A9: 2 | B9: ông Nguyễn Lộc và bà Nguyễn Thị Sô | C9: Tre thường cây xanh chưa già | D9: cây | E9: 13 | F9: 1231 | G9: 1 | H9: HNK
C10: Tre thường cây già sử dụng được | D10: cây | E10: 8 | F10: 1231 | G10: 1 | H10: HNK
A11: 3 | B11: ông Lê Minh Mậu, bà Lê Thị Trang, ông Lê Văn Châu, ông Lê Minh Kiệt, ông Lê Minh Dũng, bà Lê Thị Ngọc, ông Lê Minh Hiệp đồng thừa kế của bà Nguyễn Thị Điểm | C11: Bạch đàn cây có đường kính gốc > 12cm đến ≤ 16cm | D11: cây | E11: 12 | F11: 41 | G11: 1 | H11: HNK
C12: Bạch đàn cây có đường kính gốc > 16cm đến ≤ 20cm | D12: cây | E12: 8 | F12: 41 | G12: 1 | H12: HNK
A13: 4 | B13: ông Nguyễn Tấn Phó và bà Đặng Thị Điệp | C13: Keo cây có đường kính gốc > 4cm đến ≤ 8cm | D13: cây | E13: 44 | F13: 1066 | G13: 1 | H13: HNK
C14: Keo cây có đường kính gốc > 8cm đến ≤ 12cm | D14: cây | E14: 68 | F14: 1066 | G14: 1 | H14: HNK
A24: STT | B24: Họ tên chủ hộ | C24: Tờ BĐ dự án | D24: Số thửa | E24: Loại đất | F24: Nhà, công trình phục vụ đời sống | J24: Ghi chú
F25: Hạng mục | G25: Đơn vị tính | H25: Khối lượng | I25: Năm xây dựng
A26: 1 | B26: Hộ ông Nguyễn Cho và bà Nguyễn Thị Lộc | C26: 1 | D26: 1124 | E26: HNK | F26: Giếng đóng bằng ống nhựa (PVC) Ø60, không có máy bơm điện, đầu bơm tay, nền giếng. Chiều sâu > 8m ÷ ≤ 12m | G26: m | H26: 12 | I26: 1998
A27: 2 | B27: ông Phan Xu, ông Phan Văn Ánh, ông Phan Thanh Hiện, bà, Phan Thị Tâm, ông Phan Văn Lý, bà Phan Thị Nguyệt, ông Phan Văn Thục, ông Phan Thanh Tại đồng thừa kế của bà Võ Thị Tạo | C27: 1 | D27: 1205 | E27: HNK | F27: Giếng đóng bằng ống nhựa (PVC) Ø60, không có máy bơm điện, đầu bơm tay, nền giếng. Chiều sâu 16m | G27: m | H27: 16 | I27: 1998

Sheet Sheet1
A1: DANH SÁCH ĐỀ NGHỊ HỖ TRỢ VỤ LÚA CHO CÁC HỘ GIA ĐÌNH, CÁ NHÂN CÓ ĐẤT NÔNG NGHIỆP KHÔNG THỂ SẢN XUẤT ĐƯỢC BỊ ẢNH HƯỞNG BỞI CÔNG TRÌNH: SÂN VẬN ĐỘNG PHỔ THẠNH
A2: Địa điểm: xã Phổ Thạnh, huyện Đức Phổ, tỉnh Quảng Ngãi
K3: ĐVT: m2
A4: STT | B4: Họ và tên | C4: Địa chỉ thường trú | D4: Tờ bản đồ | E4: Thửa đất số | F4: Diện tích thửa (m2) | G4: Loại đất | H4: Diện tích Quy hoạch (m2) | I4: Diện tích thực tế không sản xuất được đề nghị hỗ trợ (m2) | J4: Số vụ không sản xuất lúa đề nghị hỗ trợ | K4: Ghi chú
A6: 1 | B6: Hộ ông Nguyễn Mười và bà Trần Thị Son | C6: thôn La Vân, xã Phổ Thạnh | D6: 24 | E6: 543 | F6: 1933 | G6: LUC | H6: 1273 | I6: =F6 -> 1933 | J6: 1
A7: 2 | B7: Bà Ngô Thị Diệu | C7: thôn Thạch By 1, xã Phổ Thạnh | D7: 24 | E7: 576 | F7: 976 | G7: LUC | H7: 487 | I7: =F7 -> 976 | J7: 1
A8: 3 | B8: Ông Lê Thành Công | C8: thôn Tân Diêm, xã Phổ Thạnh | D8: 24 | E8: 577 | F8: 1482 | G8: LUC | H8: 1425 | I8: =F8 -> 1482 | J8: 1
A9: 4 | B9: Hộ ông Nguyễn Văn Xừ và bà Phùng Thị Yến | C9: thôn Tân Diêm, xã Phổ Thạnh | D9: 24 | E9: 579 | F9: 1914 | G9: LUC | H9: 1105 | I9: =F9 -> 1914 | J9: 1
A10: 5 | B10: Hộ ông Phan Văn Lý và bà Nguyễn Thị Loan | C10: thôn La Vân, xã Phổ Thạnh | D10: 24 | E10: 599 | F10: 726 | G10: LUC | H10: 711 | I10: =F10 -> 726 | J10: 1
A11: 6 | B11: Hộ ông Lê Xin và bà Võ Thị Hoa | C11: thôn La Vân, xã Phổ Thạnh | D11: 24 | E11: 600 | F11: 579 | G11: LUC | H11: 486 | I11: =F11 -> 579 | J11: 1
A12: 7 | B12: Hộ ông Ngô Văn Chiêm và bà Phùng Thị Xuyến | C12: thôn Tân Diêm, xã Phổ Thạnh | D12: 24 | E12: 601 | F12: 1208 | G12: LUC | H12: 1208 | I12: =F12 -> 1208 | J12: 1
A13: 8 | B13: Ông Nguyễn Hùng | C13: thôn Tân Diêm, xã Phổ Thạnh | D13: 24 | E13: 602 | F13: 2263 | G13: LUC | H13: 1970 | I13: =F13 -> 2263 | J13: 1
A14: 9 | B14: Hộ ông Võ Ngọc Hoàng | C14: thôn Thạch By 1, xã Phổ Thạnh | D14: 24 | E14: 623 | F14: 964 | G14: LUC | H14: 964 | I14: =F14 -> 964 | J14: 1
A15: 10 | B15: Ông Võ Tùng và Bà Hồ Thị Kim Thương | C15: thôn Tân Diêm, xã Phổ Thạnh | D15: 24 | E15: 625 | F15: 1644 | G15: LUC | H15: 1644 | I15: =F15 -> 1644 | J15: 1
B16: Ông Võ Tùng và Bà Hồ Thị Kim Thương | C16: thôn Tân Diêm, xã Phổ Thạnh | D16: 24 | E16: 651 | F16: 1313 | G16: LUC | H16: 1313 | I16: =F16 -> 1313 | J16: 1
A17: 11 | B17: Hộ ông Nguyễn Văn Liêm và bà Võ Thị Gai | C17: thôn La Vân, xã Phổ Thạnh | D17: 24 | E17: 626 | F17: 667 | G17: LUC | H17: 523 | I17: =F17 -> 667 | J17: 1
A18: 12 | B18: Hộ bà Nguyễn Thị Kim Long | C18: thôn Tân Diêm, xã Phổ Thạnh | D18: 24 | E18: 627 | F18: 1333 | G18: LUC | H18: 765 | I18: =F18 -> 1333 | J18: 1
A19: 13 | B19: Bà Nguyễn Thị Nga | C19: thôn Tân Diêm, xã Phổ Thạnh | D19: 24 | E19: 628 | F19: 1388 | G19: LUC | H19: 747 | I19: =F19 -> 1388 | J19: 1
A20: 14 | B20: Ông Lê Đức Phước | C20: thôn Thạch By 1, xã Phổ Thạnh | D20: 24 | E20: 649 | F20: 1084 | G20: LUC | H20: 387 | I20: =F20 -> 1084 | J20: 1
A21: 15 | B21: Hộ ông Nguyễn Hộp | C21: thôn Thạch By 1, xã Phổ Thạnh | D21: 24 | E21: 650 | F21: 1230 | G21: LUC | H21: 587 | I21: =F21 -> 1230 | J21: 1
